BEGIN:VCALENDAR
VERSION:2.0
PRODID:-//Taylor Community Library - ECPv6.15.20//NONSGML v1.0//EN
CALSCALE:GREGORIAN
METHOD:PUBLISH
X-ORIGINAL-URL:https://taylor.lib.mi.us
X-WR-CALDESC:Events for Taylor Community Library
REFRESH-INTERVAL;VALUE=DURATION:PT1H
X-Robots-Tag:noindex
X-PUBLISHED-TTL:PT1H
BEGIN:VTIMEZONE
TZID:America/Detroit
BEGIN:DAYLIGHT
TZOFFSETFROM:-0500
TZOFFSETTO:-0400
TZNAME:EDT
DTSTART:20240310T070000
END:DAYLIGHT
BEGIN:STANDARD
TZOFFSETFROM:-0400
TZOFFSETTO:-0500
TZNAME:EST
DTSTART:20241103T060000
END:STANDARD
BEGIN:DAYLIGHT
TZOFFSETFROM:-0500
TZOFFSETTO:-0400
TZNAME:EDT
DTSTART:20250309T070000
END:DAYLIGHT
BEGIN:STANDARD
TZOFFSETFROM:-0400
TZOFFSETTO:-0500
TZNAME:EST
DTSTART:20251102T060000
END:STANDARD
BEGIN:DAYLIGHT
TZOFFSETFROM:-0500
TZOFFSETTO:-0400
TZNAME:EDT
DTSTART:20260308T070000
END:DAYLIGHT
BEGIN:STANDARD
TZOFFSETFROM:-0400
TZOFFSETTO:-0500
TZNAME:EST
DTSTART:20261101T060000
END:STANDARD
END:VTIMEZONE
BEGIN:VEVENT
DTSTART;TZID=America/Detroit:20251208T110000
DTEND;TZID=America/Detroit:20251208T130000
DTSTAMP:20260421T015024
CREATED:20250613T212033Z
LAST-MODIFIED:20250903T192922Z
UID:18358-1765191600-1765198800@taylor.lib.mi.us
SUMMARY:Hooks & Needles
DESCRIPTION:Hooks & Needles\n\nCome and join other yarn enthusiasts in our community who love to knit and crochet.  This is a weekly event to share ideas\, projects\, and do a little yarning.  Bring your own projects to work on.\n\nThis event is intended for: Adults\, but anyone who knits’ or crochets’ is welcome!
URL:https://taylor.lib.mi.us/event/2025-09-29-2-2025-12-08/
LOCATION:Community Rooms (Papp & Trolley)\, 12303 Pardee Road\, Taylor\, MI\, 48180\, United States
CATEGORIES:Adults
ORGANIZER;CN="Stephanie Herm":MAILTO:sherm@cityoftaylormi.gov
END:VEVENT
BEGIN:VEVENT
DTSTART;TZID=America/Detroit:20251208T160000
DTEND;TZID=America/Detroit:20251208T170000
DTSTAMP:20260421T015024
CREATED:20251110T195623Z
LAST-MODIFIED:20251110T195623Z
UID:18146-1765209600-1765213200@taylor.lib.mi.us
SUMMARY:Creative Writing Challenge
DESCRIPTION:Creative Writing Challenge\nCalling all creative writers! We will meet at one of the front Community Rooms the second Monday of every month\, from 4:00-5:00p.m.  Everyone will be given a prompt\, and your job will be to take this prompt to find words on signs\, pictures\, artwork\, book spines\, overheard phrases/quotes\, etc. on library grounds and write them down.  When everyone has something\, they will come back to the room and we will put together what we have found.
URL:https://taylor.lib.mi.us/event/creative-writing-challenge-15/
LOCATION:Community Rooms (Papp & Trolley)\, 12303 Pardee Road\, Taylor\, MI\, 48180\, United States
CATEGORIES:Adults,Teens
END:VEVENT
BEGIN:VEVENT
DTSTART;TZID=America/Detroit:20251208T180000
DTEND;TZID=America/Detroit:20251208T190000
DTSTAMP:20260421T015024
CREATED:20250613T165101Z
LAST-MODIFIED:20251006T183327Z
UID:18647-1765216800-1765220400@taylor.lib.mi.us
SUMMARY:LEGO Club
DESCRIPTION:LEGO Club\nDo you love Legos? Join our Lego Club! Every Monday at 6 p.m. come in and start building.  Everyone is welcome to free build.  If you are up for it\, we will provide a challenge or theme for you to make something related to that week’s challenge or theme. We will display your creation for one week and will tear them apart at the next event. This event is open to kids\, tweens\, teens\, and parents. No registration is required\, just stop in and build!
URL:https://taylor.lib.mi.us/event/2025-09-29-2025-11-03-2025-12-08/
LOCATION:Community Rooms (Papp & Trolley)\, 12303 Pardee Road\, Taylor\, MI\, 48180\, United States
CATEGORIES:Youth & Families
ORGANIZER;CN="Carolyn Somerville-Jones":MAILTO:csomerville@cityoftaylormi.gov
END:VEVENT
BEGIN:VEVENT
DTSTART;TZID=America/Detroit:20251209T103000
DTEND;TZID=America/Detroit:20251209T111500
DTSTAMP:20260421T015024
CREATED:20251119T215143Z
LAST-MODIFIED:20251119T215143Z
UID:19374-1765276200-1765278900@taylor.lib.mi.us
SUMMARY:Toddler Storytime Special Guest: Ms. Anjelica
DESCRIPTION:Toddler Storytime Special Guest: Ms. Anjelica\nJoin our regular storytime mom\, Ms. Anjelica for stories\, songs\, fingerplays\, and fun! Toddler Storytime is for ages 2-4\, but older and younger siblings are welcome. Bring your toddler for a chance to learn and practice some early reading skills. We will reserve some time at the end for creative play or a craft.
URL:https://taylor.lib.mi.us/event/toddler-storytime-special-guest-ms-anjelica-2/
LOCATION:Community Rooms (Papp & Trolley)\, 12303 Pardee Road\, Taylor\, MI\, 48180\, United States
CATEGORIES:Youth & Families
ORGANIZER;CN="Julie Porecca":MAILTO:jporecca@cityoftaylormi.gov
END:VEVENT
BEGIN:VEVENT
DTSTART;TZID=America/Detroit:20251209T173000
DTEND;TZID=America/Detroit:20251209T193000
DTSTAMP:20260421T015024
CREATED:20251110T195627Z
LAST-MODIFIED:20251110T195627Z
UID:19132-1765301400-1765308600@taylor.lib.mi.us
SUMMARY:Sew Crafty
DESCRIPTION:Sew Crafty\nSew Crafty is a weekly lab for textile crafters to come together and work on their projects.  If you love to quilt\, sew\, knit\, crochet\, embroider\, needlepoint\, or any other textile crafting\, this is the place for you! This is a weekly lab that is open on Tuesdays from 5:30 – 7:30 p.m. This is a collaborative\, inter-generational crafting group intended for kids\, teens\, and adults. Children under 12 must be accompanied by an adult.
URL:https://taylor.lib.mi.us/event/sew-crafty-9/
LOCATION:Community Rooms (Papp & Trolley)\, 12303 Pardee Road\, Taylor\, MI\, 48180\, United States
CATEGORIES:Adults,Teens,Youth & Families
ORGANIZER;CN="Hailey Boyer":MAILTO:hboyer@cityoftaylormi.gov
END:VEVENT
BEGIN:VEVENT
DTSTART;TZID=America/Detroit:20251210T120000
DTEND;TZID=America/Detroit:20251210T133000
DTSTAMP:20260421T015024
CREATED:20250903T202618Z
LAST-MODIFIED:20251106T170450Z
UID:18392-1765368000-1765373400@taylor.lib.mi.us
SUMMARY:Brown Bag Talking Book Discussion
DESCRIPTION:Brown Bag Talking Book Discussion\nThe group discusses two audiobooks each month. Listen to all\, one\, or even none… everyone is welcome! \nMeet in person or join in remotely. \nTo join remotely by phone\, please Call: 267-807-9601 and use Access Code: 965803\, or join virtually by visiting bit.ly/TCLbtbcall \n  \nTitles are voted on 3 months in advance. This month’s titles: \n  \nDaughter of the morning star by Craig Johnson\nDB 105334\n8 hours\, 28 minutes. Mystery and Detective Stories\, Western Stories.\nWhen Tribal Police Chief Lolo Long’s niece Jaya receives death threats\, she calls on Absaroka County Sheriff Walt Longmire for help. Jaya “Longshot” Long is the phenomenon of the high school basketball team\, following in her missing older sister’s footsteps. Walt and Lolo don’t want another missing girl. Unrated. Commercial audiobook. 2021. \n  \nTaste: my life through food by Stanley Tucci\nDB 105460\n6 hours\, 52 minutes. Stage and Screen\, Biography of Entertainers\, Biography\, Cooking\, Bestsellers.\nActor known for his supporting roles\, including Paul Child in Julie & Julia\, reflects on his relationship with food throughout his life. Discusses growing up in an Italian American family\, food served on film sets\, and dealing with a form of oral cancer. Strong language. Commercial audiobook. Bestseller. 2021. \n  \n  \nNew attendees: Please call the library or click on the covers above to place copies on hold. Or current BTB members can use the Talking Book Order Form to have copies sent on cartridge.
URL:https://taylor.lib.mi.us/event/brown-bag-talking-book-discussion-3/
LOCATION:Trolley (North) Unity Room\, 12303 Pardee Road\, Taylor\, MI\, 48180\, United States
CATEGORIES:Adults
END:VEVENT
BEGIN:VEVENT
DTSTART;TZID=America/Detroit:20251210T150000
DTEND;TZID=America/Detroit:20251210T160000
DTSTAMP:20260421T015024
CREATED:20251106T215305Z
LAST-MODIFIED:20251106T215305Z
UID:19258-1765378800-1765382400@taylor.lib.mi.us
SUMMARY:Medicare 101
DESCRIPTION:Medicare 101\nJoin us for an information night with Independent Insurance Agent Tiffany J. Stone where she will explain what Medicare is\, the penalties\, when the enrollment period is\, and how to avoid Medicare scams. Light refreshments will be provided.
URL:https://taylor.lib.mi.us/event/medicare-101-4/
LOCATION:Community Rooms (Papp & Trolley)\, 12303 Pardee Road\, Taylor\, MI\, 48180\, United States
CATEGORIES:Adults
ORGANIZER;CN="Becky Price":MAILTO:bprice@cityoftaylormi.gov
END:VEVENT
BEGIN:VEVENT
DTSTART;TZID=America/Detroit:20251210T180000
DTEND;TZID=America/Detroit:20251210T190000
DTSTAMP:20260421T015024
CREATED:20251105T203318Z
LAST-MODIFIED:20251210T225146Z
UID:19214-1765389600-1765393200@taylor.lib.mi.us
SUMMARY:Holiday Houses
DESCRIPTION:Holiday Houses*\nLet’s build a holiday house! Bring your creativity to build a house from cookies\, frosting\, and candy. We will provide the materials; you just bring your holiday cheer. This event requires registration and has 40 open spots. Stop in the library or call starting November 24 through Dec. 8th to put your name on the list! \n*Registration Required \n  \n  \nThis program is intended for kids and families.
URL:https://taylor.lib.mi.us/event/holiday-houses-3/
LOCATION:Community Rooms (Papp & Trolley)\, 12303 Pardee Road\, Taylor\, MI\, 48180\, United States
CATEGORIES:Youth & Families
ORGANIZER;CN="Carolyn Somerville-Jones":MAILTO:csomerville@cityoftaylormi.gov
END:VEVENT
BEGIN:VEVENT
DTSTART;TZID=America/Detroit:20251211T173000
DTEND;TZID=America/Detroit:20251211T193000
DTSTAMP:20260421T015024
CREATED:20251018T184726Z
LAST-MODIFIED:20251103T201612Z
UID:19012-1765474200-1765481400@taylor.lib.mi.us
SUMMARY:How To: Crochet*
DESCRIPTION:How To: Crochet*\nLearn the basics of crochet with our adult librarian\, Becky Price! We will provide all the materials\, but feel free to bring your own if you would prefer. This event is open to ages 10 and up. During this 3-week hands-on course we will be learning the following skills: \n\nHow to read a yarn label\nChain stitch (ch)\nsingle crochet (sc)\nFront Loop and Back Loop Only (FLO & BLO)\nIncrease (inc)\nDecrease (dec or 2tog)\nColor Changing\nDouble Crochet (dc)\nHalf Double Crochet (hdc)\nTreble Crochet (tr)\n\nMaterials we will be using (All provided): \n\n4ply Acrylic Yarn (Two colors)\n5.5mm or Size I-9 Crochet Hook\n\nThis event is intended for: Tweens\, Teens\, and Adults \n*Registration Required. You must attend the first class on Thursday\, December 4 in order to attend this one.*\n 
URL:https://taylor.lib.mi.us/event/how-to-crochet-3/
LOCATION:Community Rooms (Papp & Trolley)\, 12303 Pardee Road\, Taylor\, MI\, 48180\, United States
CATEGORIES:Adults,Teens,Youth & Families
ORGANIZER;CN="Becky Price":MAILTO:bprice@cityoftaylormi.gov
END:VEVENT
BEGIN:VEVENT
DTSTART;TZID=America/Detroit:20251212T163000
DTEND;TZID=America/Detroit:20251212T173000
DTSTAMP:20260421T015024
CREATED:20251105T204420Z
LAST-MODIFIED:20251105T204420Z
UID:19217-1765557000-1765560600@taylor.lib.mi.us
SUMMARY:Crafting Together
DESCRIPTION:Crafting Together (Kids & Parents)\nMonthly Crafting Together aimed to give parents and children the opportunity to use their creativity to create beautiful masterpieces and memories.
URL:https://taylor.lib.mi.us/event/crafting-together-9/
LOCATION:Community Rooms (Papp & Trolley)\, 12303 Pardee Road\, Taylor\, MI\, 48180\, United States
ORGANIZER;CN="Carolyn Somerville-Jones":MAILTO:csomerville@cityoftaylormi.gov
END:VEVENT
BEGIN:VEVENT
DTSTART;TZID=America/Detroit:20251213T150000
DTEND;TZID=America/Detroit:20251213T170000
DTSTAMP:20260421T015024
CREATED:20250613T203620Z
LAST-MODIFIED:20251025T172954Z
UID:17579-1765638000-1765645200@taylor.lib.mi.us
SUMMARY:Home Alone Viewing Party
DESCRIPTION:Home Alone Viewing Party\nTreat yourself to a free movie\, where you don’t have to bother with sneaking in snacks. Come join us for a movie\, bring your own snacks\, and enjoy some time away from home. We will be watching Home Alone (PG). \n*Open to all ages; however\, anyone under 12 will have to have a parent or guardian present.
URL:https://taylor.lib.mi.us/event/gremlins-viewing-party/
LOCATION:Community Rooms (Papp & Trolley)\, 12303 Pardee Road\, Taylor\, MI\, 48180\, United States
CATEGORIES:Adults,Teens,Youth & Families
ORGANIZER;CN="Ace Norman":MAILTO:anorman@cityoftaylormi.gov
END:VEVENT
END:VCALENDAR