BEGIN:VCALENDAR
VERSION:2.0
PRODID:-//Taylor Community Library - ECPv6.15.20//NONSGML v1.0//EN
CALSCALE:GREGORIAN
METHOD:PUBLISH
X-WR-CALNAME:Taylor Community Library
X-ORIGINAL-URL:https://taylor.lib.mi.us
X-WR-CALDESC:Events for Taylor Community Library
REFRESH-INTERVAL;VALUE=DURATION:PT1H
X-Robots-Tag:noindex
X-PUBLISHED-TTL:PT1H
BEGIN:VTIMEZONE
TZID:America/Detroit
BEGIN:DAYLIGHT
TZOFFSETFROM:-0500
TZOFFSETTO:-0400
TZNAME:EDT
DTSTART:20250309T070000
END:DAYLIGHT
BEGIN:STANDARD
TZOFFSETFROM:-0400
TZOFFSETTO:-0500
TZNAME:EST
DTSTART:20251102T060000
END:STANDARD
BEGIN:DAYLIGHT
TZOFFSETFROM:-0500
TZOFFSETTO:-0400
TZNAME:EDT
DTSTART:20260308T070000
END:DAYLIGHT
BEGIN:STANDARD
TZOFFSETFROM:-0400
TZOFFSETTO:-0500
TZNAME:EST
DTSTART:20261101T060000
END:STANDARD
BEGIN:DAYLIGHT
TZOFFSETFROM:-0500
TZOFFSETTO:-0400
TZNAME:EDT
DTSTART:20270314T070000
END:DAYLIGHT
BEGIN:STANDARD
TZOFFSETFROM:-0400
TZOFFSETTO:-0500
TZNAME:EST
DTSTART:20271107T060000
END:STANDARD
END:VTIMEZONE
BEGIN:VEVENT
DTSTART;TZID=America/Detroit:20260223T110000
DTEND;TZID=America/Detroit:20260223T130000
DTSTAMP:20260423T053357
CREATED:20250613T212033Z
LAST-MODIFIED:20251209T212430Z
UID:19617-1771844400-1771851600@taylor.lib.mi.us
SUMMARY:Hooks & Needles
DESCRIPTION:Hooks & Needles\n\nCome and join other yarn enthusiasts in our community who love to knit and crochet.  This is a weekly event to share ideas\, projects\, and do a little yarning.  Bring your own projects to work on.\n\nThis event is intended for: Adults\, but anyone who knits’ or crochets’ is welcome!
URL:https://taylor.lib.mi.us/event/2025-09-29-2-2025-12-29-2026-02-23/
LOCATION:Community Rooms (Papp & Trolley)\, 12303 Pardee Road\, Taylor\, MI\, 48180\, United States
CATEGORIES:Adults
ORGANIZER;CN="Stephanie Herm":MAILTO:sherm@cityoftaylormi.gov
END:VEVENT
BEGIN:VEVENT
DTSTART;TZID=America/Detroit:20260223T180000
DTEND;TZID=America/Detroit:20260223T190000
DTSTAMP:20260423T053357
CREATED:20250613T165101Z
LAST-MODIFIED:20251121T174047Z
UID:18658-1771869600-1771873200@taylor.lib.mi.us
SUMMARY:LEGO Club
DESCRIPTION:LEGO Club\nDo you love Legos? Join our Lego Club! Every Monday at 6 p.m. come in and start building.  Everyone is welcome to free build.  If you are up for it\, we will provide a challenge or theme for you to make something related to that week’s challenge or theme. We will display your creation for one week and will tear them apart at the next event. This event is open to kids\, tweens\, teens\, and parents. No registration is required\, just stop in and build!
URL:https://taylor.lib.mi.us/event/2025-09-29-2025-11-03-2026-01-05-2026-02-23/
LOCATION:Youth Section\, 12303 Pardee Road\, Taylor\, MI\, 48180\, United States
CATEGORIES:Youth & Families
ORGANIZER;CN="Carolyn Somerville-Jones":MAILTO:csomerville@cityoftaylormi.gov
END:VEVENT
BEGIN:VEVENT
DTSTART;TZID=America/Detroit:20260223T180000
DTEND;TZID=America/Detroit:20260223T193000
DTSTAMP:20260423T053357
CREATED:20251129T204525Z
LAST-MODIFIED:20251129T204525Z
UID:19482-1771869600-1771875000@taylor.lib.mi.us
SUMMARY:Books & Bites Book Club*
DESCRIPTION:Books & Bites Book Club*\nBooks & Bites is a monthly book club that reads and discusses Adult books with teen crossover and sometimes Teen books with adult crossover. Copies of the next book are passed out and checked out at each meeting. You can also get a copy from our front desk and most of the time they are also available on Hoopla or Libby. \nThis event is intended for: Adults \nThis month’s title: “Before I Let Go” by Kennedy Ryan \n \nTheir love was supposed to last forever. But when life delivered blow after devastating blow\, Yasmen and Josiah Wade found that love alone couldn’t solve or save everything. It couldn’t save their marriage. Yasmen wasn’t prepared for how her life fell apart\, but she is finally starting to find joy again. She and Josiah have found a new rhythm\, co-parenting their two kids and running a thriving business together. Yet like magnets\, they’re always drawn back to each other\, and now they’re beginning to wonder if they’re truly ready to let go of everything they once had. Soon\, one stolen kiss leads to another…and then more. It’s hot. It’s illicit. It’s all good—until old wounds reopen. Is it too late for them to find forever? Or could they even be better\, the second time around? \n*This book club is currently waitlisted.\nTo join our in-person meetings\, please fill out our waitlist form below. In the meantime\, feel free to join our Facebook group for announcements and general bookish chat. You can also participate virtually using the Fable app. \nPlease enable JavaScript in your browser to complete this form.Name *FirstLastLegal or PreferredAre Under 18 or 18+? *Under 1818+What are Your Pronouns? *She/HerHe/HimThey/ThemOtherWhat is Your Library Card Number? *Who is Your Home Library? *What is Your Preferred Format? *Standard PrintLarge PrintBook on CDDigital Audiobook (Hoopla & Libby)Ebook (Hoopla & Libby)Are there any other formats you would be ok with?Standard PrintLarge PrintBook on CDAudiobook Digital (Hoopla & Libby)Ebook (Hoopla & Libby)What is the best way to contact you if we have a spot open? *TextCallEmailBased on how you answered above\, please provide your phone number or email address *Submit
URL:https://taylor.lib.mi.us/event/2026-02-23/
LOCATION:Community Rooms (Papp & Trolley)\, 12303 Pardee Road\, Taylor\, MI\, 48180\, United States
CATEGORIES:Adults
ORGANIZER;CN="Becky Price":MAILTO:bprice@cityoftaylormi.gov
END:VEVENT
BEGIN:VEVENT
DTSTART;TZID=America/Detroit:20260224T173000
DTEND;TZID=America/Detroit:20260224T193000
DTSTAMP:20260423T053357
CREATED:20251121T174049Z
LAST-MODIFIED:20251121T174049Z
UID:19154-1771954200-1771961400@taylor.lib.mi.us
SUMMARY:Sew Crafty
DESCRIPTION:Sew Crafty\n\nSew Crafty is a weekly lab for textile crafters to come together and work on their projects.  If you love to quilt\, sew\, knit\, crochet\, embroider\, needlepoint\, or any other textile crafting\, this is the place for you! This is a weekly lab that is open on Tuesdays from 5:30 – 7:30 p.m. This is a collaborative\, inter-generational crafting group intended for kids\, teens\, and adults. Children under 12 must be accompanied by an adult.
URL:https://taylor.lib.mi.us/event/sew-crafty-19/
LOCATION:Community Rooms (Papp & Trolley)\, 12303 Pardee Road\, Taylor\, MI\, 48180\, United States
CATEGORIES:Adults,Teens,Youth & Families
ORGANIZER;CN="Hailey Boyer":MAILTO:hboyer@cityoftaylormi.gov
END:VEVENT
BEGIN:VEVENT
DTSTART;TZID=America/Detroit:20260225T120000
DTEND;TZID=America/Detroit:20260225T130000
DTSTAMP:20260423T053357
CREATED:20250903T193147Z
LAST-MODIFIED:20260120T221103Z
UID:19250-1772020800-1772024400@taylor.lib.mi.us
SUMMARY:VIP Support Group
DESCRIPTION:VIP Support Group (Visually Impaired Persons)\nThe VIP meeting is a monthly support group for people experiencing vision loss and their caregivers. Each month\, we meet to discuss important topics and connect over shared concerns\, with occasional speakers. \nMeet in person or join in remotely. \nTo join remotely by phone\, please call 267-807-9601 and use Access Code: 965803\, or join virtually by visiting bit.ly/TCLbtbcall
URL:https://taylor.lib.mi.us/event/vip-support-group-2025-11-26-2026-01-28/
LOCATION:Trolley (North) Unity Room\, 12303 Pardee Road\, Taylor\, MI\, 48180\, United States
CATEGORIES:Adults
END:VEVENT
BEGIN:VEVENT
DTSTART;TZID=America/Detroit:20260225T150000
DTEND;TZID=America/Detroit:20260225T160000
DTSTAMP:20260423T053357
CREATED:20251121T174055Z
LAST-MODIFIED:20260129T222648Z
UID:19318-1772031600-1772035200@taylor.lib.mi.us
SUMMARY:Rec Connect for Seniors
DESCRIPTION:Rec Connect for Seniors\nJoin us for a fun Rec Connect session featuring fun exercises and a healthy snack to boost strength\, balance\, and connection! We will be utilizing beach balls\, resistant bands\, hula hoops\, and some chair yoga. We will be focusing on chair exercises for all abilities. \nThis event is intended for: Seniors (55+) \nWant a reminder call for this program? Fill out our form: \nPlease enable JavaScript in your browser to complete this form.Name *FirstLastPhone Number *City you live in *You do not need to be a Taylor resident to attendHow often would you like a reminder call? *Remind me about the first class I attendRemind me about all the classes in this seriesSubmit
URL:https://taylor.lib.mi.us/event/2026-02-25/
LOCATION:Community Rooms (Papp & Trolley)\, 12303 Pardee Road\, Taylor\, MI\, 48180\, United States
CATEGORIES:Adults
ORGANIZER;CN="Becky Price":MAILTO:bprice@cityoftaylormi.gov
END:VEVENT
BEGIN:VEVENT
DTSTART;TZID=America/Detroit:20260225T160000
DTEND;TZID=America/Detroit:20260225T180000
DTSTAMP:20260423T053357
CREATED:20221208T231101Z
LAST-MODIFIED:20251209T211708Z
UID:19591-1772035200-1772042400@taylor.lib.mi.us
SUMMARY:Teen Volunteer Group*
DESCRIPTION:Teen Volunteer Group*\nAre you a teen who’s looking for volunteer hours? Join our Teen Volunteer Group! \nTeen volunteers help plan\, implement\, and promote ways to improve services offered at TCL. Joining our group builds your resume\, earns you volunteer hours\, and gives you a chance to be heard. Tasks will include helping the library with collection maintenance\, programming prep\, maintaining the TCL Tiny Taylor Library\, and more! Teens must be ages 14-18. \nWe meet every other Wednesday at 4 p.m. in person at the library. \n*Want to earn volunteer hours for this? Visit our Volunteer page to see if space is available and to sign up! 
URL:https://taylor.lib.mi.us/event/teen-volunteer-group-2023-09-13-2023-09-27-2023-10-11-2024-07-03-2025-03-12-2025-04-09-2025-07-02-2025-09-24-2025-12-17-2026-02-25/
LOCATION:Community Rooms (Papp & Trolley)\, 12303 Pardee Road\, Taylor\, MI\, 48180\, United States
CATEGORIES:Teens
ORGANIZER;CN="Sarah Roe":MAILTO:sroe@cityoftaylormi.gov
END:VEVENT
BEGIN:VEVENT
DTSTART;TZID=America/Detroit:20260225T173000
DTEND;TZID=America/Detroit:20260225T193000
DTSTAMP:20260423T053357
CREATED:20250510T150020Z
LAST-MODIFIED:20251121T174058Z
UID:18497-1772040600-1772047800@taylor.lib.mi.us
SUMMARY:Silent Book Club
DESCRIPTION:Silent Book Club\nEver wanted to join a book club\, but felt like it was too much pressure? Join this super low-key book club where you show up with a book of your choice and read! At each meeting the first and last 15 minutes will be designated for sharing what you’re reading/socializing with other members and then the hour and half in-between will be designated for reading. We will have an ambience room playing at low volume in the background and different options for seating. Feel free to bring a snack\, beverage\, or blanket to make this event extra cozy. This book club meets every Wednesday. \nThis event is intended for: Adults
URL:https://taylor.lib.mi.us/event/2024-12-04-2025-07-02-2025-09-10-2025-10-01-2026-02-25/
LOCATION:Community Rooms (Papp & Trolley)\, 12303 Pardee Road\, Taylor\, MI\, 48180\, United States
CATEGORIES:Adults
ORGANIZER;CN="Becky Price":MAILTO:bprice@cityoftaylormi.gov
END:VEVENT
BEGIN:VEVENT
DTSTART;TZID=America/Detroit:20260227T133000
DTEND;TZID=America/Detroit:20260227T140000
DTSTAMP:20260423T053357
CREATED:20260120T195023Z
LAST-MODIFIED:20260120T195023Z
UID:19887-1772199000-1772200800@taylor.lib.mi.us
SUMMARY:Super Storytime
DESCRIPTION:Super Storytime\nJoin us monthly for a themed Storytime and craft! \nThis event in intended for: Kids and Families
URL:https://taylor.lib.mi.us/event/super-storytime/
LOCATION:Community Rooms (Papp & Trolley)\, 12303 Pardee Road\, Taylor\, MI\, 48180\, United States
END:VEVENT
BEGIN:VEVENT
DTSTART;TZID=America/Detroit:20260228T150000
DTEND;TZID=America/Detroit:20260228T170000
DTSTAMP:20260423T053357
CREATED:20251121T174102Z
LAST-MODIFIED:20260120T194729Z
UID:19305-1772290800-1772298000@taylor.lib.mi.us
SUMMARY:Anti-Romance Movie Day
DESCRIPTION:Anti- Romance Movie Day\n\n\nTreat yourself to a free movie\, where you don’t have to bother with sneaking in snacks. Come join us for a movie\, bring your own snacks\, and enjoy some time away from home. We will be watching John Tucker Must Die (PG-13). \nThis event is intended for ages 13 & up. (12 & under must have a parent or guardian present).
URL:https://taylor.lib.mi.us/event/anti-romance-movie-day/
LOCATION:Community Rooms (Papp & Trolley)\, 12303 Pardee Road\, Taylor\, MI\, 48180\, United States
ORGANIZER;CN="Hailey Boyer":MAILTO:hboyer@cityoftaylormi.gov
END:VEVENT
END:VCALENDAR