BEGIN:VCALENDAR
VERSION:2.0
PRODID:-//Taylor Community Library - ECPv6.15.20//NONSGML v1.0//EN
CALSCALE:GREGORIAN
METHOD:PUBLISH
X-WR-CALNAME:Taylor Community Library
X-ORIGINAL-URL:https://taylor.lib.mi.us
X-WR-CALDESC:Events for Taylor Community Library
REFRESH-INTERVAL;VALUE=DURATION:PT1H
X-Robots-Tag:noindex
X-PUBLISHED-TTL:PT1H
BEGIN:VTIMEZONE
TZID:America/Detroit
BEGIN:DAYLIGHT
TZOFFSETFROM:-0500
TZOFFSETTO:-0400
TZNAME:EDT
DTSTART:20250309T070000
END:DAYLIGHT
BEGIN:STANDARD
TZOFFSETFROM:-0400
TZOFFSETTO:-0500
TZNAME:EST
DTSTART:20251102T060000
END:STANDARD
BEGIN:DAYLIGHT
TZOFFSETFROM:-0500
TZOFFSETTO:-0400
TZNAME:EDT
DTSTART:20260308T070000
END:DAYLIGHT
BEGIN:STANDARD
TZOFFSETFROM:-0400
TZOFFSETTO:-0500
TZNAME:EST
DTSTART:20261101T060000
END:STANDARD
BEGIN:DAYLIGHT
TZOFFSETFROM:-0500
TZOFFSETTO:-0400
TZNAME:EDT
DTSTART:20270314T070000
END:DAYLIGHT
BEGIN:STANDARD
TZOFFSETFROM:-0400
TZOFFSETTO:-0500
TZNAME:EST
DTSTART:20271107T060000
END:STANDARD
END:VTIMEZONE
BEGIN:VEVENT
DTSTART;TZID=America/Detroit:20260706T180000
DTEND;TZID=America/Detroit:20260706T190000
DTSTAMP:20260421T125033
CREATED:20250613T165101Z
LAST-MODIFIED:20260420T215427Z
UID:20773-1783360800-1783364400@taylor.lib.mi.us
SUMMARY:LEGO Club
DESCRIPTION:LEGO Club\nDo you love Legos? Join our Lego Club! Every Monday at 6 p.m. come in and start building.  Everyone is welcome to free build.  If you are up for it\, we will provide a challenge or theme for you to make something related to that week’s challenge or theme. We will display your creation for one week and will tear them apart at the next event. This event is open to kids\, tweens\, teens\, and parents. No registration is required\, just stop in and build!
URL:https://taylor.lib.mi.us/event/2025-09-29-2025-11-03-2026-01-05-2026-04-06-2026-04-20__trashed-2026-07-06/
LOCATION:Youth Section\, 12303 Pardee Road\, Taylor\, MI\, 48180\, United States
CATEGORIES:Youth & Families
ORGANIZER;CN="Carolyn Somerville-Jones":MAILTO:csomerville@cityoftaylormi.gov
END:VEVENT
BEGIN:VEVENT
DTSTART;TZID=America/Detroit:20260707T140000
DTEND;TZID=America/Detroit:20260707T150000
DTSTAMP:20260421T125033
CREATED:20260420T215441Z
LAST-MODIFIED:20260420T215441Z
UID:20719-1783432800-1783436400@taylor.lib.mi.us
SUMMARY:Adopt A Dino Event*
DESCRIPTION:Adopt A Dino Event*\nJoin us for this fun program where kids will get to pick out a dino to adopt they might want to bring it to our Dino Daycare Event as well! They will get to pick a dino to adopt\, name them\, fill out their adoption certificate\, and take them home. \n*Dinos are while supplies lasts and this program is registration only! \nThis Event is for Kids
URL:https://taylor.lib.mi.us/event/adopt-a-dino-event/
LOCATION:Community Rooms (Papp & Trolley)\, 12303 Pardee Road\, Taylor\, MI\, 48180\, United States
CATEGORIES:Youth & Families
ORGANIZER;CN="Carolyn Somerville-Jones":MAILTO:csomerville@cityoftaylormi.gov
END:VEVENT
BEGIN:VEVENT
DTSTART;TZID=America/Detroit:20260707T173000
DTEND;TZID=America/Detroit:20260707T193000
DTSTAMP:20260421T125033
CREATED:20260420T215447Z
LAST-MODIFIED:20260420T215447Z
UID:19756-1783445400-1783452600@taylor.lib.mi.us
SUMMARY:Sew Crafty
DESCRIPTION:Sew Crafty\nSew Crafty is a weekly lab for textile crafters to come together and work on their projects.  If you love to quilt\, sew\, knit\, crochet\, embroider\, needlepoint\, or any other textile crafting\, this is the place for you! This is a weekly lab that is open on Tuesdays from 5:30 – 7:30 p.m. This is a collaborative\, inter-generational crafting group intended for kids\, teens\, and adults. Children under 12 must be accompanied by an adult.
URL:https://taylor.lib.mi.us/event/2026-07-07/
LOCATION:Community Rooms (Papp & Trolley)\, 12303 Pardee Road\, Taylor\, MI\, 48180\, United States
CATEGORIES:Adults
ORGANIZER;CN="Hailey Boyer":MAILTO:hboyer@cityoftaylormi.gov
END:VEVENT
BEGIN:VEVENT
DTSTART;TZID=America/Detroit:20260708T150000
DTEND;TZID=America/Detroit:20260708T170000
DTSTAMP:20260421T125033
CREATED:20260420T215455Z
LAST-MODIFIED:20260420T215455Z
UID:20562-1783522800-1783530000@taylor.lib.mi.us
SUMMARY:TMNT Craft Day
DESCRIPTION:TMNT Craft Day\nJoin us for a fun event where you will get to decorate\, color\, eat pizza\, and watch Teenage Mutant Ninja Turtles: Mutant Mayhem (PG). \n*All ages are welcome!  Pizza will be available\, while supplies lasts.
URL:https://taylor.lib.mi.us/event/tmnt-craft-day/
LOCATION:Community Rooms (Papp & Trolley)\, 12303 Pardee Road\, Taylor\, MI\, 48180\, United States
CATEGORIES:Teens,Youth & Families
ORGANIZER;CN="Ace Norman":MAILTO:anorman@cityoftaylormi.gov
END:VEVENT
BEGIN:VEVENT
DTSTART;TZID=America/Detroit:20260708T173000
DTEND;TZID=America/Detroit:20260708T193000
DTSTAMP:20260421T125033
CREATED:20250510T150020Z
LAST-MODIFIED:20260420T215458Z
UID:18516-1783531800-1783539000@taylor.lib.mi.us
SUMMARY:Silent Book Club
DESCRIPTION:Silent Book Club\nEver wanted to join a book club\, but felt like it was too much pressure? Join this super low-key book club where you show up with a book of your choice and read! At each meeting the first and last 15 minutes will be designated for sharing what you’re reading/socializing with other members and then the hour and half in-between will be designated for reading. We will have an ambience room playing at low volume in the background and different options for seating. Feel free to bring a snack\, beverage\, or blanket to make this event extra cozy. This book club meets every Wednesday. \nThis event is intended for: Adults
URL:https://taylor.lib.mi.us/event/2024-12-04-2025-07-02-2025-09-10-2025-10-01-2026-07-08/
LOCATION:Community Rooms (Papp & Trolley)\, 12303 Pardee Road\, Taylor\, MI\, 48180\, United States
CATEGORIES:Adults
ORGANIZER;CN="Becky Price":MAILTO:bprice@cityoftaylormi.gov
END:VEVENT
BEGIN:VEVENT
DTSTART;TZID=America/Detroit:20260709T180000
DTEND;TZID=America/Detroit:20260709T190000
DTSTAMP:20260421T125033
CREATED:20260327T155431Z
LAST-MODIFIED:20260420T215512Z
UID:20611-1783620000-1783623600@taylor.lib.mi.us
SUMMARY:Dino Tales with Sloan Museum!*
DESCRIPTION:Dino Tales with Sloan Museum!*\nJoin us for Dino Tales with the Sloan Museum! Intended for ages 5-7. \nDinosaurs lived a long\, long time ago. Let’s learn about these fascinating prehistoric creatures as we observe and touch real fossils\, build our own fossil model\, and make a dinosaur tail to wear. You will even design and build your own dinosaur to take home! \n*Registration required\, registration opens two weeks before the event on June 24th\, 2026. Call the library to register!
URL:https://taylor.lib.mi.us/event/dino-tales-with-sloan-museum-2/
LOCATION:Trolley (North) Unity Room\, 12303 Pardee Road\, Taylor\, MI\, 48180\, United States
CATEGORIES:Youth & Families
ORGANIZER;CN="Jasmine Riehl":MAILTO:jriehl@cityoftaylormi.gov
END:VEVENT
BEGIN:VEVENT
DTSTART;TZID=America/Detroit:20260710T100000
DTEND;TZID=America/Detroit:20260710T180000
DTSTAMP:20260421T125033
CREATED:20260401T041656Z
LAST-MODIFIED:20260401T042854Z
UID:20670-1783677600-1783706400@taylor.lib.mi.us
SUMMARY:Friends of the Library Used Book Sale Set Up
DESCRIPTION:Friends of the Library Used Book Sale Set Up\nThe Friends of the Taylor Community Library will have both community rooms closed while they set up for their triannual used book sale. If you are interested in volunteering to help set up for the sale or to become a friend\, please fill out the form on the Friends of the Library Page.
URL:https://taylor.lib.mi.us/event/friends-of-the-library-used-book-sale-set-up/
LOCATION:Community Rooms (Papp & Trolley)\, 12303 Pardee Road\, Taylor\, MI\, 48180\, United States
CATEGORIES:Adults,Friends Meetings,Friends of the Library,Teens,Youth & Families
ORGANIZER;CN="Becky Price":MAILTO:bprice@cityoftaylormi.gov
END:VEVENT
BEGIN:VEVENT
DTSTART;TZID=America/Detroit:20260711T100000
DTEND;TZID=America/Detroit:20260711T150000
DTSTAMP:20260421T125033
CREATED:20260401T041856Z
LAST-MODIFIED:20260401T041856Z
UID:20671-1783764000-1783782000@taylor.lib.mi.us
SUMMARY:Friends of the Library Used Book Sale
DESCRIPTION:Friends of the Library Used Book Sale\nJoin us for a Friends of the Taylor Community Library Used Book Sale. Come find a new-to-you treasure and support the TCL Friends in the process! \nHardcovers $1 \nPaperbacks $0.50 \nA/V and Special Books: as priced \n  \nThe Friends of the Library support the Taylor Community Library by: \n\npurchasing circulation materials\nsponsoring events and programs for children and adults\nsupporting professional development and mental health initiatives for the staff\n\nWe raise funds through: \n\nRegularly Scheduled Used Book Sales\nUsed Book/DVD Wall\nMonetary Donations
URL:https://taylor.lib.mi.us/event/friends-of-the-library-used-book-sale-4/
LOCATION:Community Rooms (Papp & Trolley)\, 12303 Pardee Road\, Taylor\, MI\, 48180\, United States
CATEGORIES:Adults,Friends Meetings,Teens,Youth & Families
ORGANIZER;CN="Becky Price":MAILTO:bprice@cityoftaylormi.gov
END:VEVENT
END:VCALENDAR