BEGIN:VCALENDAR
VERSION:2.0
PRODID:-//Taylor Community Library - ECPv6.15.20//NONSGML v1.0//EN
CALSCALE:GREGORIAN
METHOD:PUBLISH
X-ORIGINAL-URL:https://taylor.lib.mi.us
X-WR-CALDESC:Events for Taylor Community Library
REFRESH-INTERVAL;VALUE=DURATION:PT1H
X-Robots-Tag:noindex
X-PUBLISHED-TTL:PT1H
BEGIN:VTIMEZONE
TZID:America/Detroit
BEGIN:DAYLIGHT
TZOFFSETFROM:-0500
TZOFFSETTO:-0400
TZNAME:EDT
DTSTART:20250309T070000
END:DAYLIGHT
BEGIN:STANDARD
TZOFFSETFROM:-0400
TZOFFSETTO:-0500
TZNAME:EST
DTSTART:20251102T060000
END:STANDARD
BEGIN:DAYLIGHT
TZOFFSETFROM:-0500
TZOFFSETTO:-0400
TZNAME:EDT
DTSTART:20260308T070000
END:DAYLIGHT
BEGIN:STANDARD
TZOFFSETFROM:-0400
TZOFFSETTO:-0500
TZNAME:EST
DTSTART:20261101T060000
END:STANDARD
BEGIN:DAYLIGHT
TZOFFSETFROM:-0500
TZOFFSETTO:-0400
TZNAME:EDT
DTSTART:20270314T070000
END:DAYLIGHT
BEGIN:STANDARD
TZOFFSETFROM:-0400
TZOFFSETTO:-0500
TZNAME:EST
DTSTART:20271107T060000
END:STANDARD
END:VTIMEZONE
BEGIN:VEVENT
DTSTART;TZID=America/Detroit:20260720T160000
DTEND;TZID=America/Detroit:20260720T170000
DTSTAMP:20260424T045044
CREATED:20260420T220005Z
LAST-MODIFIED:20260420T220005Z
UID:20585-1784563200-1784566800@taylor.lib.mi.us
SUMMARY:Rainbow Readers' Teen Book Club
DESCRIPTION:Rainbow Readers’ Teen Book Club\n\nJoin us for an all new book club for teens!!!  We will be reading graphic novels and manga. For our first discussion\, we’ll be reading The Girl from the Sea by Lee Knox Ostertag. \nThis group is intended for Teens (13-17).
URL:https://taylor.lib.mi.us/event/rainbow-readers-teen-book-club-3/
LOCATION:Community Rooms (Papp & Trolley)\, 12303 Pardee Road\, Taylor\, MI\, 48180\, United States
CATEGORIES:Teens
ORGANIZER;CN="Ace Norman":MAILTO:anorman@cityoftaylormi.gov
END:VEVENT
BEGIN:VEVENT
DTSTART;TZID=America/Detroit:20260720T180000
DTEND;TZID=America/Detroit:20260720T190000
DTSTAMP:20260424T045044
CREATED:20260420T220153Z
LAST-MODIFIED:20260420T220153Z
UID:20740-1784570400-1784574000@taylor.lib.mi.us
SUMMARY:Dino Daycare Storytime
DESCRIPTION:Dino Daycare Storytime\nBring your favorite dion friend! Join us for a fun dino themed storytime after the story is over say goodbye till tomorrow while the dinos have their own library adventure. Each dino will go home with their very own library card\, along with a scrapbook with all of their adventures. Pick up for dinos will be Tuesday July 21st after 2pm. \nThis event is intended for: Kids \n 
URL:https://taylor.lib.mi.us/event/dino-daycare-storytime/
LOCATION:Community Rooms (Papp & Trolley)\, 12303 Pardee Road\, Taylor\, MI\, 48180\, United States
CATEGORIES:Youth & Families
ORGANIZER;CN="Carolyn Somerville-Jones":MAILTO:csomerville@cityoftaylormi.gov
END:VEVENT
BEGIN:VEVENT
DTSTART;TZID=America/Detroit:20260721T140000
DTEND;TZID=America/Detroit:20260721T150000
DTSTAMP:20260424T045044
CREATED:20260420T220225Z
LAST-MODIFIED:20260420T220225Z
UID:20725-1784642400-1784646000@taylor.lib.mi.us
SUMMARY:Dino Daycare Pickup
DESCRIPTION:Dino Daycare Pickup\nCome see how your dinosaurs’ adventures were and how much fun they had staying with us here at the library. Each dino will go home with a mini scrapbook of all the adventures they went on with all of their new friends\, and a library card that each dino received. Pick up will be all day but at 2pm there will be games and activities out as well. \nThis Event is intended for: Kids
URL:https://taylor.lib.mi.us/event/dino-daycare-pickup/
LOCATION:Community Rooms (Papp & Trolley)\, 12303 Pardee Road\, Taylor\, MI\, 48180\, United States
CATEGORIES:Youth & Families
ORGANIZER;CN="Carolyn Somerville-Jones":MAILTO:csomerville@cityoftaylormi.gov
END:VEVENT
BEGIN:VEVENT
DTSTART;TZID=America/Detroit:20260721T173000
DTEND;TZID=America/Detroit:20260721T193000
DTSTAMP:20260424T045044
CREATED:20260420T220229Z
LAST-MODIFIED:20260420T220229Z
UID:19758-1784655000-1784662200@taylor.lib.mi.us
SUMMARY:Sew Crafty
DESCRIPTION:Sew Crafty\nSew Crafty is a weekly lab for textile crafters to come together and work on their projects.  If you love to quilt\, sew\, knit\, crochet\, embroider\, needlepoint\, or any other textile crafting\, this is the place for you! This is a weekly lab that is open on Tuesdays from 5:30 – 7:30 p.m. This is a collaborative\, inter-generational crafting group intended for kids\, teens\, and adults. Children under 12 must be accompanied by an adult.
URL:https://taylor.lib.mi.us/event/2026-07-21/
LOCATION:Community Rooms (Papp & Trolley)\, 12303 Pardee Road\, Taylor\, MI\, 48180\, United States
CATEGORIES:Adults
ORGANIZER;CN="Hailey Boyer":MAILTO:hboyer@cityoftaylormi.gov
END:VEVENT
BEGIN:VEVENT
DTSTART;TZID=America/Detroit:20260722T173000
DTEND;TZID=America/Detroit:20260722T193000
DTSTAMP:20260424T045044
CREATED:20250510T150020Z
LAST-MODIFIED:20260420T220310Z
UID:18518-1784741400-1784748600@taylor.lib.mi.us
SUMMARY:Silent Book Club
DESCRIPTION:Silent Book Club\nEver wanted to join a book club\, but felt like it was too much pressure? Join this super low-key book club where you show up with a book of your choice and read! At each meeting the first and last 15 minutes will be designated for sharing what you’re reading/socializing with other members and then the hour and half in-between will be designated for reading. We will have an ambience room playing at low volume in the background and different options for seating. Feel free to bring a snack\, beverage\, or blanket to make this event extra cozy. This book club meets every Wednesday. \nThis event is intended for: Adults
URL:https://taylor.lib.mi.us/event/2024-12-04-2025-07-02-2025-09-10-2025-10-01-2026-07-22/
LOCATION:Community Rooms (Papp & Trolley)\, 12303 Pardee Road\, Taylor\, MI\, 48180\, United States
CATEGORIES:Adults
ORGANIZER;CN="Becky Price":MAILTO:bprice@cityoftaylormi.gov
END:VEVENT
BEGIN:VEVENT
DTSTART;TZID=America/Detroit:20260723T170000
DTEND;TZID=America/Detroit:20260723T190000
DTSTAMP:20260424T045044
CREATED:20260220T205144Z
LAST-MODIFIED:20260220T205144Z
UID:20263-1784826000-1784833200@taylor.lib.mi.us
SUMMARY:Bark for Books*
DESCRIPTION:Bark for Books\nRead aloud to a trained therapy dog for 15 minutes. Children and teens can also use their 15 minutes to practice book reports or speeches for school\, or whatever you think will build their confidence in their reading and speaking skills. There are 16 slots open to read or speak aloud to a therapy dog and registration is required. They love to hear all the stories and get all the pets\, so call or stop in the library to sign up starting 10 a.m. July 9! This program is for beginning readers\, kids\, tweens\, and teens. \n*Registration Required
URL:https://taylor.lib.mi.us/event/bark-for-books-14/
LOCATION:Community Rooms (Papp & Trolley)\, 12303 Pardee Road\, Taylor\, MI\, 48180\, United States
CATEGORIES:Youth & Families
END:VEVENT
END:VCALENDAR