BEGIN:VCALENDAR
VERSION:2.0
PRODID:-//Taylor Community Library - ECPv6.15.20//NONSGML v1.0//EN
CALSCALE:GREGORIAN
METHOD:PUBLISH
X-WR-CALNAME:Taylor Community Library
X-ORIGINAL-URL:https://taylor.lib.mi.us
X-WR-CALDESC:Events for Taylor Community Library
REFRESH-INTERVAL;VALUE=DURATION:PT1H
X-Robots-Tag:noindex
X-PUBLISHED-TTL:PT1H
BEGIN:VTIMEZONE
TZID:America/Detroit
BEGIN:DAYLIGHT
TZOFFSETFROM:-0500
TZOFFSETTO:-0400
TZNAME:EDT
DTSTART:20250309T070000
END:DAYLIGHT
BEGIN:STANDARD
TZOFFSETFROM:-0400
TZOFFSETTO:-0500
TZNAME:EST
DTSTART:20251102T060000
END:STANDARD
BEGIN:DAYLIGHT
TZOFFSETFROM:-0500
TZOFFSETTO:-0400
TZNAME:EDT
DTSTART:20260308T070000
END:DAYLIGHT
BEGIN:STANDARD
TZOFFSETFROM:-0400
TZOFFSETTO:-0500
TZNAME:EST
DTSTART:20261101T060000
END:STANDARD
BEGIN:DAYLIGHT
TZOFFSETFROM:-0500
TZOFFSETTO:-0400
TZNAME:EDT
DTSTART:20270314T070000
END:DAYLIGHT
BEGIN:STANDARD
TZOFFSETFROM:-0400
TZOFFSETTO:-0500
TZNAME:EST
DTSTART:20271107T060000
END:STANDARD
END:VTIMEZONE
BEGIN:VEVENT
DTSTART;TZID=America/Detroit:20260810T173000
DTEND;TZID=America/Detroit:20260810T193000
DTSTAMP:20260425T155129
CREATED:20260401T043905Z
LAST-MODIFIED:20260401T043905Z
UID:20689-1786383000-1786390200@taylor.lib.mi.us
SUMMARY:First Dibs
DESCRIPTION:First Dibs\nWant the chance to be the first person to read a new library book? Check out our new program called first dibs! When you walk-in you will sign in and be given a set of sticky notes and a pen. We will have tables assigned by genre that are filled with new books hitting the our shelves soon. You will go around and put a sticky note with your name on each book you would like to read. Our staff will place those books on hold for you at the frequency you would prefer\, and as soon as they are processed and put on our shelves you will begin to receive them first over anyone else who wants them. We plan to host this event at various times throughout the year. \nWe hope you join us for a fun afternoon filled with new books coming to a shelf near you! \nThis event is intended for: Adults \nWant to be reminded about this event? Fill out our form:\nPlease enable JavaScript in your browser to complete this form.Name *FirstLastPhone Number *City you live in *You do not need to be a Taylor resident to attendSubmit
URL:https://taylor.lib.mi.us/event/first-dibs-2/
LOCATION:Community Rooms (Papp & Trolley)\, 12303 Pardee Road\, Taylor\, MI\, 48180\, United States
CATEGORIES:Adults
ORGANIZER;CN="Becky Price":MAILTO:bprice@cityoftaylormi.gov
END:VEVENT
BEGIN:VEVENT
DTSTART;TZID=America/Detroit:20260810T180000
DTEND;TZID=America/Detroit:20260810T190000
DTSTAMP:20260425T155129
CREATED:20250613T165101Z
LAST-MODIFIED:20260420T220952Z
UID:20778-1786384800-1786388400@taylor.lib.mi.us
SUMMARY:LEGO Club
DESCRIPTION:LEGO Club\nDo you love Legos? Join our Lego Club! Every Monday at 6 p.m. come in and start building.  Everyone is welcome to free build.  If you are up for it\, we will provide a challenge or theme for you to make something related to that week’s challenge or theme. We will display your creation for one week and will tear them apart at the next event. This event is open to kids\, tweens\, teens\, and parents. No registration is required\, just stop in and build!
URL:https://taylor.lib.mi.us/event/2025-09-29-2025-11-03-2026-01-05-2026-04-06-2026-04-20__trashed-2026-08-10/
LOCATION:Youth Section\, 12303 Pardee Road\, Taylor\, MI\, 48180\, United States
CATEGORIES:Youth & Families
ORGANIZER;CN="Carolyn Somerville-Jones":MAILTO:csomerville@cityoftaylormi.gov
END:VEVENT
BEGIN:VEVENT
DTSTART;TZID=America/Detroit:20260811T140000
DTEND;TZID=America/Detroit:20260811T153000
DTSTAMP:20260425T155129
CREATED:20260420T221002Z
LAST-MODIFIED:20260420T221002Z
UID:20712-1786456800-1786462200@taylor.lib.mi.us
SUMMARY:Land Before Time Extravaganza (Summer Reading)
DESCRIPTION:Land Before Time Extravaganza\nJoin us for a Land Before Time Movie\, snacks\, games\, and crafts! \nThis Event is for Kids & Families
URL:https://taylor.lib.mi.us/event/land-before-time-extravaganza-summer-reading/
LOCATION:Community Rooms (Papp & Trolley)\, 12303 Pardee Road\, Taylor\, MI\, 48180\, United States
CATEGORIES:Youth & Families
ORGANIZER;CN="Carolyn Somerville-Jones":MAILTO:csomerville@cityoftaylormi.gov
END:VEVENT
BEGIN:VEVENT
DTSTART;TZID=America/Detroit:20260811T173000
DTEND;TZID=America/Detroit:20260811T193000
DTSTAMP:20260425T155129
CREATED:20260420T221006Z
LAST-MODIFIED:20260420T221006Z
UID:19761-1786469400-1786476600@taylor.lib.mi.us
SUMMARY:Sew Crafty
DESCRIPTION:Sew Crafty\nSew Crafty is a weekly lab for textile crafters to come together and work on their projects.  If you love to quilt\, sew\, knit\, crochet\, embroider\, needlepoint\, or any other textile crafting\, this is the place for you! This is a weekly lab that is open on Tuesdays from 5:30 – 7:30 p.m. This is a collaborative\, inter-generational crafting group intended for kids\, teens\, and adults. Children under 12 must be accompanied by an adult.
URL:https://taylor.lib.mi.us/event/2026-08-11/
LOCATION:Community Rooms (Papp & Trolley)\, 12303 Pardee Road\, Taylor\, MI\, 48180\, United States
CATEGORIES:Adults
ORGANIZER;CN="Hailey Boyer":MAILTO:hboyer@cityoftaylormi.gov
END:VEVENT
BEGIN:VEVENT
DTSTART;TZID=America/Detroit:20260812T173000
DTEND;TZID=America/Detroit:20260812T193000
DTSTAMP:20260425T155129
CREATED:20250510T150020Z
LAST-MODIFIED:20260420T221009Z
UID:18521-1786555800-1786563000@taylor.lib.mi.us
SUMMARY:Silent Book Club
DESCRIPTION:Silent Book Club\nEver wanted to join a book club\, but felt like it was too much pressure? Join this super low-key book club where you show up with a book of your choice and read! At each meeting the first and last 15 minutes will be designated for sharing what you’re reading/socializing with other members and then the hour and half in-between will be designated for reading. We will have an ambience room playing at low volume in the background and different options for seating. Feel free to bring a snack\, beverage\, or blanket to make this event extra cozy. This book club meets every Wednesday. \nThis event is intended for: Adults
URL:https://taylor.lib.mi.us/event/2024-12-04-2025-07-02-2025-09-10-2025-10-01-2026-08-12/
LOCATION:Community Rooms (Papp & Trolley)\, 12303 Pardee Road\, Taylor\, MI\, 48180\, United States
CATEGORIES:Adults
ORGANIZER;CN="Becky Price":MAILTO:bprice@cityoftaylormi.gov
END:VEVENT
BEGIN:VEVENT
DTSTART;TZID=America/Detroit:20260813T180000
DTEND;TZID=America/Detroit:20260813T190000
DTSTAMP:20260425T155129
CREATED:20260327T161027Z
LAST-MODIFIED:20260420T221021Z
UID:20620-1786644000-1786647600@taylor.lib.mi.us
SUMMARY:Dino-Rama Design with Sloan Museum!*
DESCRIPTION:Dino-Rama Design with Sloan Museum!*\nDesign and create your own dinosaur-themed diorama! You’ll learn about dinosaur habitats\, sketch a design plan\, then build a dino-rama to keep. Intended for ages 4-12. \n*Registration required\, registration opens two weeks before the event on July 30th\, 2026. Call the library to register!
URL:https://taylor.lib.mi.us/event/dino-rama-design-with-sloan-museum/
LOCATION:Trolley (North) Unity Room\, 12303 Pardee Road\, Taylor\, MI\, 48180\, United States
CATEGORIES:Youth & Families
ORGANIZER;CN="Jasmine Riehl":MAILTO:jriehl@cityoftaylormi.gov
END:VEVENT
BEGIN:VEVENT
DTSTART;TZID=America/Detroit:20260814T160000
DTEND;TZID=America/Detroit:20260814T180000
DTSTAMP:20260425T155129
CREATED:20260401T044231Z
LAST-MODIFIED:20260401T044231Z
UID:20690-1786723200-1786730400@taylor.lib.mi.us
SUMMARY:Friends of the Library Meeting
DESCRIPTION:Friends of the Library Meeting\nThis is a monthly meeting for those who are currently Friends of the Taylor Community Library and those interested in becoming friends to meet\, discuss monthly business\, and plan their next book sale. If you are interested in becoming a friend\, please fill out the form on the Friends of the Library Page or stop by one of their meetings.
URL:https://taylor.lib.mi.us/event/friends-of-the-library-meeting-5/
LOCATION:Community Rooms (Papp & Trolley)\, 12303 Pardee Road\, Taylor\, MI\, 48180\, United States
CATEGORIES:Adults,Friends Meetings,Friends of the Library
ORGANIZER;CN="Becky Price":MAILTO:bprice@cityoftaylormi.gov
END:VEVENT
END:VCALENDAR