BEGIN:VCALENDAR
VERSION:2.0
PRODID:-//Taylor Community Library - ECPv6.15.20//NONSGML v1.0//EN
CALSCALE:GREGORIAN
METHOD:PUBLISH
X-ORIGINAL-URL:https://taylor.lib.mi.us
X-WR-CALDESC:Events for Taylor Community Library
REFRESH-INTERVAL;VALUE=DURATION:PT1H
X-Robots-Tag:noindex
X-PUBLISHED-TTL:PT1H
BEGIN:VTIMEZONE
TZID:America/Detroit
BEGIN:DAYLIGHT
TZOFFSETFROM:-0500
TZOFFSETTO:-0400
TZNAME:EDT
DTSTART:20250309T070000
END:DAYLIGHT
BEGIN:STANDARD
TZOFFSETFROM:-0400
TZOFFSETTO:-0500
TZNAME:EST
DTSTART:20251102T060000
END:STANDARD
BEGIN:DAYLIGHT
TZOFFSETFROM:-0500
TZOFFSETTO:-0400
TZNAME:EDT
DTSTART:20260308T070000
END:DAYLIGHT
BEGIN:STANDARD
TZOFFSETFROM:-0400
TZOFFSETTO:-0500
TZNAME:EST
DTSTART:20261101T060000
END:STANDARD
BEGIN:DAYLIGHT
TZOFFSETFROM:-0500
TZOFFSETTO:-0400
TZNAME:EDT
DTSTART:20270314T070000
END:DAYLIGHT
BEGIN:STANDARD
TZOFFSETFROM:-0400
TZOFFSETTO:-0500
TZNAME:EST
DTSTART:20271107T060000
END:STANDARD
END:VTIMEZONE
BEGIN:VEVENT
DTSTART;TZID=America/Detroit:20260817T110000
DTEND;TZID=America/Detroit:20260817T120000
DTSTAMP:20260425T104157
CREATED:20260420T221034Z
LAST-MODIFIED:20260420T221034Z
UID:20623-1786964400-1786968000@taylor.lib.mi.us
SUMMARY:Family Yoga with the Guidance Center!
DESCRIPTION:Family Yoga with the Guidance Center!\nJoin us for family yoga with the Guidance Center! This program will be held outside on the library lawn\, weather permitting.
URL:https://taylor.lib.mi.us/event/family-yoga-with-the-guidance-center/
LOCATION:Community Rooms (Papp & Trolley)\, 12303 Pardee Road\, Taylor\, MI\, 48180\, United States
CATEGORIES:Youth & Families
ORGANIZER;CN="Jasmine Riehl":MAILTO:jriehl@cityoftaylormi.gov
END:VEVENT
BEGIN:VEVENT
DTSTART;TZID=America/Detroit:20260817T160000
DTEND;TZID=America/Detroit:20260817T170000
DTSTAMP:20260425T104157
CREATED:20260420T221037Z
LAST-MODIFIED:20260420T221037Z
UID:20588-1786982400-1786986000@taylor.lib.mi.us
SUMMARY:Rainbow Readers' Teen Book Club
DESCRIPTION:Rainbow Readers’ Teen Book Club\n\nJoin us for an all new book club for teens!!!  We will be reading graphic novels and manga. For our first discussion\, we’ll be reading Mooncakes by Suzanne Walker. \nThis group is intended for Teens (13-17).
URL:https://taylor.lib.mi.us/event/rainbow-readers-teen-book-club-4/
LOCATION:Community Rooms (Papp & Trolley)\, 12303 Pardee Road\, Taylor\, MI\, 48180\, United States
CATEGORIES:Teens
ORGANIZER;CN="Ace Norman":MAILTO:anorman@cityoftaylormi.gov
END:VEVENT
BEGIN:VEVENT
DTSTART;TZID=America/Detroit:20260817T180000
DTEND;TZID=America/Detroit:20260817T190000
DTSTAMP:20260425T104157
CREATED:20250613T165101Z
LAST-MODIFIED:20260420T221045Z
UID:20779-1786989600-1786993200@taylor.lib.mi.us
SUMMARY:LEGO Club
DESCRIPTION:LEGO Club\nDo you love Legos? Join our Lego Club! Every Monday at 6 p.m. come in and start building.  Everyone is welcome to free build.  If you are up for it\, we will provide a challenge or theme for you to make something related to that week’s challenge or theme. We will display your creation for one week and will tear them apart at the next event. This event is open to kids\, tweens\, teens\, and parents. No registration is required\, just stop in and build!
URL:https://taylor.lib.mi.us/event/2025-09-29-2025-11-03-2026-01-05-2026-04-06-2026-04-20__trashed-2026-08-17/
LOCATION:Youth Section\, 12303 Pardee Road\, Taylor\, MI\, 48180\, United States
CATEGORIES:Youth & Families
ORGANIZER;CN="Carolyn Somerville-Jones":MAILTO:csomerville@cityoftaylormi.gov
END:VEVENT
BEGIN:VEVENT
DTSTART;TZID=America/Detroit:20260818T140000
DTEND;TZID=America/Detroit:20260818T150000
DTSTAMP:20260425T104157
CREATED:20260420T221058Z
LAST-MODIFIED:20260420T221058Z
UID:20714-1787061600-1787065200@taylor.lib.mi.us
SUMMARY:Dino Canvas Painting
DESCRIPTION:Dino Canvas Painting\nAs part of our Summer Reading Program Join us every Tuesday at 2pm for a Dino themed craft! This week we have dino canvas painting hope to see you there! \nThis Event is for Kids & Families
URL:https://taylor.lib.mi.us/event/dino-canvas-painting/
LOCATION:Community Rooms (Papp & Trolley)\, 12303 Pardee Road\, Taylor\, MI\, 48180\, United States
CATEGORIES:Youth & Families
ORGANIZER;CN="Carolyn Somerville-Jones":MAILTO:csomerville@cityoftaylormi.gov
END:VEVENT
BEGIN:VEVENT
DTSTART;TZID=America/Detroit:20260818T173000
DTEND;TZID=America/Detroit:20260818T193000
DTSTAMP:20260425T104157
CREATED:20260420T221103Z
LAST-MODIFIED:20260420T221103Z
UID:19762-1787074200-1787081400@taylor.lib.mi.us
SUMMARY:Sew Crafty
DESCRIPTION:Sew Crafty\nSew Crafty is a weekly lab for textile crafters to come together and work on their projects.  If you love to quilt\, sew\, knit\, crochet\, embroider\, needlepoint\, or any other textile crafting\, this is the place for you! This is a weekly lab that is open on Tuesdays from 5:30 – 7:30 p.m. This is a collaborative\, inter-generational crafting group intended for kids\, teens\, and adults. Children under 12 must be accompanied by an adult.
URL:https://taylor.lib.mi.us/event/2026-08-18/
LOCATION:Community Rooms (Papp & Trolley)\, 12303 Pardee Road\, Taylor\, MI\, 48180\, United States
CATEGORIES:Adults
ORGANIZER;CN="Hailey Boyer":MAILTO:hboyer@cityoftaylormi.gov
END:VEVENT
BEGIN:VEVENT
DTSTART;TZID=America/Detroit:20260819T173000
DTEND;TZID=America/Detroit:20260819T193000
DTSTAMP:20260425T104157
CREATED:20250510T150020Z
LAST-MODIFIED:20260420T221111Z
UID:18522-1787160600-1787167800@taylor.lib.mi.us
SUMMARY:Silent Book Club
DESCRIPTION:Silent Book Club\nEver wanted to join a book club\, but felt like it was too much pressure? Join this super low-key book club where you show up with a book of your choice and read! At each meeting the first and last 15 minutes will be designated for sharing what you’re reading/socializing with other members and then the hour and half in-between will be designated for reading. We will have an ambience room playing at low volume in the background and different options for seating. Feel free to bring a snack\, beverage\, or blanket to make this event extra cozy. This book club meets every Wednesday. \nThis event is intended for: Adults
URL:https://taylor.lib.mi.us/event/2024-12-04-2025-07-02-2025-09-10-2025-10-01-2026-08-19/
LOCATION:Community Rooms (Papp & Trolley)\, 12303 Pardee Road\, Taylor\, MI\, 48180\, United States
CATEGORIES:Adults
ORGANIZER;CN="Becky Price":MAILTO:bprice@cityoftaylormi.gov
END:VEVENT
BEGIN:VEVENT
DTSTART;TZID=America/Detroit:20260819T180000
DTEND;TZID=America/Detroit:20260819T190000
DTSTAMP:20260425T104157
CREATED:20260420T221115Z
LAST-MODIFIED:20260420T221115Z
UID:20600-1787162400-1787166000@taylor.lib.mi.us
SUMMARY:Adult Book Club
DESCRIPTION:Adult Book Club\nJoin us as we read fiction from all walks of life and perspectives. For our next discussion\, we’ll be reading Dream State by Eric Puchner. \n \nThe novel explores the intertwined lives of Cece\, Garrett\, and Charlie\, set against the backdrop of rural Montana. The novel spans decades\, examining the lasting bonds of friendship and the complexities of marriage and commitment. Spanning fifty years and set against the backdrop of a rapidly warming Montana\, Dream State explores what it means to live with the mistakes of the past-both our own and the ones we’ve inherited. \n\n\n\n*Please call ahead to make sure we have room for new members
URL:https://taylor.lib.mi.us/event/adult-book-club-23/
LOCATION:Community Rooms (Papp & Trolley)\, 12303 Pardee Road\, Taylor\, MI\, 48180\, United States
CATEGORIES:Adults
ORGANIZER;CN="Hailey Boyer":MAILTO:hboyer@cityoftaylormi.gov
END:VEVENT
BEGIN:VEVENT
DTSTART;TZID=America/Detroit:20260820T180000
DTEND;TZID=America/Detroit:20260820T190000
DTSTAMP:20260425T104157
CREATED:20260327T161332Z
LAST-MODIFIED:20260420T221551Z
UID:20621-1787248800-1787252400@taylor.lib.mi.us
SUMMARY:Rock On! with Ann Arbor Hands on Museum!*
DESCRIPTION:Rock On! with Ann Arbor Hands on Museum!*\nA hands on geology experience for curious minds \nLeave no stone unturned as participants explore rocks\, minerals\, and the processes that formed them. Through experiments and observation\, participants learn how scientists identify mystery specimens and uncover the stories written in stone. \nIntended for ages 8 and up. \n*Registration required\, registration opens two weeks before the event on August 6th\, 2026. Call the library to register!
URL:https://taylor.lib.mi.us/event/rock-on-with-ann-arbor-hands-on-museum/
LOCATION:Trolley (North) Unity Room\, 12303 Pardee Road\, Taylor\, MI\, 48180\, United States
CATEGORIES:Youth & Families
ORGANIZER;CN="Jasmine Riehl":MAILTO:jriehl@cityoftaylormi.gov
END:VEVENT
BEGIN:VEVENT
DTSTART;TZID=America/Detroit:20260821T160000
DTEND;TZID=America/Detroit:20260821T170000
DTSTAMP:20260425T104157
CREATED:20260327T162027Z
LAST-MODIFIED:20260420T221137Z
UID:20622-1787328000-1787331600@taylor.lib.mi.us
SUMMARY:Tween Book Club
DESCRIPTION:Tween Book Club\nTween Book Club is a monthly book club suggested for tweens ages 8-12 where we will read age-appropriate titles from all genres\, have a snack\, and do a book-related activity!\nCopies of our monthly book will be placed on hold and can be picked up from our front desk before our meeting. Most of the time they are also available on Hoopla or Libby.\nWe will take time to share thoughts on the book and chat about our general reading interests!\n\nThis month’s book is Lumberjanes\, Volume 1 by Shannon Watters\, ND Stevenson\, Gus Allen\, Grace Ellis and various illustrators:\n\n\n\n\nFive best friends spending the summer at Lumberjane scout camp…defeating yetis\, three-eyed wolves\, and giant falcons…what’s not to love?! \nFriendship to the max! Jo\, April\, Mal\, Molly and Ripley are five best pals determined to have an awesome summer together…and they’re not gonna let any insane quest or an array of supernatural critters get in their way! Not only is it the second title launching in our new BOOM! Box imprint but LUMBERJANES is one of those punk rock\, love-everything-about-it stories that appeals to fans of basically all excellent things. It’s Buffy the Vampire Slayer meets Gravity Falls and features five butt-kicking\, rad teenage girls wailing on monsters and solving a mystery with the whole world at stake. And with the talent of acclaimed cartoonist ND Stevenson\, talented newcomer Grace Ellis writing\, and Gus Allen on art\, this is going to be a spectacular series that you won’t want to miss.
URL:https://taylor.lib.mi.us/event/tween-book-club-11/
LOCATION:Trolley (North) Unity Room\, 12303 Pardee Road\, Taylor\, MI\, 48180\, United States
CATEGORIES:Youth & Families
ORGANIZER;CN="Jasmine Riehl":MAILTO:jriehl@cityoftaylormi.gov
END:VEVENT
BEGIN:VEVENT
DTSTART;TZID=America/Detroit:20260822T150000
DTEND;TZID=America/Detroit:20260822T150000
DTSTAMP:20260425T104157
CREATED:20260420T221151Z
LAST-MODIFIED:20260420T221151Z
UID:20710-1787410800-1787410800@taylor.lib.mi.us
SUMMARY:End of Summer Party
DESCRIPTION:End of Summer Party\nCome celebrate the end of summer before heading back to school. There will be a movie\, popcorn\, games\, crafts and more! \nThis Event is for Kids & Families
URL:https://taylor.lib.mi.us/event/end-of-summer-party/
LOCATION:Community Rooms (Papp & Trolley)\, 12303 Pardee Road\, Taylor\, MI\, 48180\, United States
CATEGORIES:Youth & Families
ORGANIZER;CN="Carolyn Somerville-Jones":MAILTO:csomerville@cityoftaylormi.gov
END:VEVENT
END:VCALENDAR