BEGIN:VCALENDAR
VERSION:2.0
PRODID:-//Taylor Community Library - ECPv6.15.20//NONSGML v1.0//EN
CALSCALE:GREGORIAN
METHOD:PUBLISH
X-WR-CALNAME:Taylor Community Library
X-ORIGINAL-URL:https://taylor.lib.mi.us
X-WR-CALDESC:Events for Taylor Community Library
REFRESH-INTERVAL;VALUE=DURATION:PT1H
X-Robots-Tag:noindex
X-PUBLISHED-TTL:PT1H
BEGIN:VTIMEZONE
TZID:America/Detroit
BEGIN:DAYLIGHT
TZOFFSETFROM:-0500
TZOFFSETTO:-0400
TZNAME:EDT
DTSTART:20240310T070000
END:DAYLIGHT
BEGIN:STANDARD
TZOFFSETFROM:-0400
TZOFFSETTO:-0500
TZNAME:EST
DTSTART:20241103T060000
END:STANDARD
BEGIN:DAYLIGHT
TZOFFSETFROM:-0500
TZOFFSETTO:-0400
TZNAME:EDT
DTSTART:20250309T070000
END:DAYLIGHT
BEGIN:STANDARD
TZOFFSETFROM:-0400
TZOFFSETTO:-0500
TZNAME:EST
DTSTART:20251102T060000
END:STANDARD
BEGIN:DAYLIGHT
TZOFFSETFROM:-0500
TZOFFSETTO:-0400
TZNAME:EDT
DTSTART:20260308T070000
END:DAYLIGHT
BEGIN:STANDARD
TZOFFSETFROM:-0400
TZOFFSETTO:-0500
TZNAME:EST
DTSTART:20261101T060000
END:STANDARD
BEGIN:DAYLIGHT
TZOFFSETFROM:-0500
TZOFFSETTO:-0400
TZNAME:EDT
DTSTART:20270314T070000
END:DAYLIGHT
BEGIN:STANDARD
TZOFFSETFROM:-0400
TZOFFSETTO:-0500
TZNAME:EST
DTSTART:20271107T060000
END:STANDARD
END:VTIMEZONE
BEGIN:VEVENT
DTSTART;TZID=America/Detroit:20260401T120000
DTEND;TZID=America/Detroit:20260401T140000
DTSTAMP:20260419T091251
CREATED:20251209T213649Z
LAST-MODIFIED:20260120T212421Z
UID:19922-1775044800-1775052000@taylor.lib.mi.us
SUMMARY:Audio Described Movie Day
DESCRIPTION:Audio Described Movie Day\nPop in the 1st Wednesday of each month to watch a new\, popular film with the Audio Description (AD) narration track added. \n  \nApril’s film: \nClown in a Cornfield (R)
URL:https://taylor.lib.mi.us/event/audio-described-movie-day-15-2026-03-04-2026-04-01/
LOCATION:Trolley (North) Unity Room\, 12303 Pardee Road\, Taylor\, MI\, 48180\, United States
CATEGORIES:Adults
ORGANIZER;CN="Sarah Roe":MAILTO:sroe@cityoftaylormi.gov
END:VEVENT
BEGIN:VEVENT
DTSTART;TZID=America/Detroit:20260304T120000
DTEND;TZID=America/Detroit:20260304T140000
DTSTAMP:20260419T091251
CREATED:20251209T213649Z
LAST-MODIFIED:20260120T212001Z
UID:19921-1772625600-1772632800@taylor.lib.mi.us
SUMMARY:Audio Described Movie Day
DESCRIPTION:Audio Described Movie Day\nPop in the 1st Wednesday of each month to watch a new\, popular film with the Audio Description (AD) narration track added. \n  \nMarch’s film: \nThunderbolts* (PG-13)
URL:https://taylor.lib.mi.us/event/audio-described-movie-day-15-2026-03-04/
LOCATION:Trolley (North) Unity Room\, 12303 Pardee Road\, Taylor\, MI\, 48180\, United States
CATEGORIES:Adults
ORGANIZER;CN="Sarah Roe":MAILTO:sroe@cityoftaylormi.gov
END:VEVENT
BEGIN:VEVENT
DTSTART;TZID=America/Detroit:20260225T160000
DTEND;TZID=America/Detroit:20260225T180000
DTSTAMP:20260419T091251
CREATED:20221208T231101Z
LAST-MODIFIED:20251209T211708Z
UID:19591-1772035200-1772042400@taylor.lib.mi.us
SUMMARY:Teen Volunteer Group*
DESCRIPTION:Teen Volunteer Group*\nAre you a teen who’s looking for volunteer hours? Join our Teen Volunteer Group! \nTeen volunteers help plan\, implement\, and promote ways to improve services offered at TCL. Joining our group builds your resume\, earns you volunteer hours\, and gives you a chance to be heard. Tasks will include helping the library with collection maintenance\, programming prep\, maintaining the TCL Tiny Taylor Library\, and more! Teens must be ages 14-18. \nWe meet every other Wednesday at 4 p.m. in person at the library. \n*Want to earn volunteer hours for this? Visit our Volunteer page to see if space is available and to sign up! 
URL:https://taylor.lib.mi.us/event/teen-volunteer-group-2023-09-13-2023-09-27-2023-10-11-2024-07-03-2025-03-12-2025-04-09-2025-07-02-2025-09-24-2025-12-17-2026-02-25/
LOCATION:Community Rooms (Papp & Trolley)\, 12303 Pardee Road\, Taylor\, MI\, 48180\, United States
CATEGORIES:Teens
ORGANIZER;CN="Sarah Roe":MAILTO:sroe@cityoftaylormi.gov
END:VEVENT
BEGIN:VEVENT
DTSTART;TZID=America/Detroit:20260211T160000
DTEND;TZID=America/Detroit:20260211T180000
DTSTAMP:20260419T091251
CREATED:20221208T231101Z
LAST-MODIFIED:20251209T211700Z
UID:19590-1770825600-1770832800@taylor.lib.mi.us
SUMMARY:Teen Volunteer Group*
DESCRIPTION:Teen Volunteer Group*\nAre you a teen who’s looking for volunteer hours? Join our Teen Volunteer Group! \nTeen volunteers help plan\, implement\, and promote ways to improve services offered at TCL. Joining our group builds your resume\, earns you volunteer hours\, and gives you a chance to be heard. Tasks will include helping the library with collection maintenance\, programming prep\, maintaining the TCL Tiny Taylor Library\, and more! Teens must be ages 14-18. \nWe meet every other Wednesday at 4 p.m. in person at the library. \n*Want to earn volunteer hours for this? Visit our Volunteer page to see if space is available and to sign up! 
URL:https://taylor.lib.mi.us/event/teen-volunteer-group-2023-09-13-2023-09-27-2023-10-11-2024-07-03-2025-03-12-2025-04-09-2025-07-02-2025-09-24-2025-12-17-2026-02-11/
LOCATION:Community Rooms (Papp & Trolley)\, 12303 Pardee Road\, Taylor\, MI\, 48180\, United States
CATEGORIES:Teens
ORGANIZER;CN="Sarah Roe":MAILTO:sroe@cityoftaylormi.gov
END:VEVENT
BEGIN:VEVENT
DTSTART;TZID=America/Detroit:20260204T120000
DTEND;TZID=America/Detroit:20260204T140000
DTSTAMP:20260419T091251
CREATED:20251209T213649Z
LAST-MODIFIED:20260120T205928Z
UID:19675-1770206400-1770213600@taylor.lib.mi.us
SUMMARY:Audio Described Movie Day
DESCRIPTION:Audio Described Movie Day\nPop in the 1st Wednesday of each month to watch a new\, popular film with the Audio Description (AD) narration track added. \n  \nFebruary’s film: \nGood Fortune (R)
URL:https://taylor.lib.mi.us/event/audio-described-movie-day-15/
LOCATION:Trolley (North) Unity Room\, 12303 Pardee Road\, Taylor\, MI\, 48180\, United States
CATEGORIES:Adults
ORGANIZER;CN="Sarah Roe":MAILTO:sroe@cityoftaylormi.gov
END:VEVENT
BEGIN:VEVENT
DTSTART;TZID=America/Detroit:20260128T160000
DTEND;TZID=America/Detroit:20260128T180000
DTSTAMP:20260419T091251
CREATED:20221208T231101Z
LAST-MODIFIED:20251209T211655Z
UID:19589-1769616000-1769623200@taylor.lib.mi.us
SUMMARY:Teen Volunteer Group*
DESCRIPTION:Teen Volunteer Group*\nAre you a teen who’s looking for volunteer hours? Join our Teen Volunteer Group! \nTeen volunteers help plan\, implement\, and promote ways to improve services offered at TCL. Joining our group builds your resume\, earns you volunteer hours\, and gives you a chance to be heard. Tasks will include helping the library with collection maintenance\, programming prep\, maintaining the TCL Tiny Taylor Library\, and more! Teens must be ages 14-18. \nWe meet every other Wednesday at 4 p.m. in person at the library. \n*Want to earn volunteer hours for this? Visit our Volunteer page to see if space is available and to sign up! 
URL:https://taylor.lib.mi.us/event/teen-volunteer-group-2023-09-13-2023-09-27-2023-10-11-2024-07-03-2025-03-12-2025-04-09-2025-07-02-2025-09-24-2025-12-17-2026-01-28/
LOCATION:Community Rooms (Papp & Trolley)\, 12303 Pardee Road\, Taylor\, MI\, 48180\, United States
CATEGORIES:Teens
ORGANIZER;CN="Sarah Roe":MAILTO:sroe@cityoftaylormi.gov
END:VEVENT
BEGIN:VEVENT
DTSTART;TZID=America/Detroit:20260114T160000
DTEND;TZID=America/Detroit:20260114T180000
DTSTAMP:20260419T091251
CREATED:20221208T231101Z
LAST-MODIFIED:20251209T211647Z
UID:19588-1768406400-1768413600@taylor.lib.mi.us
SUMMARY:Teen Volunteer Group*
DESCRIPTION:Teen Volunteer Group*\nAre you a teen who’s looking for volunteer hours? Join our Teen Volunteer Group! \nTeen volunteers help plan\, implement\, and promote ways to improve services offered at TCL. Joining our group builds your resume\, earns you volunteer hours\, and gives you a chance to be heard. Tasks will include helping the library with collection maintenance\, programming prep\, maintaining the TCL Tiny Taylor Library\, and more! Teens must be ages 14-18. \nWe meet every other Wednesday at 4 p.m. in person at the library. \n*Want to earn volunteer hours for this? Visit our Volunteer page to see if space is available and to sign up! 
URL:https://taylor.lib.mi.us/event/teen-volunteer-group-2023-09-13-2023-09-27-2023-10-11-2024-07-03-2025-03-12-2025-04-09-2025-07-02-2025-09-24-2025-12-17-2026-01-14/
LOCATION:Community Rooms (Papp & Trolley)\, 12303 Pardee Road\, Taylor\, MI\, 48180\, United States
CATEGORIES:Teens
ORGANIZER;CN="Sarah Roe":MAILTO:sroe@cityoftaylormi.gov
END:VEVENT
BEGIN:VEVENT
DTSTART;TZID=America/Detroit:20260107T120000
DTEND;TZID=America/Detroit:20260107T140000
DTSTAMP:20260419T091251
CREATED:20251208T170409Z
LAST-MODIFIED:20251208T170409Z
UID:19582-1767787200-1767794400@taylor.lib.mi.us
SUMMARY:Audio Described Movie Day
DESCRIPTION:Audio Described Movie Day\nPop in the 1st Wednesday of each month to watch a new\, popular film with the Audio Description (AD) narration track added. \n  \nJanuary’s film: \nElio
URL:https://taylor.lib.mi.us/event/audio-described-movie-day-14/
LOCATION:Trolley (North) Unity Room\, 12303 Pardee Road\, Taylor\, MI\, 48180\, United States
CATEGORIES:Adults
ORGANIZER;CN="Sarah Roe":MAILTO:sroe@cityoftaylormi.gov
END:VEVENT
BEGIN:VEVENT
DTSTART;TZID=America/Detroit:20251218T170000
DTEND;TZID=America/Detroit:20251218T190000
DTSTAMP:20260419T091251
CREATED:20251105T204852Z
LAST-MODIFIED:20251119T215505Z
UID:19221-1766077200-1766084400@taylor.lib.mi.us
SUMMARY:Holiday Gift Wrapping Station
DESCRIPTION:Holiday Gift Wrapping Station\nWe are offering a calm spot to wrap presents away from prying eyes! Listen to holiday music and chill with us Thursday\, December 18th from 5pm-7pm. \nWe will have some wrapping supplies available\, but we encourage you to bring your own gift paper\, bows\, or gift boxes.
URL:https://taylor.lib.mi.us/event/2025-12-17/
LOCATION:Trolley (North) Unity Room\, 12303 Pardee Road\, Taylor\, MI\, 48180\, United States
CATEGORIES:Adults
ORGANIZER;CN="Sarah Roe":MAILTO:sroe@cityoftaylormi.gov
END:VEVENT
BEGIN:VEVENT
DTSTART;TZID=America/Detroit:20251217T160000
DTEND;TZID=America/Detroit:20251217T180000
DTSTAMP:20260419T091251
CREATED:20221208T231101Z
LAST-MODIFIED:20251209T211523Z
UID:18445-1765987200-1765994400@taylor.lib.mi.us
SUMMARY:Teen Volunteer Group*
DESCRIPTION:Teen Volunteer Group*\nAre you a teen who’s looking for volunteer hours? Join our Teen Volunteer Group! \nTeen volunteers help plan\, implement\, and promote ways to improve services offered at TCL. Joining our group builds your resume\, earns you volunteer hours\, and gives you a chance to be heard. Tasks will include helping the library with collection maintenance\, programming prep\, maintaining the TCL Tiny Taylor Library\, and more! Teens must be ages 14-18. \nWe meet every other Wednesday at 4 p.m. in person at the library. \n*Want to earn volunteer hours for this? Visit our Volunteer page to see if space is available and to sign up! 
URL:https://taylor.lib.mi.us/event/teen-volunteer-group-2023-09-13-2023-09-27-2023-10-11-2024-07-03-2025-03-12-2025-04-09-2025-07-02-2025-09-24-2025-12-17/
LOCATION:Community Rooms (Papp & Trolley)\, 12303 Pardee Road\, Taylor\, MI\, 48180\, United States
CATEGORIES:Teens
ORGANIZER;CN="Sarah Roe":MAILTO:sroe@cityoftaylormi.gov
END:VEVENT
BEGIN:VEVENT
DTSTART;TZID=America/Detroit:20251203T120000
DTEND;TZID=America/Detroit:20251203T140000
DTSTAMP:20260419T091251
CREATED:20250924T150002Z
LAST-MODIFIED:20250924T150002Z
UID:18857-1764763200-1764770400@taylor.lib.mi.us
SUMMARY:Audio Described Movie Day
DESCRIPTION:Audio Described Movie Day\nPop in the 1st Wednesday of each month to watch a new\, popular film with the Audio Description (AD) narration track added. \n  \nDecember’s film: \nSnow White
URL:https://taylor.lib.mi.us/event/audio-described-movie-day-3/
LOCATION:Trolley (North) Unity Room\, 12303 Pardee Road\, Taylor\, MI\, 48180\, United States
CATEGORIES:Adults
ORGANIZER;CN="Sarah Roe":MAILTO:sroe@cityoftaylormi.gov
END:VEVENT
BEGIN:VEVENT
DTSTART;VALUE=DATE:20251031
DTEND;VALUE=DATE:20251101
DTSTAMP:20260419T091251
CREATED:20250929T173649Z
LAST-MODIFIED:20250929T173649Z
UID:18908-1761868800-1761955199@taylor.lib.mi.us
SUMMARY:Fall Reading Challenge Ends
DESCRIPTION:Fall Reading Challenge Ends\nFor more information\, visit our Fall Reading Challenge page.
URL:https://taylor.lib.mi.us/event/fall-reading-challenge-ends/
LOCATION:Community Rooms (Papp & Trolley)\, 12303 Pardee Road\, Taylor\, MI\, 48180\, United States
CATEGORIES:Adults,Teens,Youth & Families
ORGANIZER;CN="Sarah Roe":MAILTO:sroe@cityoftaylormi.gov
END:VEVENT
BEGIN:VEVENT
DTSTART;TZID=America/Detroit:20251001T120000
DTEND;TZID=America/Detroit:20251001T140000
DTSTAMP:20260419T091251
CREATED:20250610T145459Z
LAST-MODIFIED:20250902T203429Z
UID:17601-1759320000-1759327200@taylor.lib.mi.us
SUMMARY:Audio Described Movie Day
DESCRIPTION:Audio Described Movie Day\nPop in the 1st Wednesday of each month to watch a new\, popular film with the Audio Description (AD) narration track added. \n  \nOctober’s film: \nThe Woman in the Yard
URL:https://taylor.lib.mi.us/event/2025-09-01-2025-10-01/
LOCATION:Trolley (North) Unity Room\, 12303 Pardee Road\, Taylor\, MI\, 48180\, United States
CATEGORIES:Adults
ORGANIZER;CN="Sarah Roe":MAILTO:sroe@cityoftaylormi.gov
END:VEVENT
BEGIN:VEVENT
DTSTART;VALUE=DATE:20251001
DTEND;VALUE=DATE:20251002
DTSTAMP:20260419T091251
CREATED:20250929T173313Z
LAST-MODIFIED:20250929T173313Z
UID:18906-1759276800-1759363199@taylor.lib.mi.us
SUMMARY:Fall Reading Challenge Begins
DESCRIPTION:Fall Reading Challenge Begins\nFor more information\, visit our Fall Reading Challenge page.
URL:https://taylor.lib.mi.us/event/fall-reading-challenge-begins/
LOCATION:Community Rooms (Papp & Trolley)\, 12303 Pardee Road\, Taylor\, MI\, 48180\, United States
CATEGORIES:Adults,Teens,Youth & Families
ORGANIZER;CN="Sarah Roe":MAILTO:sroe@cityoftaylormi.gov
END:VEVENT
BEGIN:VEVENT
DTSTART;TZID=America/Detroit:20250903T120000
DTEND;TZID=America/Detroit:20250903T140000
DTSTAMP:20260419T091251
CREATED:20250610T145141Z
LAST-MODIFIED:20250612T234715Z
UID:17600-1756900800-1756908000@taylor.lib.mi.us
SUMMARY:Audio Described Movie Day
DESCRIPTION:Audio Described Movie Day\nPop in the 1st Wednesday of each month to watch a new\, popular film with the Audio Description (AD) narration track added. \n  \nSeptember’s film: \nPaddington in Peru
URL:https://taylor.lib.mi.us/event/2025-09-01-2025-09-03/
LOCATION:Trolley (North) Unity Room\, 12303 Pardee Road\, Taylor\, MI\, 48180\, United States
CATEGORIES:Adults
ORGANIZER;CN="Sarah Roe":MAILTO:sroe@cityoftaylormi.gov
END:VEVENT
BEGIN:VEVENT
DTSTART;TZID=America/Detroit:20250827T120000
DTEND;TZID=America/Detroit:20250827T130000
DTSTAMP:20260419T091251
CREATED:20250531T213742Z
LAST-MODIFIED:20250612T234451Z
UID:15556-1756296000-1756299600@taylor.lib.mi.us
SUMMARY:VIP Support Group
DESCRIPTION:VIP Support Group (Visually Impaired Persons)\nThe VIP meeting is a monthly support group for people experiencing vision loss and their caregivers. Each month\, we meet to discuss important topics and connect over shared concerns\, with occasional speakers. \nMeet in person or join in remotely. \nTo join remotely by phone\, please call 267-807-9601 and use Access Code: 965803\, or join virtually by visiting bit.ly/TCLbtbcall
URL:https://taylor.lib.mi.us/event/2025-08-27/
LOCATION:Trolley (North) Unity Room\, 12303 Pardee Road\, Taylor\, MI\, 48180\, United States
CATEGORIES:Adults
ORGANIZER;CN="Sarah Roe":MAILTO:sroe@cityoftaylormi.gov
END:VEVENT
BEGIN:VEVENT
DTSTART;TZID=America/Detroit:20250813T120000
DTEND;TZID=America/Detroit:20250813T133000
DTSTAMP:20260419T091251
CREATED:20250531T210938Z
LAST-MODIFIED:20250612T233944Z
UID:16032-1755086400-1755091800@taylor.lib.mi.us
SUMMARY:Brown Bag Talking Book Discussion
DESCRIPTION:Brown Bag Talking Book Discussion\nThe group discusses two audiobooks each month. Listen to all\, one\, or even none… everyone is welcome! \nMeet in person or join in remotely. \nTo join remotely by phone\, please Call: 267-807-9601 and use Access Code: 965803\, or join virtually by visiting bit.ly/TCLbtbcall \n  \nTitles are voted on 3 months in advance. This month’s titles: \n  \nThe Woman in the Library by Sulari Gentill\nDB 110801\n9 hours\, 0 minutes. Suspense Fiction\, Mystery and Detective Stories.\n“The ornate reading room at the Boston Public Library is quiet—until the tranquility is shattered by a woman’s terrified scream. Security guards take charge immediately\, instructing everyone inside to stay put until the threat is identified and contained. While they wait for the all-clear\, four strangers\, who’d happened to sit at the same table\, pass the time in conversation\, and friendships are struck. Each has his or her own reasons for being in the reading room that morning—it just happens that one is a murderer. Award-winning author Sulari Gentill delivers a sharply thrilling listen with this unexpectedly twisty literary adventure that examines the complicated nature of friendship and reveals that words can be the most treacherous weapons of all.” — Provided by publisher. Unrated. Commercial audiobook. 2022. \n  \nTravels with Charley: In search of America by John Steinbeck\nDB 16094\n6 hours\, 10 minutes. Classics\, Travel.\nFeeling that as an American writer he has lost touch with his country\, the author sets out on a swing around the United States to see what it is really like. He travels in a trailer with ‘an old French gentleman poodle.’ Here is the leisurely account of what he saw\, whom he talked with\, and his conclusions\, hopeful and otherwise. 1960. \n  \n  \n  \nNew attendees: Please call the library or click on the covers above to place copies on hold. Or current BTB members can use the Talking Book Order Form to have copies sent on cartridge.
URL:https://taylor.lib.mi.us/event/2025-08-13/
LOCATION:Trolley (North) Unity Room\, 12303 Pardee Road\, Taylor\, MI\, 48180\, United States
CATEGORIES:Adults
ORGANIZER;CN="Sarah Roe":MAILTO:sroe@cityoftaylormi.gov
END:VEVENT
BEGIN:VEVENT
DTSTART;TZID=America/Detroit:20250806T120000
DTEND;TZID=America/Detroit:20250806T140000
DTSTAMP:20260419T091251
CREATED:20250610T144904Z
LAST-MODIFIED:20250612T233814Z
UID:17586-1754481600-1754488800@taylor.lib.mi.us
SUMMARY:Audio Described Movie Day
DESCRIPTION:Audio Described Movie Day\nPop in the 1st Wednesday of each month to watch a new\, popular film with the Audio Description (AD) narration track added. \n  \nAugust’s film: \nBorderlands
URL:https://taylor.lib.mi.us/event/audio-described-movie-day/
LOCATION:Trolley (North) Unity Room\, 12303 Pardee Road\, Taylor\, MI\, 48180\, United States
CATEGORIES:Adults
ORGANIZER;CN="Sarah Roe":MAILTO:sroe@cityoftaylormi.gov
END:VEVENT
BEGIN:VEVENT
DTSTART;TZID=America/Detroit:20250723T120000
DTEND;TZID=America/Detroit:20250723T130000
DTSTAMP:20260419T091251
CREATED:20250531T213706Z
LAST-MODIFIED:20250612T231030Z
UID:15555-1753272000-1753275600@taylor.lib.mi.us
SUMMARY:VIP Support Group
DESCRIPTION:VIP Support Group (Visually Impaired Persons)\nThe VIP meeting is a monthly support group for people experiencing vision loss and their caregivers. Each month\, we meet to discuss important topics and connect over shared concerns\, with occasional speakers. \nMeet in person or join in remotely. \nTo join remotely by phone\, please call 267-807-9601 and use Access Code: 965803\, or join virtually by visiting bit.ly/TCLbtbcall
URL:https://taylor.lib.mi.us/event/2025-07-23-2/
LOCATION:Trolley (North) Unity Room\, 12303 Pardee Road\, Taylor\, MI\, 48180\, United States
CATEGORIES:Adults
ORGANIZER;CN="Sarah Roe":MAILTO:sroe@cityoftaylormi.gov
END:VEVENT
END:VCALENDAR