BEGIN:VCALENDAR
VERSION:2.0
PRODID:-//Taylor Community Library - ECPv6.15.20//NONSGML v1.0//EN
CALSCALE:GREGORIAN
METHOD:PUBLISH
X-ORIGINAL-URL:https://taylor.lib.mi.us
X-WR-CALDESC:Events for Taylor Community Library
REFRESH-INTERVAL;VALUE=DURATION:PT1H
X-Robots-Tag:noindex
X-PUBLISHED-TTL:PT1H
BEGIN:VTIMEZONE
TZID:America/Detroit
BEGIN:DAYLIGHT
TZOFFSETFROM:-0500
TZOFFSETTO:-0400
TZNAME:EDT
DTSTART:20240310T070000
END:DAYLIGHT
BEGIN:STANDARD
TZOFFSETFROM:-0400
TZOFFSETTO:-0500
TZNAME:EST
DTSTART:20241103T060000
END:STANDARD
BEGIN:DAYLIGHT
TZOFFSETFROM:-0500
TZOFFSETTO:-0400
TZNAME:EDT
DTSTART:20250309T070000
END:DAYLIGHT
BEGIN:STANDARD
TZOFFSETFROM:-0400
TZOFFSETTO:-0500
TZNAME:EST
DTSTART:20251102T060000
END:STANDARD
BEGIN:DAYLIGHT
TZOFFSETFROM:-0500
TZOFFSETTO:-0400
TZNAME:EDT
DTSTART:20260308T070000
END:DAYLIGHT
BEGIN:STANDARD
TZOFFSETFROM:-0400
TZOFFSETTO:-0500
TZNAME:EST
DTSTART:20261101T060000
END:STANDARD
END:VTIMEZONE
BEGIN:VEVENT
DTSTART;TZID=America/Detroit:20251001T120000
DTEND;TZID=America/Detroit:20251001T140000
DTSTAMP:20260419T110145
CREATED:20250610T145459Z
LAST-MODIFIED:20250902T203429Z
UID:17601-1759320000-1759327200@taylor.lib.mi.us
SUMMARY:Audio Described Movie Day
DESCRIPTION:Audio Described Movie Day\nPop in the 1st Wednesday of each month to watch a new\, popular film with the Audio Description (AD) narration track added. \n  \nOctober’s film: \nThe Woman in the Yard
URL:https://taylor.lib.mi.us/event/2025-09-01-2025-10-01/
LOCATION:Trolley (North) Unity Room\, 12303 Pardee Road\, Taylor\, MI\, 48180\, United States
CATEGORIES:Adults
ORGANIZER;CN="Sarah Roe":MAILTO:sroe@cityoftaylormi.gov
END:VEVENT
BEGIN:VEVENT
DTSTART;VALUE=DATE:20251001
DTEND;VALUE=DATE:20251002
DTSTAMP:20260419T110145
CREATED:20250929T173313Z
LAST-MODIFIED:20250929T173313Z
UID:18906-1759276800-1759363199@taylor.lib.mi.us
SUMMARY:Fall Reading Challenge Begins
DESCRIPTION:Fall Reading Challenge Begins\nFor more information\, visit our Fall Reading Challenge page.
URL:https://taylor.lib.mi.us/event/fall-reading-challenge-begins/
LOCATION:Community Rooms (Papp & Trolley)\, 12303 Pardee Road\, Taylor\, MI\, 48180\, United States
CATEGORIES:Adults,Teens,Youth & Families
ORGANIZER;CN="Sarah Roe":MAILTO:sroe@cityoftaylormi.gov
END:VEVENT
BEGIN:VEVENT
DTSTART;TZID=America/Detroit:20250903T120000
DTEND;TZID=America/Detroit:20250903T140000
DTSTAMP:20260419T110145
CREATED:20250610T145141Z
LAST-MODIFIED:20250612T234715Z
UID:17600-1756900800-1756908000@taylor.lib.mi.us
SUMMARY:Audio Described Movie Day
DESCRIPTION:Audio Described Movie Day\nPop in the 1st Wednesday of each month to watch a new\, popular film with the Audio Description (AD) narration track added. \n  \nSeptember’s film: \nPaddington in Peru
URL:https://taylor.lib.mi.us/event/2025-09-01-2025-09-03/
LOCATION:Trolley (North) Unity Room\, 12303 Pardee Road\, Taylor\, MI\, 48180\, United States
CATEGORIES:Adults
ORGANIZER;CN="Sarah Roe":MAILTO:sroe@cityoftaylormi.gov
END:VEVENT
BEGIN:VEVENT
DTSTART;TZID=America/Detroit:20250827T120000
DTEND;TZID=America/Detroit:20250827T130000
DTSTAMP:20260419T110145
CREATED:20250531T213742Z
LAST-MODIFIED:20250612T234451Z
UID:15556-1756296000-1756299600@taylor.lib.mi.us
SUMMARY:VIP Support Group
DESCRIPTION:VIP Support Group (Visually Impaired Persons)\nThe VIP meeting is a monthly support group for people experiencing vision loss and their caregivers. Each month\, we meet to discuss important topics and connect over shared concerns\, with occasional speakers. \nMeet in person or join in remotely. \nTo join remotely by phone\, please call 267-807-9601 and use Access Code: 965803\, or join virtually by visiting bit.ly/TCLbtbcall
URL:https://taylor.lib.mi.us/event/2025-08-27/
LOCATION:Trolley (North) Unity Room\, 12303 Pardee Road\, Taylor\, MI\, 48180\, United States
CATEGORIES:Adults
ORGANIZER;CN="Sarah Roe":MAILTO:sroe@cityoftaylormi.gov
END:VEVENT
BEGIN:VEVENT
DTSTART;TZID=America/Detroit:20250813T120000
DTEND;TZID=America/Detroit:20250813T133000
DTSTAMP:20260419T110145
CREATED:20250531T210938Z
LAST-MODIFIED:20250612T233944Z
UID:16032-1755086400-1755091800@taylor.lib.mi.us
SUMMARY:Brown Bag Talking Book Discussion
DESCRIPTION:Brown Bag Talking Book Discussion\nThe group discusses two audiobooks each month. Listen to all\, one\, or even none… everyone is welcome! \nMeet in person or join in remotely. \nTo join remotely by phone\, please Call: 267-807-9601 and use Access Code: 965803\, or join virtually by visiting bit.ly/TCLbtbcall \n  \nTitles are voted on 3 months in advance. This month’s titles: \n  \nThe Woman in the Library by Sulari Gentill\nDB 110801\n9 hours\, 0 minutes. Suspense Fiction\, Mystery and Detective Stories.\n“The ornate reading room at the Boston Public Library is quiet—until the tranquility is shattered by a woman’s terrified scream. Security guards take charge immediately\, instructing everyone inside to stay put until the threat is identified and contained. While they wait for the all-clear\, four strangers\, who’d happened to sit at the same table\, pass the time in conversation\, and friendships are struck. Each has his or her own reasons for being in the reading room that morning—it just happens that one is a murderer. Award-winning author Sulari Gentill delivers a sharply thrilling listen with this unexpectedly twisty literary adventure that examines the complicated nature of friendship and reveals that words can be the most treacherous weapons of all.” — Provided by publisher. Unrated. Commercial audiobook. 2022. \n  \nTravels with Charley: In search of America by John Steinbeck\nDB 16094\n6 hours\, 10 minutes. Classics\, Travel.\nFeeling that as an American writer he has lost touch with his country\, the author sets out on a swing around the United States to see what it is really like. He travels in a trailer with ‘an old French gentleman poodle.’ Here is the leisurely account of what he saw\, whom he talked with\, and his conclusions\, hopeful and otherwise. 1960. \n  \n  \n  \nNew attendees: Please call the library or click on the covers above to place copies on hold. Or current BTB members can use the Talking Book Order Form to have copies sent on cartridge.
URL:https://taylor.lib.mi.us/event/2025-08-13/
LOCATION:Trolley (North) Unity Room\, 12303 Pardee Road\, Taylor\, MI\, 48180\, United States
CATEGORIES:Adults
ORGANIZER;CN="Sarah Roe":MAILTO:sroe@cityoftaylormi.gov
END:VEVENT
BEGIN:VEVENT
DTSTART;TZID=America/Detroit:20250806T120000
DTEND;TZID=America/Detroit:20250806T140000
DTSTAMP:20260419T110145
CREATED:20250610T144904Z
LAST-MODIFIED:20250612T233814Z
UID:17586-1754481600-1754488800@taylor.lib.mi.us
SUMMARY:Audio Described Movie Day
DESCRIPTION:Audio Described Movie Day\nPop in the 1st Wednesday of each month to watch a new\, popular film with the Audio Description (AD) narration track added. \n  \nAugust’s film: \nBorderlands
URL:https://taylor.lib.mi.us/event/audio-described-movie-day/
LOCATION:Trolley (North) Unity Room\, 12303 Pardee Road\, Taylor\, MI\, 48180\, United States
CATEGORIES:Adults
ORGANIZER;CN="Sarah Roe":MAILTO:sroe@cityoftaylormi.gov
END:VEVENT
BEGIN:VEVENT
DTSTART;TZID=America/Detroit:20250723T120000
DTEND;TZID=America/Detroit:20250723T130000
DTSTAMP:20260419T110145
CREATED:20250531T213706Z
LAST-MODIFIED:20250612T231030Z
UID:15555-1753272000-1753275600@taylor.lib.mi.us
SUMMARY:VIP Support Group
DESCRIPTION:VIP Support Group (Visually Impaired Persons)\nThe VIP meeting is a monthly support group for people experiencing vision loss and their caregivers. Each month\, we meet to discuss important topics and connect over shared concerns\, with occasional speakers. \nMeet in person or join in remotely. \nTo join remotely by phone\, please call 267-807-9601 and use Access Code: 965803\, or join virtually by visiting bit.ly/TCLbtbcall
URL:https://taylor.lib.mi.us/event/2025-07-23-2/
LOCATION:Trolley (North) Unity Room\, 12303 Pardee Road\, Taylor\, MI\, 48180\, United States
CATEGORIES:Adults
ORGANIZER;CN="Sarah Roe":MAILTO:sroe@cityoftaylormi.gov
END:VEVENT
END:VCALENDAR