BEGIN:VCALENDAR
VERSION:2.0
PRODID:-//Taylor Community Library - ECPv6.15.20//NONSGML v1.0//EN
CALSCALE:GREGORIAN
METHOD:PUBLISH
X-ORIGINAL-URL:https://taylor.lib.mi.us
X-WR-CALDESC:Events for Taylor Community Library
REFRESH-INTERVAL;VALUE=DURATION:PT1H
X-Robots-Tag:noindex
X-PUBLISHED-TTL:PT1H
BEGIN:VTIMEZONE
TZID:America/Detroit
BEGIN:DAYLIGHT
TZOFFSETFROM:-0500
TZOFFSETTO:-0400
TZNAME:EDT
DTSTART:20230312T070000
END:DAYLIGHT
BEGIN:STANDARD
TZOFFSETFROM:-0400
TZOFFSETTO:-0500
TZNAME:EST
DTSTART:20231105T060000
END:STANDARD
BEGIN:DAYLIGHT
TZOFFSETFROM:-0500
TZOFFSETTO:-0400
TZNAME:EDT
DTSTART:20240310T070000
END:DAYLIGHT
BEGIN:STANDARD
TZOFFSETFROM:-0400
TZOFFSETTO:-0500
TZNAME:EST
DTSTART:20241103T060000
END:STANDARD
BEGIN:DAYLIGHT
TZOFFSETFROM:-0500
TZOFFSETTO:-0400
TZNAME:EDT
DTSTART:20250309T070000
END:DAYLIGHT
BEGIN:STANDARD
TZOFFSETFROM:-0400
TZOFFSETTO:-0500
TZNAME:EST
DTSTART:20251102T060000
END:STANDARD
BEGIN:DAYLIGHT
TZOFFSETFROM:-0500
TZOFFSETTO:-0400
TZNAME:EDT
DTSTART:20260308T070000
END:DAYLIGHT
BEGIN:STANDARD
TZOFFSETFROM:-0400
TZOFFSETTO:-0500
TZNAME:EST
DTSTART:20261101T060000
END:STANDARD
END:VTIMEZONE
BEGIN:VEVENT
DTSTART;TZID=America/Detroit:20250605T160000
DTEND;TZID=America/Detroit:20250605T183000
DTSTAMP:20260424T150405
CREATED:20250415T193322Z
LAST-MODIFIED:20250520T193252Z
UID:16949-1749139200-1749148200@taylor.lib.mi.us
SUMMARY:Bug Out with Art in the Park
DESCRIPTION:Bug Out with Art in the Park\nJoin the Guidance Center in collaboration with the Taylor Community Library for our annual Art in the Park event with a Bugged-Out twist! This year we will have crafts and plenty of activities to soak up the early summer sun. Some activities include a live music & movement\, balloon animals\, face painting\, bubble play area\, bug catching kits\, a bug exhibit on wheels and more. We will also have free snacks\, water\, and ice cream while supplies last. This event is for families\, please register using the link below\, (walk-ins are welcome). \nwww.guidance-center.org/kids-art-in-the-park
URL:https://taylor.lib.mi.us/event/bug-out-with-art-in-the-park/
LOCATION:Sheridan Pavilion\, 12111 Pardee Road\, Taylor\, MI\, 48180\, United States
CATEGORIES:Teens,Youth & Families
ORGANIZER;CN="Jasmine Riehl":MAILTO:jriehl@cityoftaylormi.gov
END:VEVENT
BEGIN:VEVENT
DTSTART;TZID=America/Detroit:20240606T160000
DTEND;TZID=America/Detroit:20240606T183000
DTSTAMP:20260424T150405
CREATED:20240509T223817Z
LAST-MODIFIED:20240530T211746Z
UID:13570-1717689600-1717698600@taylor.lib.mi.us
SUMMARY:Art in the Park with the Guidance Center
DESCRIPTION:Art in the Park with The Guidance Center\nJoin The Taylor Community Library and The Guidance Center for a day of family fun and art in the park to welcome summer! At the Sheridan Center Open Air Pavilion inside Heritage Park there will be multiple different craft and activity stations\, hot dogs and chips\, and more! \nHotdogs\, chips\, and a drink will be provided along with goodie bags all while supplies last. \nRegister online (walk-ins welcome) at guidance-center.org/kids-art-in-the-park
URL:https://taylor.lib.mi.us/event/art-in-the-park-with-the-guidance-center/
LOCATION:Sheridan Pavilion\, 12111 Pardee Road\, Taylor\, MI\, 48180\, United States
CATEGORIES:Teens,Youth & Families
ORGANIZER;CN="Jasmine Riehl":MAILTO:jriehl@cityoftaylormi.gov
END:VEVENT
END:VCALENDAR