BEGIN:VCALENDAR
VERSION:2.0
PRODID:-//Taylor Community Library - ECPv6.15.20//NONSGML v1.0//EN
CALSCALE:GREGORIAN
METHOD:PUBLISH
X-ORIGINAL-URL:https://taylor.lib.mi.us
X-WR-CALDESC:Events for Taylor Community Library
REFRESH-INTERVAL;VALUE=DURATION:PT1H
X-Robots-Tag:noindex
X-PUBLISHED-TTL:PT1H
BEGIN:VTIMEZONE
TZID:America/Detroit
BEGIN:DAYLIGHT
TZOFFSETFROM:-0500
TZOFFSETTO:-0400
TZNAME:EDT
DTSTART:20230312T070000
END:DAYLIGHT
BEGIN:STANDARD
TZOFFSETFROM:-0400
TZOFFSETTO:-0500
TZNAME:EST
DTSTART:20231105T060000
END:STANDARD
BEGIN:DAYLIGHT
TZOFFSETFROM:-0500
TZOFFSETTO:-0400
TZNAME:EDT
DTSTART:20240310T070000
END:DAYLIGHT
BEGIN:STANDARD
TZOFFSETFROM:-0400
TZOFFSETTO:-0500
TZNAME:EST
DTSTART:20241103T060000
END:STANDARD
BEGIN:DAYLIGHT
TZOFFSETFROM:-0500
TZOFFSETTO:-0400
TZNAME:EDT
DTSTART:20250309T070000
END:DAYLIGHT
BEGIN:STANDARD
TZOFFSETFROM:-0400
TZOFFSETTO:-0500
TZNAME:EST
DTSTART:20251102T060000
END:STANDARD
BEGIN:DAYLIGHT
TZOFFSETFROM:-0500
TZOFFSETTO:-0400
TZNAME:EDT
DTSTART:20260308T070000
END:DAYLIGHT
BEGIN:STANDARD
TZOFFSETFROM:-0400
TZOFFSETTO:-0500
TZNAME:EST
DTSTART:20261101T060000
END:STANDARD
BEGIN:DAYLIGHT
TZOFFSETFROM:-0500
TZOFFSETTO:-0400
TZNAME:EDT
DTSTART:20270314T070000
END:DAYLIGHT
BEGIN:STANDARD
TZOFFSETFROM:-0400
TZOFFSETTO:-0500
TZNAME:EST
DTSTART:20271107T060000
END:STANDARD
END:VTIMEZONE
BEGIN:VEVENT
DTSTART;VALUE=DATE:20260403
DTEND;VALUE=DATE:20260404
DTSTAMP:20260420T175325
CREATED:20260223T195329Z
LAST-MODIFIED:20260223T195329Z
UID:19428-1775174400-1775260799@taylor.lib.mi.us
SUMMARY:LIBRARY CLOSED
DESCRIPTION:LIBRARY CLOSED
URL:https://taylor.lib.mi.us/event/library-closed-18/
LOCATION:Taylor Community Library\, 12303 Pardee Road\, Taylor\, MI\, 48180\, United States
CATEGORIES:Adults,Teens,Youth & Families
END:VEVENT
BEGIN:VEVENT
DTSTART;VALUE=DATE:20260216
DTEND;VALUE=DATE:20260217
DTSTAMP:20260420T175325
CREATED:20251121T171933Z
LAST-MODIFIED:20251121T171933Z
UID:19421-1771200000-1771286399@taylor.lib.mi.us
SUMMARY:LIBRARY CLOSED
DESCRIPTION:LIBRARY CLOSED
URL:https://taylor.lib.mi.us/event/library-closed-15/
LOCATION:Taylor Community Library\, 12303 Pardee Road\, Taylor\, MI\, 48180\, United States
CATEGORIES:Adults,Teens,Youth & Families
END:VEVENT
BEGIN:VEVENT
DTSTART;TZID=America/Detroit:20250829T100000
DTEND;TZID=America/Detroit:20250829T170000
DTSTAMP:20260420T175325
CREATED:20250710T225451Z
LAST-MODIFIED:20250710T225451Z
UID:18183-1756461600-1756486800@taylor.lib.mi.us
SUMMARY:Summer Reading Store Hours
DESCRIPTION:Summer Reading Store Hours\nStop in to spend the Taylor Library Bucks you earned through the Summer Reading Challenge at our store! Our store is only open on certain weekends: \n\nFriday\, July 25th & Saturday\, July 26th\nFriday\, August 22nd & Saturday\, August 23rd\nFriday\, August 29th & Saturday\, August 30th\n\nFor more information\, visit our Summer Reading Challenge page.
URL:https://taylor.lib.mi.us/event/summer-reading-store-hours-6/
LOCATION:Taylor Community Library\, 12303 Pardee Road\, Taylor\, MI\, 48180\, United States
CATEGORIES:Adults,Teens,Youth & Families
ORGANIZER;CN="Becky Price":MAILTO:bprice@cityoftaylormi.gov
END:VEVENT
BEGIN:VEVENT
DTSTART;TZID=America/Detroit:20250823T100000
DTEND;TZID=America/Detroit:20250823T170000
DTSTAMP:20260420T175325
CREATED:20250710T225438Z
LAST-MODIFIED:20250710T225438Z
UID:18182-1755943200-1755968400@taylor.lib.mi.us
SUMMARY:Summer Reading Store Hours
DESCRIPTION:Summer Reading Store Hours\nStop in to spend the Taylor Library Bucks you earned through the Summer Reading Challenge at our store! Our store is only open on certain weekends: \n\nFriday\, July 25th & Saturday\, July 26th\nFriday\, August 22nd & Saturday\, August 23rd\nFriday\, August 29th & Saturday\, August 30th\n\nFor more information\, visit our Summer Reading Challenge page.
URL:https://taylor.lib.mi.us/event/summer-reading-store-hours-5/
LOCATION:Taylor Community Library\, 12303 Pardee Road\, Taylor\, MI\, 48180\, United States
CATEGORIES:Adults,Teens,Youth & Families
ORGANIZER;CN="Becky Price":MAILTO:bprice@cityoftaylormi.gov
END:VEVENT
BEGIN:VEVENT
DTSTART;TZID=America/Detroit:20250822T101500
DTEND;TZID=America/Detroit:20250822T111500
DTSTAMP:20260420T175325
CREATED:20250606T162410Z
LAST-MODIFIED:20250820T141027Z
UID:17539-1755857700-1755861300@taylor.lib.mi.us
SUMMARY:Sports Sampler: Field Day
DESCRIPTION:Sports Sampler: Field Day\nDoes your child want to be in a sport\, but just can’t pick which one? Have a decision by the start of the school year by trying a new sport each week at our sport sampler program! This week we relaying racing and moving through an obstacle course for field day. We will host these events outside of the library either on the south side lawn or on the lawn behind the library. If the sport cannot be played inside and weather is not permitting we may have to cancel the event\, so monitor the website for the most current status. \nThis event is for kids\, tweens\, and teens.
URL:https://taylor.lib.mi.us/event/sports-sampler-soccer-2025-08-22/
LOCATION:Taylor Community Library\, 12303 Pardee Road\, Taylor\, MI\, 48180\, United States
CATEGORIES:Teens,Youth & Families
ORGANIZER;CN="Jasmine Riehl":MAILTO:jriehl@cityoftaylormi.gov
END:VEVENT
BEGIN:VEVENT
DTSTART;TZID=America/Detroit:20250822T100000
DTEND;TZID=America/Detroit:20250822T170000
DTSTAMP:20260420T175325
CREATED:20250710T225421Z
LAST-MODIFIED:20250710T225421Z
UID:18181-1755856800-1755882000@taylor.lib.mi.us
SUMMARY:Summer Reading Store Hours
DESCRIPTION:Summer Reading Store Hours\nStop in to spend the Taylor Library Bucks you earned through the Summer Reading Challenge at our store! Our store is only open on certain weekends: \n\nFriday\, July 25th & Saturday\, July 26th\nFriday\, August 22nd & Saturday\, August 23rd\nFriday\, August 29th & Saturday\, August 30th\n\nFor more information\, visit our Summer Reading Challenge page.
URL:https://taylor.lib.mi.us/event/summer-reading-store-hours-4/
LOCATION:Taylor Community Library\, 12303 Pardee Road\, Taylor\, MI\, 48180\, United States
CATEGORIES:Adults,Teens,Youth & Families
ORGANIZER;CN="Becky Price":MAILTO:bprice@cityoftaylormi.gov
END:VEVENT
BEGIN:VEVENT
DTSTART;TZID=America/Detroit:20250815T101500
DTEND;TZID=America/Detroit:20250815T111500
DTSTAMP:20260420T175325
CREATED:20250606T162410Z
LAST-MODIFIED:20250612T234021Z
UID:17538-1755252900-1755256500@taylor.lib.mi.us
SUMMARY:Sports Sampler: Track & Field
DESCRIPTION:Sports Sampler: Track & Field\nDoes your child want to be in a sport\, but just can’t pick which one? Have a decision by the start of the school year by trying a new sport each week at our sport sampler program! This week we are learning how to play track and field. We will host these events outside of the library either on the south side lawn or on the lawn behind the library. If the sport cannot be played inside and weather is not permitting we may have to cancel the event\, so monitor the website for the most current status. \nThis event is for kids\, tweens\, and teens.
URL:https://taylor.lib.mi.us/event/sports-sampler-soccer-2025-08-15/
LOCATION:Taylor Community Library\, 12303 Pardee Road\, Taylor\, MI\, 48180\, United States
CATEGORIES:Teens,Youth & Families
ORGANIZER;CN="Jasmine Riehl":MAILTO:jriehl@cityoftaylormi.gov
END:VEVENT
BEGIN:VEVENT
DTSTART;TZID=America/Detroit:20250808T101500
DTEND;TZID=America/Detroit:20250808T111500
DTSTAMP:20260420T175325
CREATED:20250606T162410Z
LAST-MODIFIED:20250612T233750Z
UID:17537-1754648100-1754651700@taylor.lib.mi.us
SUMMARY:Sports Sampler: Flag Football
DESCRIPTION:Sports Sampler: Flag Football\nDoes your child want to be in a sport\, but just can’t pick which one? Have a decision by the start of the school year by trying a new sport each week at our sport sampler program! This week we are learning how to play flag football. We will host these events outside of the library either on the south side lawn or on the lawn behind the library. If the sport cannot be played inside and weather is not permitting we may have to cancel the event\, so monitor the website for the most current status. \nThis event is for kids\, tweens\, and teens.
URL:https://taylor.lib.mi.us/event/sports-sampler-soccer-2025-08-08/
LOCATION:Taylor Community Library\, 12303 Pardee Road\, Taylor\, MI\, 48180\, United States
CATEGORIES:Teens,Youth & Families
ORGANIZER;CN="Jasmine Riehl":MAILTO:jriehl@cityoftaylormi.gov
END:VEVENT
BEGIN:VEVENT
DTSTART;TZID=America/Detroit:20250801T101500
DTEND;TZID=America/Detroit:20250801T111500
DTSTAMP:20260420T175325
CREATED:20250606T162410Z
LAST-MODIFIED:20250612T231308Z
UID:17536-1754043300-1754046900@taylor.lib.mi.us
SUMMARY:Sports Sampler: Boxing
DESCRIPTION:Sports Sampler: Boxing\nDoes your child want to be in a sport\, but just can’t pick which one? Have a decision by the start of the school year by trying a new sport each week at our sport sampler program! This week we are learning how to box. We will host these events outside of the library either on the south side lawn or on the lawn behind the library. If the sport cannot be played inside and weather is not permitting we may have to cancel the event\, so monitor the website for the most current status. \nThis event is for kids\, tweens\, and teens.
URL:https://taylor.lib.mi.us/event/sports-sampler-soccer-2025-08-01/
LOCATION:Taylor Community Library\, 12303 Pardee Road\, Taylor\, MI\, 48180\, United States
CATEGORIES:Teens,Youth & Families
ORGANIZER;CN="Jasmine Riehl":MAILTO:jriehl@cityoftaylormi.gov
END:VEVENT
BEGIN:VEVENT
DTSTART;TZID=America/Detroit:20250726T100000
DTEND;TZID=America/Detroit:20250726T170000
DTSTAMP:20260420T175325
CREATED:20250710T225308Z
LAST-MODIFIED:20250710T225308Z
UID:18178-1753524000-1753549200@taylor.lib.mi.us
SUMMARY:Summer Reading Store Hours
DESCRIPTION:Summer Reading Store Hours\nStop in to spend the Taylor Library Bucks you earned through the Summer Reading Challenge at our store! Our store is only open on certain weekends: \n\nFriday\, July 25th & Saturday\, July 26th\nFriday\, August 22nd & Saturday\, August 23rd\nFriday\, August 29th & Saturday\, August 30th\n\nFor more information\, visit our Summer Reading Challenge page.
URL:https://taylor.lib.mi.us/event/summer-reading-store-hours-3/
LOCATION:Taylor Community Library\, 12303 Pardee Road\, Taylor\, MI\, 48180\, United States
CATEGORIES:Adults,Teens,Youth & Families
ORGANIZER;CN="Becky Price":MAILTO:bprice@cityoftaylormi.gov
END:VEVENT
BEGIN:VEVENT
DTSTART;TZID=America/Detroit:20250725T101500
DTEND;TZID=America/Detroit:20250725T111500
DTSTAMP:20260420T175325
CREATED:20250606T162410Z
LAST-MODIFIED:20250612T231006Z
UID:17535-1753438500-1753442100@taylor.lib.mi.us
SUMMARY:Sports Sampler: Volleyball
DESCRIPTION:Sports Sampler: Volleyball\nDoes your child want to be in a sport\, but just can’t pick which one? Have a decision by the start of the school year by trying a new sport each week at our sport sampler program! This week we are learning how to play volleyball. We will host these events outside of the library either on the south side lawn or on the lawn behind the library. If the sport cannot be played inside and weather is not permitting we may have to cancel the event\, so monitor the website for the most current status. \nThis event is for kids\, tweens\, and teens.
URL:https://taylor.lib.mi.us/event/sports-sampler-soccer-2025-07-25/
LOCATION:Taylor Community Library\, 12303 Pardee Road\, Taylor\, MI\, 48180\, United States
CATEGORIES:Teens,Youth & Families
ORGANIZER;CN="Jasmine Riehl":MAILTO:jriehl@cityoftaylormi.gov
END:VEVENT
BEGIN:VEVENT
DTSTART;TZID=America/Detroit:20250725T100000
DTEND;TZID=America/Detroit:20250725T170000
DTSTAMP:20260420T175325
CREATED:20250710T225232Z
LAST-MODIFIED:20250710T225232Z
UID:18177-1753437600-1753462800@taylor.lib.mi.us
SUMMARY:Summer Reading Store Hours
DESCRIPTION:Summer Reading Store Hours\nStop in to spend the Taylor Library Bucks you earned through the Summer Reading Challenge at our store! Our store is only open on certain weekends: \n\nFriday\, July 25th & Saturday\, July 26th\nFriday\, August 22nd & Saturday\, August 23rd\nFriday\, August 29th & Saturday\, August 30th\n\nFor more information\, visit our Summer Reading Challenge page.
URL:https://taylor.lib.mi.us/event/summer-reading-store-hours-2/
LOCATION:Taylor Community Library\, 12303 Pardee Road\, Taylor\, MI\, 48180\, United States
CATEGORIES:Adults,Teens,Youth & Families
ORGANIZER;CN="Becky Price":MAILTO:bprice@cityoftaylormi.gov
END:VEVENT
BEGIN:VEVENT
DTSTART;TZID=America/Detroit:20250718T101500
DTEND;TZID=America/Detroit:20250718T111500
DTSTAMP:20260420T175325
CREATED:20250606T162410Z
LAST-MODIFIED:20250612T232337Z
UID:17534-1752833700-1752837300@taylor.lib.mi.us
SUMMARY:Sports Sampler: Soccer
DESCRIPTION:Sports Sampler: Soccer\nDoes your child want to be in a sport\, but just can’t pick which one? Have a decision by the start of the school year by trying a new sport each week at our sport sampler program! This week we are learning how to play soccer. We will host these events outside of the library either on the south side lawn or on the lawn behind the library. If the sport cannot be played inside and weather is not permitting we may have to cancel the event\, so monitor the website for the most current status. \nThis event is for kids\, tweens\, and teens.
URL:https://taylor.lib.mi.us/event/sports-sampler-soccer/
LOCATION:Taylor Community Library\, 12303 Pardee Road\, Taylor\, MI\, 48180\, United States
CATEGORIES:Teens,Youth & Families
ORGANIZER;CN="Jasmine Riehl":MAILTO:jriehl@cityoftaylormi.gov
END:VEVENT
BEGIN:VEVENT
DTSTART;TZID=America/Detroit:20250414T180000
DTEND;TZID=America/Detroit:20250414T190000
DTSTAMP:20260420T175325
CREATED:20221205T212808Z
LAST-MODIFIED:20250315T143638Z
UID:15452-1744653600-1744657200@taylor.lib.mi.us
SUMMARY:LEGO Club
DESCRIPTION:LEGO Club\nDo you love Legos? Join our Lego Club! Every Monday at 6 p.m. come in and start building.  Everyone is welcome to free build.  If you are up for it\, we will provide a challenge or theme for you to make something related to that week’s challenge or theme. We will display your creation for one week and will tear them apart at the next event. This event is open to kids\, tweens\, teens\, and parents. No registration is required\, just stop in and build!
URL:https://taylor.lib.mi.us/event/lego-club-2-2023-03-06-2023-07-03-2023-10-02-2024-09-09-2025-01-06-2025-04-14/
LOCATION:Taylor Community Library\, 12303 Pardee Road\, Taylor\, MI\, 48180\, United States
CATEGORIES:Teens,Youth & Families
ORGANIZER;CN="Carolyn Somerville-Jones":MAILTO:csomerville@cityoftaylormi.gov
END:VEVENT
BEGIN:VEVENT
DTSTART;TZID=America/Detroit:20250407T180000
DTEND;TZID=America/Detroit:20250407T190000
DTSTAMP:20260420T175325
CREATED:20221205T212808Z
LAST-MODIFIED:20250315T143626Z
UID:14597-1744048800-1744052400@taylor.lib.mi.us
SUMMARY:LEGO Club
DESCRIPTION:LEGO Club\nDo you love Legos? Join our Lego Club! Every Monday at 6 p.m. come in and start building.  Everyone is welcome to free build.  If you are up for it\, we will provide a challenge or theme for you to make something related to that week’s challenge or theme. We will display your creation for one week and will tear them apart at the next event. This event is open to kids\, tweens\, teens\, and parents. No registration is required\, just stop in and build!
URL:https://taylor.lib.mi.us/event/lego-club-2-2023-03-06-2023-07-03-2023-10-02-2024-09-09-2025-04-07/
LOCATION:Taylor Community Library\, 12303 Pardee Road\, Taylor\, MI\, 48180\, United States
CATEGORIES:Teens,Youth & Families
ORGANIZER;CN="Carolyn Somerville-Jones":MAILTO:csomerville@cityoftaylormi.gov
END:VEVENT
BEGIN:VEVENT
DTSTART;TZID=America/Detroit:20250331T180000
DTEND;TZID=America/Detroit:20250331T190000
DTSTAMP:20260420T175325
CREATED:20221205T212808Z
LAST-MODIFIED:20241211T230733Z
UID:14596-1743444000-1743447600@taylor.lib.mi.us
SUMMARY:LEGO Club
DESCRIPTION:LEGO Club\nDo you love Legos? Join our Lego Club! Every Monday at 6 p.m. come in and start building.  Everyone is welcome to free build.  If you are up for it\, we will provide a challenge or theme for you to make something related to that week’s challenge or theme. We will display your creation for one week and will tear them apart at the next event. This event is open to kids\, tweens\, teens\, and parents. No registration is required\, just stop in and build!
URL:https://taylor.lib.mi.us/event/lego-club-2-2023-03-06-2023-07-03-2023-10-02-2024-09-09-2025-03-31/
LOCATION:Taylor Community Library\, 12303 Pardee Road\, Taylor\, MI\, 48180\, United States
CATEGORIES:Teens,Youth & Families
END:VEVENT
BEGIN:VEVENT
DTSTART;TZID=America/Detroit:20250324T180000
DTEND;TZID=America/Detroit:20250324T190000
DTSTAMP:20260420T175325
CREATED:20221205T212808Z
LAST-MODIFIED:20241211T230723Z
UID:14595-1742839200-1742842800@taylor.lib.mi.us
SUMMARY:LEGO Club
DESCRIPTION:LEGO Club\nDo you love Legos? Join our Lego Club! Every Monday at 6 p.m. come in and start building.  Everyone is welcome to free build.  If you are up for it\, we will provide a challenge or theme for you to make something related to that week’s challenge or theme. We will display your creation for one week and will tear them apart at the next event. This event is open to kids\, tweens\, teens\, and parents. No registration is required\, just stop in and build!
URL:https://taylor.lib.mi.us/event/lego-club-2-2023-03-06-2023-07-03-2023-10-02-2024-09-09-2025-03-24/
LOCATION:Taylor Community Library\, 12303 Pardee Road\, Taylor\, MI\, 48180\, United States
CATEGORIES:Teens,Youth & Families
END:VEVENT
BEGIN:VEVENT
DTSTART;TZID=America/Detroit:20250317T180000
DTEND;TZID=America/Detroit:20250317T190000
DTSTAMP:20260420T175325
CREATED:20221205T212808Z
LAST-MODIFIED:20241211T230718Z
UID:14594-1742234400-1742238000@taylor.lib.mi.us
SUMMARY:LEGO Club
DESCRIPTION:LEGO Club\nDo you love Legos? Join our Lego Club! Every Monday at 6 p.m. come in and start building.  Everyone is welcome to free build.  If you are up for it\, we will provide a challenge or theme for you to make something related to that week’s challenge or theme. We will display your creation for one week and will tear them apart at the next event. This event is open to kids\, tweens\, teens\, and parents. No registration is required\, just stop in and build!
URL:https://taylor.lib.mi.us/event/lego-club-2-2023-03-06-2023-07-03-2023-10-02-2024-09-09-2025-03-17/
LOCATION:Taylor Community Library\, 12303 Pardee Road\, Taylor\, MI\, 48180\, United States
CATEGORIES:Teens,Youth & Families
END:VEVENT
BEGIN:VEVENT
DTSTART;TZID=America/Detroit:20250310T180000
DTEND;TZID=America/Detroit:20250310T190000
DTSTAMP:20260420T175325
CREATED:20221205T212808Z
LAST-MODIFIED:20241211T230810Z
UID:14593-1741629600-1741633200@taylor.lib.mi.us
SUMMARY:LEGO Club
DESCRIPTION:LEGO Club\nDo you love Legos? Join our Lego Club! Every Monday at 6 p.m. come in and start building.  Everyone is welcome to free build.  If you are up for it\, we will provide a challenge or theme for you to make something related to that week’s challenge or theme. We will display your creation for one week and will tear them apart at the next event. This event is open to kids\, tweens\, teens\, and parents. No registration is required\, just stop in and build!
URL:https://taylor.lib.mi.us/event/lego-club-2-2023-03-06-2023-07-03-2023-10-02-2024-09-09-2025-03-10/
LOCATION:Taylor Community Library\, 12303 Pardee Road\, Taylor\, MI\, 48180\, United States
CATEGORIES:Teens,Youth & Families
END:VEVENT
BEGIN:VEVENT
DTSTART;TZID=America/Detroit:20250303T180000
DTEND;TZID=America/Detroit:20250303T190000
DTSTAMP:20260420T175325
CREATED:20221205T212808Z
LAST-MODIFIED:20241211T230806Z
UID:14592-1741024800-1741028400@taylor.lib.mi.us
SUMMARY:LEGO Club
DESCRIPTION:LEGO Club\nDo you love Legos? Join our Lego Club! Every Monday at 6 p.m. come in and start building.  Everyone is welcome to free build.  If you are up for it\, we will provide a challenge or theme for you to make something related to that week’s challenge or theme. We will display your creation for one week and will tear them apart at the next event. This event is open to kids\, tweens\, teens\, and parents. No registration is required\, just stop in and build!
URL:https://taylor.lib.mi.us/event/lego-club-2-2023-03-06-2023-07-03-2023-10-02-2024-09-09-2025-03-03/
LOCATION:Taylor Community Library\, 12303 Pardee Road\, Taylor\, MI\, 48180\, United States
CATEGORIES:Teens,Youth & Families
END:VEVENT
BEGIN:VEVENT
DTSTART;TZID=America/Detroit:20250224T180000
DTEND;TZID=America/Detroit:20250224T190000
DTSTAMP:20260420T175325
CREATED:20221205T212808Z
LAST-MODIFIED:20241211T225322Z
UID:14591-1740420000-1740423600@taylor.lib.mi.us
SUMMARY:LEGO Club
DESCRIPTION:LEGO Club\nDo you love Legos? Join our Lego Club! Every Monday at 6 p.m. come in and start building.  Everyone is welcome to free build.  If you are up for it\, we will provide a challenge or theme for you to make something related to that week’s challenge or theme. We will display your creation for one week and will tear them apart at the next event. This event is open to kids\, tweens\, teens\, and parents. No registration is required\, just stop in and build!
URL:https://taylor.lib.mi.us/event/lego-club-2-2023-03-06-2023-07-03-2023-10-02-2024-09-09-2025-02-24/
LOCATION:Taylor Community Library\, 12303 Pardee Road\, Taylor\, MI\, 48180\, United States
CATEGORIES:Teens,Youth & Families
END:VEVENT
BEGIN:VEVENT
DTSTART;TZID=America/Detroit:20250210T180000
DTEND;TZID=America/Detroit:20250210T190000
DTSTAMP:20260420T175325
CREATED:20221205T212808Z
LAST-MODIFIED:20241211T225315Z
UID:14589-1739210400-1739214000@taylor.lib.mi.us
SUMMARY:LEGO Club
DESCRIPTION:LEGO Club\nDo you love Legos? Join our Lego Club! Every Monday at 6 p.m. come in and start building.  Everyone is welcome to free build.  If you are up for it\, we will provide a challenge or theme for you to make something related to that week’s challenge or theme. We will display your creation for one week and will tear them apart at the next event. This event is open to kids\, tweens\, teens\, and parents. No registration is required\, just stop in and build!
URL:https://taylor.lib.mi.us/event/lego-club-2-2023-03-06-2023-07-03-2023-10-02-2024-09-09-2025-02-10/
LOCATION:Taylor Community Library\, 12303 Pardee Road\, Taylor\, MI\, 48180\, United States
CATEGORIES:Teens,Youth & Families
END:VEVENT
BEGIN:VEVENT
DTSTART;TZID=America/Detroit:20250203T180000
DTEND;TZID=America/Detroit:20250203T190000
DTSTAMP:20260420T175325
CREATED:20221205T212808Z
LAST-MODIFIED:20241211T225307Z
UID:14588-1738605600-1738609200@taylor.lib.mi.us
SUMMARY:LEGO Club
DESCRIPTION:LEGO Club\nDo you love Legos? Join our Lego Club! Every Monday at 6 p.m. come in and start building.  Everyone is welcome to free build.  If you are up for it\, we will provide a challenge or theme for you to make something related to that week’s challenge or theme. We will display your creation for one week and will tear them apart at the next event. This event is open to kids\, tweens\, teens\, and parents. No registration is required\, just stop in and build!
URL:https://taylor.lib.mi.us/event/lego-club-2-2023-03-06-2023-07-03-2023-10-02-2024-09-09-2025-02-03/
LOCATION:Taylor Community Library\, 12303 Pardee Road\, Taylor\, MI\, 48180\, United States
CATEGORIES:Teens,Youth & Families
END:VEVENT
BEGIN:VEVENT
DTSTART;TZID=America/Detroit:20250106T180000
DTEND;TZID=America/Detroit:20250106T190000
DTSTAMP:20260420T175325
CREATED:20221205T212808Z
LAST-MODIFIED:20241211T214811Z
UID:14584-1736186400-1736190000@taylor.lib.mi.us
SUMMARY:LEGO Club
DESCRIPTION:LEGO Club\nDo you love Legos? Join our Lego Club! Every Monday at 6 p.m. come in and start building.  Everyone is welcome to free build.  If you are up for it\, we will provide a challenge or theme for you to make something related to that week’s challenge or theme. We will display your creation for one week and will tear them apart at the next event. This event is open to kids\, tweens\, teens\, and parents. No registration is required\, just stop in and build!
URL:https://taylor.lib.mi.us/event/lego-club-2-2023-03-06-2023-07-03-2023-10-02-2024-09-09-2025-01-06/
LOCATION:Taylor Community Library\, 12303 Pardee Road\, Taylor\, MI\, 48180\, United States
CATEGORIES:Teens,Youth & Families
END:VEVENT
BEGIN:VEVENT
DTSTART;VALUE=DATE:20241231
DTEND;VALUE=DATE:20250102
DTSTAMP:20260420T175325
CREATED:20240910T225021Z
LAST-MODIFIED:20240910T225021Z
UID:12500-1735603200-1735775999@taylor.lib.mi.us
SUMMARY:LIBRARY CLOSED
DESCRIPTION:LIBRARY CLOSED
URL:https://taylor.lib.mi.us/event/library-closed-43/
LOCATION:Taylor Community Library\, 12303 Pardee Road\, Taylor\, MI\, 48180\, United States
CATEGORIES:Adults,Teens,Youth & Families
END:VEVENT
BEGIN:VEVENT
DTSTART;VALUE=DATE:20241224
DTEND;VALUE=DATE:20241226
DTSTAMP:20260420T175325
CREATED:20240910T225017Z
LAST-MODIFIED:20240910T225017Z
UID:12498-1734998400-1735171199@taylor.lib.mi.us
SUMMARY:LIBRARY CLOSED
DESCRIPTION:LIBRARY CLOSED
URL:https://taylor.lib.mi.us/event/library-closed-42/
LOCATION:Taylor Community Library\, 12303 Pardee Road\, Taylor\, MI\, 48180\, United States
CATEGORIES:Adults,Teens,Youth & Families
END:VEVENT
BEGIN:VEVENT
DTSTART;TZID=America/Detroit:20241216T180000
DTEND;TZID=America/Detroit:20241216T190000
DTSTAMP:20260420T175325
CREATED:20221205T212808Z
LAST-MODIFIED:20240910T224944Z
UID:14581-1734372000-1734375600@taylor.lib.mi.us
SUMMARY:LEGO Club
DESCRIPTION:LEGO Club\nDo you love Legos? Join our Lego Club! Every Monday at 6 p.m. come in and start building.  Everyone is welcome to free build.  If you are up for it\, we will provide a challenge or theme for you to make something related to that week’s challenge or theme. We will display your creation for one week and will tear them apart at the next event. This event is open to kids\, tweens\, teens\, and parents. No registration is required\, just stop in and build!
URL:https://taylor.lib.mi.us/event/lego-club-2-2023-03-06-2023-07-03-2023-10-02-2024-09-09-2024-12-16/
LOCATION:Taylor Community Library\, 12303 Pardee Road\, Taylor\, MI\, 48180\, United States
CATEGORIES:Teens,Youth & Families
END:VEVENT
BEGIN:VEVENT
DTSTART;TZID=America/Detroit:20241209T180000
DTEND;TZID=America/Detroit:20241209T190000
DTSTAMP:20260420T175325
CREATED:20221205T212808Z
LAST-MODIFIED:20240910T224940Z
UID:14580-1733767200-1733770800@taylor.lib.mi.us
SUMMARY:LEGO Club
DESCRIPTION:LEGO Club\nDo you love Legos? Join our Lego Club! Every Monday at 6 p.m. come in and start building.  Everyone is welcome to free build.  If you are up for it\, we will provide a challenge or theme for you to make something related to that week’s challenge or theme. We will display your creation for one week and will tear them apart at the next event. This event is open to kids\, tweens\, teens\, and parents. No registration is required\, just stop in and build!
URL:https://taylor.lib.mi.us/event/lego-club-2-2023-03-06-2023-07-03-2023-10-02-2024-09-09-2024-12-09/
LOCATION:Taylor Community Library\, 12303 Pardee Road\, Taylor\, MI\, 48180\, United States
CATEGORIES:Teens,Youth & Families
END:VEVENT
BEGIN:VEVENT
DTSTART;VALUE=DATE:20241207
DTEND;VALUE=DATE:20241208
DTSTAMP:20260420T175325
CREATED:20240910T225315Z
LAST-MODIFIED:20240910T225315Z
UID:12496-1733529600-1733615999@taylor.lib.mi.us
SUMMARY:LIBRARY CLOSED
DESCRIPTION:LIBRARY CLOSED
URL:https://taylor.lib.mi.us/event/library-closed-44/
LOCATION:Taylor Community Library\, 12303 Pardee Road\, Taylor\, MI\, 48180\, United States
CATEGORIES:Adults,Teens,Youth & Families
END:VEVENT
BEGIN:VEVENT
DTSTART;TZID=America/Detroit:20241202T180000
DTEND;TZID=America/Detroit:20241202T190000
DTSTAMP:20260420T175325
CREATED:20221205T212808Z
LAST-MODIFIED:20240910T224932Z
UID:14579-1733162400-1733166000@taylor.lib.mi.us
SUMMARY:LEGO Club
DESCRIPTION:LEGO Club\nDo you love Legos? Join our Lego Club! Every Monday at 6 p.m. come in and start building.  Everyone is welcome to free build.  If you are up for it\, we will provide a challenge or theme for you to make something related to that week’s challenge or theme. We will display your creation for one week and will tear them apart at the next event. This event is open to kids\, tweens\, teens\, and parents. No registration is required\, just stop in and build!
URL:https://taylor.lib.mi.us/event/lego-club-2-2023-03-06-2023-07-03-2023-10-02-2024-09-09-2024-12-02/
LOCATION:Taylor Community Library\, 12303 Pardee Road\, Taylor\, MI\, 48180\, United States
CATEGORIES:Teens,Youth & Families
END:VEVENT
END:VCALENDAR