BEGIN:VCALENDAR
VERSION:2.0
PRODID:-//Taylor Community Library - ECPv6.15.20//NONSGML v1.0//EN
CALSCALE:GREGORIAN
METHOD:PUBLISH
X-ORIGINAL-URL:https://taylor.lib.mi.us
X-WR-CALDESC:Events for Taylor Community Library
REFRESH-INTERVAL;VALUE=DURATION:PT1H
X-Robots-Tag:noindex
X-PUBLISHED-TTL:PT1H
BEGIN:VTIMEZONE
TZID:America/Detroit
BEGIN:DAYLIGHT
TZOFFSETFROM:-0500
TZOFFSETTO:-0400
TZNAME:EDT
DTSTART:20230312T070000
END:DAYLIGHT
BEGIN:STANDARD
TZOFFSETFROM:-0400
TZOFFSETTO:-0500
TZNAME:EST
DTSTART:20231105T060000
END:STANDARD
BEGIN:DAYLIGHT
TZOFFSETFROM:-0500
TZOFFSETTO:-0400
TZNAME:EDT
DTSTART:20240310T070000
END:DAYLIGHT
BEGIN:STANDARD
TZOFFSETFROM:-0400
TZOFFSETTO:-0500
TZNAME:EST
DTSTART:20241103T060000
END:STANDARD
BEGIN:DAYLIGHT
TZOFFSETFROM:-0500
TZOFFSETTO:-0400
TZNAME:EDT
DTSTART:20250309T070000
END:DAYLIGHT
BEGIN:STANDARD
TZOFFSETFROM:-0400
TZOFFSETTO:-0500
TZNAME:EST
DTSTART:20251102T060000
END:STANDARD
BEGIN:DAYLIGHT
TZOFFSETFROM:-0500
TZOFFSETTO:-0400
TZNAME:EDT
DTSTART:20260308T070000
END:DAYLIGHT
BEGIN:STANDARD
TZOFFSETFROM:-0400
TZOFFSETTO:-0500
TZNAME:EST
DTSTART:20261101T060000
END:STANDARD
END:VTIMEZONE
BEGIN:VEVENT
DTSTART;VALUE=DATE:20241231
DTEND;VALUE=DATE:20250102
DTSTAMP:20260420T213649
CREATED:20240910T225021Z
LAST-MODIFIED:20240910T225021Z
UID:12500-1735603200-1735775999@taylor.lib.mi.us
SUMMARY:LIBRARY CLOSED
DESCRIPTION:LIBRARY CLOSED
URL:https://taylor.lib.mi.us/event/library-closed-43/
LOCATION:Taylor Community Library\, 12303 Pardee Road\, Taylor\, MI\, 48180\, United States
CATEGORIES:Adults,Teens,Youth & Families
END:VEVENT
BEGIN:VEVENT
DTSTART;VALUE=DATE:20241224
DTEND;VALUE=DATE:20241226
DTSTAMP:20260420T213649
CREATED:20240910T225017Z
LAST-MODIFIED:20240910T225017Z
UID:12498-1734998400-1735171199@taylor.lib.mi.us
SUMMARY:LIBRARY CLOSED
DESCRIPTION:LIBRARY CLOSED
URL:https://taylor.lib.mi.us/event/library-closed-42/
LOCATION:Taylor Community Library\, 12303 Pardee Road\, Taylor\, MI\, 48180\, United States
CATEGORIES:Adults,Teens,Youth & Families
END:VEVENT
BEGIN:VEVENT
DTSTART;TZID=America/Detroit:20241216T180000
DTEND;TZID=America/Detroit:20241216T190000
DTSTAMP:20260420T213649
CREATED:20221205T212808Z
LAST-MODIFIED:20240910T224944Z
UID:14581-1734372000-1734375600@taylor.lib.mi.us
SUMMARY:LEGO Club
DESCRIPTION:LEGO Club\nDo you love Legos? Join our Lego Club! Every Monday at 6 p.m. come in and start building.  Everyone is welcome to free build.  If you are up for it\, we will provide a challenge or theme for you to make something related to that week’s challenge or theme. We will display your creation for one week and will tear them apart at the next event. This event is open to kids\, tweens\, teens\, and parents. No registration is required\, just stop in and build!
URL:https://taylor.lib.mi.us/event/lego-club-2-2023-03-06-2023-07-03-2023-10-02-2024-09-09-2024-12-16/
LOCATION:Taylor Community Library\, 12303 Pardee Road\, Taylor\, MI\, 48180\, United States
CATEGORIES:Teens,Youth & Families
END:VEVENT
BEGIN:VEVENT
DTSTART;TZID=America/Detroit:20241209T180000
DTEND;TZID=America/Detroit:20241209T190000
DTSTAMP:20260420T213649
CREATED:20221205T212808Z
LAST-MODIFIED:20240910T224940Z
UID:14580-1733767200-1733770800@taylor.lib.mi.us
SUMMARY:LEGO Club
DESCRIPTION:LEGO Club\nDo you love Legos? Join our Lego Club! Every Monday at 6 p.m. come in and start building.  Everyone is welcome to free build.  If you are up for it\, we will provide a challenge or theme for you to make something related to that week’s challenge or theme. We will display your creation for one week and will tear them apart at the next event. This event is open to kids\, tweens\, teens\, and parents. No registration is required\, just stop in and build!
URL:https://taylor.lib.mi.us/event/lego-club-2-2023-03-06-2023-07-03-2023-10-02-2024-09-09-2024-12-09/
LOCATION:Taylor Community Library\, 12303 Pardee Road\, Taylor\, MI\, 48180\, United States
CATEGORIES:Teens,Youth & Families
END:VEVENT
BEGIN:VEVENT
DTSTART;VALUE=DATE:20241207
DTEND;VALUE=DATE:20241208
DTSTAMP:20260420T213649
CREATED:20240910T225315Z
LAST-MODIFIED:20240910T225315Z
UID:12496-1733529600-1733615999@taylor.lib.mi.us
SUMMARY:LIBRARY CLOSED
DESCRIPTION:LIBRARY CLOSED
URL:https://taylor.lib.mi.us/event/library-closed-44/
LOCATION:Taylor Community Library\, 12303 Pardee Road\, Taylor\, MI\, 48180\, United States
CATEGORIES:Adults,Teens,Youth & Families
END:VEVENT
BEGIN:VEVENT
DTSTART;TZID=America/Detroit:20241202T180000
DTEND;TZID=America/Detroit:20241202T190000
DTSTAMP:20260420T213649
CREATED:20221205T212808Z
LAST-MODIFIED:20240910T224932Z
UID:14579-1733162400-1733166000@taylor.lib.mi.us
SUMMARY:LEGO Club
DESCRIPTION:LEGO Club\nDo you love Legos? Join our Lego Club! Every Monday at 6 p.m. come in and start building.  Everyone is welcome to free build.  If you are up for it\, we will provide a challenge or theme for you to make something related to that week’s challenge or theme. We will display your creation for one week and will tear them apart at the next event. This event is open to kids\, tweens\, teens\, and parents. No registration is required\, just stop in and build!
URL:https://taylor.lib.mi.us/event/lego-club-2-2023-03-06-2023-07-03-2023-10-02-2024-09-09-2024-12-02/
LOCATION:Taylor Community Library\, 12303 Pardee Road\, Taylor\, MI\, 48180\, United States
CATEGORIES:Teens,Youth & Families
END:VEVENT
BEGIN:VEVENT
DTSTART;VALUE=DATE:20241128
DTEND;VALUE=DATE:20241130
DTSTAMP:20260420T213649
CREATED:20240910T224156Z
LAST-MODIFIED:20240910T224156Z
UID:12494-1732752000-1732924799@taylor.lib.mi.us
SUMMARY:LIBRARY CLOSED
DESCRIPTION:LIBRARY CLOSED
URL:https://taylor.lib.mi.us/event/library-closed-41/
LOCATION:Taylor Community Library\, 12303 Pardee Road\, Taylor\, MI\, 48180\, United States
CATEGORIES:Adults,Teens,Youth & Families
END:VEVENT
BEGIN:VEVENT
DTSTART;TZID=America/Detroit:20241125T180000
DTEND;TZID=America/Detroit:20241125T190000
DTSTAMP:20260420T213649
CREATED:20221205T212808Z
LAST-MODIFIED:20240907T203045Z
UID:14578-1732557600-1732561200@taylor.lib.mi.us
SUMMARY:LEGO Club
DESCRIPTION:LEGO Club\nDo you love Legos? Join our Lego Club! Every Monday at 6 p.m. come in and start building.  Everyone is welcome to free build.  If you are up for it\, we will provide a challenge or theme for you to make something related to that week’s challenge or theme. We will display your creation for one week and will tear them apart at the next event. This event is open to kids\, tweens\, teens\, and parents. No registration is required\, just stop in and build!
URL:https://taylor.lib.mi.us/event/lego-club-2-2023-03-06-2023-07-03-2023-10-02-2024-09-09-2024-11-25/
LOCATION:Taylor Community Library\, 12303 Pardee Road\, Taylor\, MI\, 48180\, United States
CATEGORIES:Teens,Youth & Families
END:VEVENT
BEGIN:VEVENT
DTSTART;TZID=America/Detroit:20241118T180000
DTEND;TZID=America/Detroit:20241118T190000
DTSTAMP:20260420T213649
CREATED:20221205T212808Z
LAST-MODIFIED:20240907T203015Z
UID:14577-1731952800-1731956400@taylor.lib.mi.us
SUMMARY:LEGO Club
DESCRIPTION:LEGO Club\nDo you love Legos? Join our Lego Club! Every Monday at 6 p.m. come in and start building.  Everyone is welcome to free build.  If you are up for it\, we will provide a challenge or theme for you to make something related to that week’s challenge or theme. We will display your creation for one week and will tear them apart at the next event. This event is open to kids\, tweens\, teens\, and parents. No registration is required\, just stop in and build!
URL:https://taylor.lib.mi.us/event/lego-club-2-2023-03-06-2023-07-03-2023-10-02-2024-09-09-2024-11-18/
LOCATION:Taylor Community Library\, 12303 Pardee Road\, Taylor\, MI\, 48180\, United States
CATEGORIES:Teens,Youth & Families
END:VEVENT
BEGIN:VEVENT
DTSTART;VALUE=DATE:20241111
DTEND;VALUE=DATE:20241112
DTSTAMP:20260420T213649
CREATED:20240907T203003Z
LAST-MODIFIED:20240907T203003Z
UID:12492-1731283200-1731369599@taylor.lib.mi.us
SUMMARY:LIBRARY CLOSED
DESCRIPTION:LIBRARY CLOSED
URL:https://taylor.lib.mi.us/event/library-closed-40/
LOCATION:Taylor Community Library\, 12303 Pardee Road\, Taylor\, MI\, 48180\, United States
CATEGORIES:Adults,Teens,Youth & Families
END:VEVENT
BEGIN:VEVENT
DTSTART;TZID=America/Detroit:20241104T180000
DTEND;TZID=America/Detroit:20241104T190000
DTSTAMP:20260420T213649
CREATED:20221205T212808Z
LAST-MODIFIED:20240907T202950Z
UID:14575-1730743200-1730746800@taylor.lib.mi.us
SUMMARY:LEGO Club
DESCRIPTION:LEGO Club\nDo you love Legos? Join our Lego Club! Every Monday at 6 p.m. come in and start building.  Everyone is welcome to free build.  If you are up for it\, we will provide a challenge or theme for you to make something related to that week’s challenge or theme. We will display your creation for one week and will tear them apart at the next event. This event is open to kids\, tweens\, teens\, and parents. No registration is required\, just stop in and build!
URL:https://taylor.lib.mi.us/event/lego-club-2-2023-03-06-2023-07-03-2023-10-02-2024-09-09-2024-11-04/
LOCATION:Taylor Community Library\, 12303 Pardee Road\, Taylor\, MI\, 48180\, United States
CATEGORIES:Teens,Youth & Families
END:VEVENT
BEGIN:VEVENT
DTSTART;TZID=America/Detroit:20241028T180000
DTEND;TZID=America/Detroit:20241028T190000
DTSTAMP:20260420T213649
CREATED:20221205T212808Z
LAST-MODIFIED:20240907T202651Z
UID:14574-1730138400-1730142000@taylor.lib.mi.us
SUMMARY:LEGO Club
DESCRIPTION:LEGO Club\nDo you love Legos? Join our Lego Club! Every Monday at 6 p.m. come in and start building.  Everyone is welcome to free build.  If you are up for it\, we will provide a challenge or theme for you to make something related to that week’s challenge or theme. We will display your creation for one week and will tear them apart at the next event. This event is open to kids\, tweens\, teens\, and parents. No registration is required\, just stop in and build!
URL:https://taylor.lib.mi.us/event/lego-club-2-2023-03-06-2023-07-03-2023-10-02-2024-09-09-2024-10-28/
LOCATION:Taylor Community Library\, 12303 Pardee Road\, Taylor\, MI\, 48180\, United States
CATEGORIES:Teens,Youth & Families
END:VEVENT
BEGIN:VEVENT
DTSTART;VALUE=DATE:20241025
DTEND;VALUE=DATE:20241026
DTSTAMP:20260420T213649
CREATED:20240907T202639Z
LAST-MODIFIED:20240907T202639Z
UID:12490-1729814400-1729900799@taylor.lib.mi.us
SUMMARY:LIBRARY CLOSED
DESCRIPTION:LIBRARY CLOSED
URL:https://taylor.lib.mi.us/event/library-closed-39/
LOCATION:Taylor Community Library\, 12303 Pardee Road\, Taylor\, MI\, 48180\, United States
CATEGORIES:Adults,Teens,Youth & Families
END:VEVENT
BEGIN:VEVENT
DTSTART;TZID=America/Detroit:20241021T180000
DTEND;TZID=America/Detroit:20241021T190000
DTSTAMP:20260420T213649
CREATED:20221205T212808Z
LAST-MODIFIED:20240907T202615Z
UID:14573-1729533600-1729537200@taylor.lib.mi.us
SUMMARY:LEGO Club
DESCRIPTION:LEGO Club\nDo you love Legos? Join our Lego Club! Every Monday at 6 p.m. come in and start building.  Everyone is welcome to free build.  If you are up for it\, we will provide a challenge or theme for you to make something related to that week’s challenge or theme. We will display your creation for one week and will tear them apart at the next event. This event is open to kids\, tweens\, teens\, and parents. No registration is required\, just stop in and build!
URL:https://taylor.lib.mi.us/event/lego-club-2-2023-03-06-2023-07-03-2023-10-02-2024-09-09-2024-10-21/
LOCATION:Taylor Community Library\, 12303 Pardee Road\, Taylor\, MI\, 48180\, United States
CATEGORIES:Teens,Youth & Families
END:VEVENT
BEGIN:VEVENT
DTSTART;TZID=America/Detroit:20241014T180000
DTEND;TZID=America/Detroit:20241014T190000
DTSTAMP:20260420T213649
CREATED:20221205T212808Z
LAST-MODIFIED:20240907T202544Z
UID:14572-1728928800-1728932400@taylor.lib.mi.us
SUMMARY:LEGO Club
DESCRIPTION:LEGO Club\nDo you love Legos? Join our Lego Club! Every Monday at 6 p.m. come in and start building.  Everyone is welcome to free build.  If you are up for it\, we will provide a challenge or theme for you to make something related to that week’s challenge or theme. We will display your creation for one week and will tear them apart at the next event. This event is open to kids\, tweens\, teens\, and parents. No registration is required\, just stop in and build!
URL:https://taylor.lib.mi.us/event/lego-club-2-2023-03-06-2023-07-03-2023-10-02-2024-09-09-2024-10-14/
LOCATION:Taylor Community Library\, 12303 Pardee Road\, Taylor\, MI\, 48180\, United States
CATEGORIES:Teens,Youth & Families
END:VEVENT
BEGIN:VEVENT
DTSTART;TZID=America/Detroit:20241007T180000
DTEND;TZID=America/Detroit:20241007T190000
DTSTAMP:20260420T213649
CREATED:20221205T212808Z
LAST-MODIFIED:20240907T202444Z
UID:14571-1728324000-1728327600@taylor.lib.mi.us
SUMMARY:LEGO Club
DESCRIPTION:LEGO Club\nDo you love Legos? Join our Lego Club! Every Monday at 6 p.m. come in and start building.  Everyone is welcome to free build.  If you are up for it\, we will provide a challenge or theme for you to make something related to that week’s challenge or theme. We will display your creation for one week and will tear them apart at the next event. This event is open to kids\, tweens\, teens\, and parents. No registration is required\, just stop in and build!
URL:https://taylor.lib.mi.us/event/lego-club-2-2023-03-06-2023-07-03-2023-10-02-2024-09-09-2024-10-07/
LOCATION:Taylor Community Library\, 12303 Pardee Road\, Taylor\, MI\, 48180\, United States
CATEGORIES:Teens,Youth & Families
END:VEVENT
BEGIN:VEVENT
DTSTART;TZID=America/Detroit:20240930T180000
DTEND;TZID=America/Detroit:20240930T190000
DTSTAMP:20260420T213649
CREATED:20221205T212808Z
LAST-MODIFIED:20240701T201148Z
UID:14570-1727719200-1727722800@taylor.lib.mi.us
SUMMARY:LEGO Club
DESCRIPTION:LEGO Club\nDo you love Legos? Join our Lego Club! Every Monday at 6 p.m. come in and start building.  Everyone is welcome to free build.  If you are up for it\, we will provide a challenge or theme for you to make something related to that week’s challenge or theme. We will display your creation for one week and will tear them apart at the next event. This event is open to kids\, tweens\, teens\, and parents. No registration is required\, just stop in and build!
URL:https://taylor.lib.mi.us/event/lego-club-2-2023-03-06-2023-07-03-2023-10-02-2024-09-09-2024-09-30/
LOCATION:Taylor Community Library\, 12303 Pardee Road\, Taylor\, MI\, 48180\, United States
CATEGORIES:Teens,Youth & Families
END:VEVENT
BEGIN:VEVENT
DTSTART;TZID=America/Detroit:20240923T180000
DTEND;TZID=America/Detroit:20240923T190000
DTSTAMP:20260420T213649
CREATED:20221205T212808Z
LAST-MODIFIED:20240701T201144Z
UID:14569-1727114400-1727118000@taylor.lib.mi.us
SUMMARY:LEGO Club
DESCRIPTION:LEGO Club\nDo you love Legos? Join our Lego Club! Every Monday at 6 p.m. come in and start building.  Everyone is welcome to free build.  If you are up for it\, we will provide a challenge or theme for you to make something related to that week’s challenge or theme. We will display your creation for one week and will tear them apart at the next event. This event is open to kids\, tweens\, teens\, and parents. No registration is required\, just stop in and build!
URL:https://taylor.lib.mi.us/event/lego-club-2-2023-03-06-2023-07-03-2023-10-02-2024-09-09-2024-09-23/
LOCATION:Taylor Community Library\, 12303 Pardee Road\, Taylor\, MI\, 48180\, United States
CATEGORIES:Teens,Youth & Families
END:VEVENT
BEGIN:VEVENT
DTSTART;TZID=America/Detroit:20240916T180000
DTEND;TZID=America/Detroit:20240916T190000
DTSTAMP:20260420T213649
CREATED:20221205T212808Z
LAST-MODIFIED:20240701T201139Z
UID:14568-1726509600-1726513200@taylor.lib.mi.us
SUMMARY:LEGO Club
DESCRIPTION:LEGO Club\nDo you love Legos? Join our Lego Club! Every Monday at 6 p.m. come in and start building.  Everyone is welcome to free build.  If you are up for it\, we will provide a challenge or theme for you to make something related to that week’s challenge or theme. We will display your creation for one week and will tear them apart at the next event. This event is open to kids\, tweens\, teens\, and parents. No registration is required\, just stop in and build!
URL:https://taylor.lib.mi.us/event/lego-club-2-2023-03-06-2023-07-03-2023-10-02-2024-09-09-2024-09-16/
LOCATION:Taylor Community Library\, 12303 Pardee Road\, Taylor\, MI\, 48180\, United States
CATEGORIES:Teens,Youth & Families
END:VEVENT
BEGIN:VEVENT
DTSTART;TZID=America/Detroit:20240909T180000
DTEND;TZID=America/Detroit:20240909T190000
DTSTAMP:20260420T213649
CREATED:20221205T212808Z
LAST-MODIFIED:20240701T201126Z
UID:12592-1725904800-1725908400@taylor.lib.mi.us
SUMMARY:LEGO Club
DESCRIPTION:LEGO Club\nDo you love Legos? Join our Lego Club! Every Monday at 6 p.m. come in and start building.  Everyone is welcome to free build.  If you are up for it\, we will provide a challenge or theme for you to make something related to that week’s challenge or theme. We will display your creation for one week and will tear them apart at the next event. This event is open to kids\, tweens\, teens\, and parents. No registration is required\, just stop in and build!
URL:https://taylor.lib.mi.us/event/lego-club-2-2023-03-06-2023-07-03-2023-10-02-2024-09-09/
LOCATION:Taylor Community Library\, 12303 Pardee Road\, Taylor\, MI\, 48180\, United States
CATEGORIES:Teens,Youth & Families
END:VEVENT
BEGIN:VEVENT
DTSTART;VALUE=DATE:20240902
DTEND;VALUE=DATE:20240903
DTSTAMP:20260420T213649
CREATED:20240607T184913Z
LAST-MODIFIED:20240607T184913Z
UID:12488-1725235200-1725321599@taylor.lib.mi.us
SUMMARY:LIBRARY CLOSED
DESCRIPTION:LIBRARY CLOSED
URL:https://taylor.lib.mi.us/event/library-closed-38/
LOCATION:Taylor Community Library\, 12303 Pardee Road\, Taylor\, MI\, 48180\, United States
CATEGORIES:Adults,Teens,Youth & Families
END:VEVENT
BEGIN:VEVENT
DTSTART;TZID=America/Detroit:20240829T130000
DTEND;TZID=America/Detroit:20240829T140000
DTSTAMP:20260420T213649
CREATED:20240607T155151Z
LAST-MODIFIED:20240713T161641Z
UID:14010-1724936400-1724940000@taylor.lib.mi.us
SUMMARY:TCL Digital Resources
DESCRIPTION:TCL Digital Resources\nThis class will introduce you to the digital resources available to patrons with a Taylor Community Library card. We will go over streaming services\, eBooks\, research databases\, genealogy sites and much more!
URL:https://taylor.lib.mi.us/event/tcl-digital-resources/
LOCATION:Taylor Community Library\, 12303 Pardee Road\, Taylor\, MI\, 48180\, United States
CATEGORIES:Adults
END:VEVENT
BEGIN:VEVENT
DTSTART;TZID=America/Detroit:20240826T180000
DTEND;TZID=America/Detroit:20240826T190000
DTSTAMP:20260420T213649
CREATED:20221205T212808Z
LAST-MODIFIED:20240607T153904Z
UID:12590-1724695200-1724698800@taylor.lib.mi.us
SUMMARY:LEGO Club
DESCRIPTION:LEGO Club\nDo you love Legos? Join our Lego Club! Every Monday at 6 p.m. come in and start building.  Everyone is welcome to free build.  If you are up for it\, we will provide a challenge or theme for you to make something related to that week’s challenge or theme. We will display your creation for one week and will tear them apart at the next event. This event is open to kids\, tweens\, teens\, and parents. No registration is required\, just stop in and build!
URL:https://taylor.lib.mi.us/event/lego-club-2-2023-03-06-2023-07-03-2023-10-02-2024-08-26/
LOCATION:Taylor Community Library\, 12303 Pardee Road\, Taylor\, MI\, 48180\, United States
CATEGORIES:Teens,Youth & Families
END:VEVENT
BEGIN:VEVENT
DTSTART;TZID=America/Detroit:20240822T130000
DTEND;TZID=America/Detroit:20240822T140000
DTSTAMP:20260420T213649
CREATED:20240607T155110Z
LAST-MODIFIED:20240819T152523Z
UID:14008-1724331600-1724335200@taylor.lib.mi.us
SUMMARY:CANCELLED - iPhone Basics
DESCRIPTION:CANCELLED – iPhone Basics\nYOU MUST HAVE A WORKING CELL PHONE WITH YOU FOR THIS CLASS. Class will focus on making phone calls\, storing contacts\, deleting contacts\, blocking unwanted calls\, and texting. \nClass size is limited to 8 participants on a first-come\, first-serve basis.
URL:https://taylor.lib.mi.us/event/iphone-basics-2/
LOCATION:Taylor Community Library\, 12303 Pardee Road\, Taylor\, MI\, 48180\, United States
CATEGORIES:Adults
END:VEVENT
BEGIN:VEVENT
DTSTART;TZID=America/Detroit:20240819T180000
DTEND;TZID=America/Detroit:20240819T190000
DTSTAMP:20260420T213649
CREATED:20221205T212808Z
LAST-MODIFIED:20240607T153852Z
UID:12589-1724090400-1724094000@taylor.lib.mi.us
SUMMARY:LEGO Club
DESCRIPTION:LEGO Club\nDo you love Legos? Join our Lego Club! Every Monday at 6 p.m. come in and start building.  Everyone is welcome to free build.  If you are up for it\, we will provide a challenge or theme for you to make something related to that week’s challenge or theme. We will display your creation for one week and will tear them apart at the next event. This event is open to kids\, tweens\, teens\, and parents. No registration is required\, just stop in and build!
URL:https://taylor.lib.mi.us/event/lego-club-2-2023-03-06-2023-07-03-2023-10-02-2024-08-19/
LOCATION:Taylor Community Library\, 12303 Pardee Road\, Taylor\, MI\, 48180\, United States
CATEGORIES:Teens,Youth & Families
END:VEVENT
BEGIN:VEVENT
DTSTART;TZID=America/Detroit:20240815T130000
DTEND;TZID=America/Detroit:20240815T140000
DTSTAMP:20260420T213649
CREATED:20240607T155037Z
LAST-MODIFIED:20240607T155037Z
UID:14006-1723726800-1723730400@taylor.lib.mi.us
SUMMARY:Android Basics
DESCRIPTION:Android Basics\nYOU MUST HAVE A WORKING CELL PHONE WITH YOU FOR THIS CLASS. Class will focus on making phone calls\, storing contacts\, deleting contacts\, blocking unwanted calls\, and texting. \nClass size is limited to 8 participants on a first-come\, first-serve basis.
URL:https://taylor.lib.mi.us/event/android-basics-2/
LOCATION:Taylor Community Library\, 12303 Pardee Road\, Taylor\, MI\, 48180\, United States
CATEGORIES:Adults
END:VEVENT
BEGIN:VEVENT
DTSTART;TZID=America/Detroit:20240812T180000
DTEND;TZID=America/Detroit:20240812T190000
DTSTAMP:20260420T213649
CREATED:20221205T212808Z
LAST-MODIFIED:20240607T153843Z
UID:12588-1723485600-1723489200@taylor.lib.mi.us
SUMMARY:LEGO Club
DESCRIPTION:LEGO Club\nDo you love Legos? Join our Lego Club! Every Monday at 6 p.m. come in and start building.  Everyone is welcome to free build.  If you are up for it\, we will provide a challenge or theme for you to make something related to that week’s challenge or theme. We will display your creation for one week and will tear them apart at the next event. This event is open to kids\, tweens\, teens\, and parents. No registration is required\, just stop in and build!
URL:https://taylor.lib.mi.us/event/lego-club-2-2023-03-06-2023-07-03-2023-10-02-2024-08-12/
LOCATION:Taylor Community Library\, 12303 Pardee Road\, Taylor\, MI\, 48180\, United States
CATEGORIES:Teens,Youth & Families
END:VEVENT
BEGIN:VEVENT
DTSTART;TZID=America/Detroit:20240808T150000
DTEND;TZID=America/Detroit:20240808T154500
DTSTAMP:20260420T213649
CREATED:20240607T161739Z
LAST-MODIFIED:20240717T164238Z
UID:14207-1723129200-1723131900@taylor.lib.mi.us
SUMMARY:Cameron Zvara - Comedy Magician and Entertainer
DESCRIPTION:Cameron Zvara Magic Show\nJoin us for an afternoon of FUN with Comedy Magician & Entertainer- Cameron Zvara! Cameron‘s show is filled with mind-blowing magic\, comedy\, juggling\, music\, and TONS of audience participation. You do not want to miss out! \nThis event will be on the youth side of the library and is open to families and all ages.
URL:https://taylor.lib.mi.us/event/cameron-zvara-comedy-magician-and-entertainer/
LOCATION:Taylor Community Library\, 12303 Pardee Road\, Taylor\, MI\, 48180\, United States
CATEGORIES:Teens,Youth & Families
ORGANIZER;CN="Jasmine Riehl":MAILTO:jriehl@cityoftaylormi.gov
END:VEVENT
BEGIN:VEVENT
DTSTART;TZID=America/Detroit:20240808T130000
DTEND;TZID=America/Detroit:20240808T140000
DTSTAMP:20260420T213649
CREATED:20240607T155018Z
LAST-MODIFIED:20240607T155018Z
UID:14004-1723122000-1723125600@taylor.lib.mi.us
SUMMARY:Word for Beginners
DESCRIPTION:Word for Beginners\nThis class will focus on using Microsoft Office Word to create letters and documents. You will learn how to create\, edit and format documents\, as well as learn how to insert images\, and check for grammar and spelling errors. You must be able to type at least 20 words per minute to take this class. \nClass size is limited to 8 participants on a first-come\, first-serve basis.
URL:https://taylor.lib.mi.us/event/word-for-beginners-5/
LOCATION:Taylor Community Library\, 12303 Pardee Road\, Taylor\, MI\, 48180\, United States
CATEGORIES:Adults
END:VEVENT
BEGIN:VEVENT
DTSTART;TZID=America/Detroit:20240805T180000
DTEND;TZID=America/Detroit:20240805T190000
DTSTAMP:20260420T213649
CREATED:20221205T212808Z
LAST-MODIFIED:20240607T153815Z
UID:12587-1722880800-1722884400@taylor.lib.mi.us
SUMMARY:LEGO Club
DESCRIPTION:LEGO Club\nDo you love Legos? Join our Lego Club! Every Monday at 6 p.m. come in and start building.  Everyone is welcome to free build.  If you are up for it\, we will provide a challenge or theme for you to make something related to that week’s challenge or theme. We will display your creation for one week and will tear them apart at the next event. This event is open to kids\, tweens\, teens\, and parents. No registration is required\, just stop in and build!
URL:https://taylor.lib.mi.us/event/lego-club-2-2023-03-06-2023-07-03-2023-10-02-2024-08-05/
LOCATION:Taylor Community Library\, 12303 Pardee Road\, Taylor\, MI\, 48180\, United States
CATEGORIES:Teens,Youth & Families
END:VEVENT
END:VCALENDAR