BEGIN:VCALENDAR
VERSION:2.0
PRODID:-//Taylor Community Library - ECPv6.15.20//NONSGML v1.0//EN
CALSCALE:GREGORIAN
METHOD:PUBLISH
X-WR-CALNAME:Taylor Community Library
X-ORIGINAL-URL:https://taylor.lib.mi.us
X-WR-CALDESC:Events for Taylor Community Library
REFRESH-INTERVAL;VALUE=DURATION:PT1H
X-Robots-Tag:noindex
X-PUBLISHED-TTL:PT1H
BEGIN:VTIMEZONE
TZID:America/Detroit
BEGIN:DAYLIGHT
TZOFFSETFROM:-0500
TZOFFSETTO:-0400
TZNAME:EDT
DTSTART:20230312T070000
END:DAYLIGHT
BEGIN:STANDARD
TZOFFSETFROM:-0400
TZOFFSETTO:-0500
TZNAME:EST
DTSTART:20231105T060000
END:STANDARD
BEGIN:DAYLIGHT
TZOFFSETFROM:-0500
TZOFFSETTO:-0400
TZNAME:EDT
DTSTART:20240310T070000
END:DAYLIGHT
BEGIN:STANDARD
TZOFFSETFROM:-0400
TZOFFSETTO:-0500
TZNAME:EST
DTSTART:20241103T060000
END:STANDARD
BEGIN:DAYLIGHT
TZOFFSETFROM:-0500
TZOFFSETTO:-0400
TZNAME:EDT
DTSTART:20250309T070000
END:DAYLIGHT
BEGIN:STANDARD
TZOFFSETFROM:-0400
TZOFFSETTO:-0500
TZNAME:EST
DTSTART:20251102T060000
END:STANDARD
END:VTIMEZONE
BEGIN:VEVENT
DTSTART;TZID=America/Detroit:20240819T180000
DTEND;TZID=America/Detroit:20240819T190000
DTSTAMP:20260421T012155
CREATED:20221205T212808Z
LAST-MODIFIED:20240607T153852Z
UID:12589-1724090400-1724094000@taylor.lib.mi.us
SUMMARY:LEGO Club
DESCRIPTION:LEGO Club\nDo you love Legos? Join our Lego Club! Every Monday at 6 p.m. come in and start building.  Everyone is welcome to free build.  If you are up for it\, we will provide a challenge or theme for you to make something related to that week’s challenge or theme. We will display your creation for one week and will tear them apart at the next event. This event is open to kids\, tweens\, teens\, and parents. No registration is required\, just stop in and build!
URL:https://taylor.lib.mi.us/event/lego-club-2-2023-03-06-2023-07-03-2023-10-02-2024-08-19/
LOCATION:Taylor Community Library\, 12303 Pardee Road\, Taylor\, MI\, 48180\, United States
CATEGORIES:Teens,Youth & Families
END:VEVENT
BEGIN:VEVENT
DTSTART;TZID=America/Detroit:20240815T130000
DTEND;TZID=America/Detroit:20240815T140000
DTSTAMP:20260421T012155
CREATED:20240607T155037Z
LAST-MODIFIED:20240607T155037Z
UID:14006-1723726800-1723730400@taylor.lib.mi.us
SUMMARY:Android Basics
DESCRIPTION:Android Basics\nYOU MUST HAVE A WORKING CELL PHONE WITH YOU FOR THIS CLASS. Class will focus on making phone calls\, storing contacts\, deleting contacts\, blocking unwanted calls\, and texting. \nClass size is limited to 8 participants on a first-come\, first-serve basis.
URL:https://taylor.lib.mi.us/event/android-basics-2/
LOCATION:Taylor Community Library\, 12303 Pardee Road\, Taylor\, MI\, 48180\, United States
CATEGORIES:Adults
END:VEVENT
BEGIN:VEVENT
DTSTART;TZID=America/Detroit:20240812T180000
DTEND;TZID=America/Detroit:20240812T190000
DTSTAMP:20260421T012155
CREATED:20221205T212808Z
LAST-MODIFIED:20240607T153843Z
UID:12588-1723485600-1723489200@taylor.lib.mi.us
SUMMARY:LEGO Club
DESCRIPTION:LEGO Club\nDo you love Legos? Join our Lego Club! Every Monday at 6 p.m. come in and start building.  Everyone is welcome to free build.  If you are up for it\, we will provide a challenge or theme for you to make something related to that week’s challenge or theme. We will display your creation for one week and will tear them apart at the next event. This event is open to kids\, tweens\, teens\, and parents. No registration is required\, just stop in and build!
URL:https://taylor.lib.mi.us/event/lego-club-2-2023-03-06-2023-07-03-2023-10-02-2024-08-12/
LOCATION:Taylor Community Library\, 12303 Pardee Road\, Taylor\, MI\, 48180\, United States
CATEGORIES:Teens,Youth & Families
END:VEVENT
BEGIN:VEVENT
DTSTART;TZID=America/Detroit:20240808T150000
DTEND;TZID=America/Detroit:20240808T154500
DTSTAMP:20260421T012155
CREATED:20240607T161739Z
LAST-MODIFIED:20240717T164238Z
UID:14207-1723129200-1723131900@taylor.lib.mi.us
SUMMARY:Cameron Zvara - Comedy Magician and Entertainer
DESCRIPTION:Cameron Zvara Magic Show\nJoin us for an afternoon of FUN with Comedy Magician & Entertainer- Cameron Zvara! Cameron‘s show is filled with mind-blowing magic\, comedy\, juggling\, music\, and TONS of audience participation. You do not want to miss out! \nThis event will be on the youth side of the library and is open to families and all ages.
URL:https://taylor.lib.mi.us/event/cameron-zvara-comedy-magician-and-entertainer/
LOCATION:Taylor Community Library\, 12303 Pardee Road\, Taylor\, MI\, 48180\, United States
CATEGORIES:Teens,Youth & Families
ORGANIZER;CN="Jasmine Riehl":MAILTO:jriehl@cityoftaylormi.gov
END:VEVENT
BEGIN:VEVENT
DTSTART;TZID=America/Detroit:20240808T130000
DTEND;TZID=America/Detroit:20240808T140000
DTSTAMP:20260421T012155
CREATED:20240607T155018Z
LAST-MODIFIED:20240607T155018Z
UID:14004-1723122000-1723125600@taylor.lib.mi.us
SUMMARY:Word for Beginners
DESCRIPTION:Word for Beginners\nThis class will focus on using Microsoft Office Word to create letters and documents. You will learn how to create\, edit and format documents\, as well as learn how to insert images\, and check for grammar and spelling errors. You must be able to type at least 20 words per minute to take this class. \nClass size is limited to 8 participants on a first-come\, first-serve basis.
URL:https://taylor.lib.mi.us/event/word-for-beginners-5/
LOCATION:Taylor Community Library\, 12303 Pardee Road\, Taylor\, MI\, 48180\, United States
CATEGORIES:Adults
END:VEVENT
BEGIN:VEVENT
DTSTART;TZID=America/Detroit:20240805T180000
DTEND;TZID=America/Detroit:20240805T190000
DTSTAMP:20260421T012155
CREATED:20221205T212808Z
LAST-MODIFIED:20240607T153815Z
UID:12587-1722880800-1722884400@taylor.lib.mi.us
SUMMARY:LEGO Club
DESCRIPTION:LEGO Club\nDo you love Legos? Join our Lego Club! Every Monday at 6 p.m. come in and start building.  Everyone is welcome to free build.  If you are up for it\, we will provide a challenge or theme for you to make something related to that week’s challenge or theme. We will display your creation for one week and will tear them apart at the next event. This event is open to kids\, tweens\, teens\, and parents. No registration is required\, just stop in and build!
URL:https://taylor.lib.mi.us/event/lego-club-2-2023-03-06-2023-07-03-2023-10-02-2024-08-05/
LOCATION:Taylor Community Library\, 12303 Pardee Road\, Taylor\, MI\, 48180\, United States
CATEGORIES:Teens,Youth & Families
END:VEVENT
BEGIN:VEVENT
DTSTART;TZID=America/Detroit:20240801T130000
DTEND;TZID=America/Detroit:20240801T140000
DTSTAMP:20260421T012155
CREATED:20240606T224038Z
LAST-MODIFIED:20240606T224038Z
UID:14002-1722517200-1722520800@taylor.lib.mi.us
SUMMARY:Files & Folders
DESCRIPTION:Files & Folders\nThis class will focus on the basics of using files and folders. You will learn how to open\, save\, delete\, and move files.  \nClass size is limited to 8 participants on a first-come\, first-serve basis.
URL:https://taylor.lib.mi.us/event/files-folders/
LOCATION:Taylor Community Library\, 12303 Pardee Road\, Taylor\, MI\, 48180\, United States
CATEGORIES:Adults
END:VEVENT
BEGIN:VEVENT
DTSTART;TZID=America/Detroit:20240729T180000
DTEND;TZID=America/Detroit:20240729T190000
DTSTAMP:20260421T012155
CREATED:20221205T212808Z
LAST-MODIFIED:20240606T223746Z
UID:12586-1722276000-1722279600@taylor.lib.mi.us
SUMMARY:LEGO Club
DESCRIPTION:LEGO Club\nDo you love Legos? Join our Lego Club! Every Monday at 6 p.m. come in and start building.  Everyone is welcome to free build.  If you are up for it\, we will provide a challenge or theme for you to make something related to that week’s challenge or theme. We will display your creation for one week and will tear them apart at the next event. This event is open to kids\, tweens\, teens\, and parents. No registration is required\, just stop in and build!
URL:https://taylor.lib.mi.us/event/lego-club-2-2023-03-06-2023-07-03-2023-10-02-2024-07-29/
LOCATION:Taylor Community Library\, 12303 Pardee Road\, Taylor\, MI\, 48180\, United States
CATEGORIES:Teens,Youth & Families
END:VEVENT
BEGIN:VEVENT
DTSTART;TZID=America/Detroit:20240727T213000
DTEND;TZID=America/Detroit:20240727T233000
DTSTAMP:20260421T012155
CREATED:20240606T224447Z
LAST-MODIFIED:20240606T224447Z
UID:14223-1722115800-1722123000@taylor.lib.mi.us
SUMMARY:Drive-In Teen Movie
DESCRIPTION:Drive-in Teen Movie\nStop by the library after closing to watch a movie outside. Bring blankets or pull up in your car in the parking lot for a viewing of Rocky Horror Picture Show! We plan to start the showing at 9:30pm but we do have to wait until it is dark enough out for visibility\, so start time is tentative. This event is for teens and movies are chosen by our Teen Advisory Group. \n*Disclaimer: Some movies our teens vote on can range from modern to classics that might not be rated\, so please ask parent permission before attending.* \nIn the event that it rains or other weather occurs preventing an outside showing\, this event will be cancelled.
URL:https://taylor.lib.mi.us/event/drive-in-teen-movie/
LOCATION:Taylor Community Library\, 12303 Pardee Road\, Taylor\, MI\, 48180\, United States
CATEGORIES:Teens
ORGANIZER;CN="Jasmine Riehl":MAILTO:jriehl@cityoftaylormi.gov
END:VEVENT
BEGIN:VEVENT
DTSTART;TZID=America/Detroit:20240725T130000
DTEND;TZID=America/Detroit:20240725T140000
DTSTAMP:20260421T012155
CREATED:20240606T224034Z
LAST-MODIFIED:20240606T224034Z
UID:14000-1721912400-1721916000@taylor.lib.mi.us
SUMMARY:Internet Basics
DESCRIPTION:Internet Basics\nThis class is designed for those with little or no experience with the internet. You will learn how to navigate the internet\, perform basic searches\, use websites\, and search engines. Typing skills are needed for this class. \nClass size is limited to 8 participants on a first-come\, first-serve basis.
URL:https://taylor.lib.mi.us/event/internet-basics-5/
LOCATION:Taylor Community Library\, 12303 Pardee Road\, Taylor\, MI\, 48180\, United States
CATEGORIES:Adults
END:VEVENT
BEGIN:VEVENT
DTSTART;TZID=America/Detroit:20240722T180000
DTEND;TZID=America/Detroit:20240722T190000
DTSTAMP:20260421T012155
CREATED:20221205T212808Z
LAST-MODIFIED:20240606T223741Z
UID:12585-1721671200-1721674800@taylor.lib.mi.us
SUMMARY:LEGO Club
DESCRIPTION:LEGO Club\nDo you love Legos? Join our Lego Club! Every Monday at 6 p.m. come in and start building.  Everyone is welcome to free build.  If you are up for it\, we will provide a challenge or theme for you to make something related to that week’s challenge or theme. We will display your creation for one week and will tear them apart at the next event. This event is open to kids\, tweens\, teens\, and parents. No registration is required\, just stop in and build!
URL:https://taylor.lib.mi.us/event/lego-club-2-2023-03-06-2023-07-03-2023-10-02-2024-07-22/
LOCATION:Taylor Community Library\, 12303 Pardee Road\, Taylor\, MI\, 48180\, United States
CATEGORIES:Teens,Youth & Families
END:VEVENT
BEGIN:VEVENT
DTSTART;TZID=America/Detroit:20240718T130000
DTEND;TZID=America/Detroit:20240718T140000
DTSTAMP:20260421T012155
CREATED:20240606T224030Z
LAST-MODIFIED:20240606T224030Z
UID:13997-1721307600-1721311200@taylor.lib.mi.us
SUMMARY:Typing
DESCRIPTION:Typing\nDo you use the old hunt and peck method of typing with two fingers? Does it take you way too long to type simple documents? If so\, this class is for you. Learn how to type using all of your fingers. As your typing improves\, so will your speed. \nClass size is limited to 8 participants on a first-come\, first-serve basis.
URL:https://taylor.lib.mi.us/event/typing/
LOCATION:Taylor Community Library\, 12303 Pardee Road\, Taylor\, MI\, 48180\, United States
CATEGORIES:Adults
END:VEVENT
BEGIN:VEVENT
DTSTART;TZID=America/Detroit:20240718T120000
DTEND;TZID=America/Detroit:20240718T140000
DTSTAMP:20260421T012155
CREATED:20240603T193452Z
LAST-MODIFIED:20240603T193452Z
UID:14144-1721304000-1721311200@taylor.lib.mi.us
SUMMARY:Assistive Device Drop-In (ADDI)
DESCRIPTION:Assistive Device Drop-In\n  \nNot sure how to use your smartphone’s built-in accessibility software? Want to try out an assistive tech device before shelling out the cash for one? Drop in on ADDI for information or personalized help with popular technology in accessibility. \n  \n  \nAssistive technology (AT) makes it possible for individuals with a wide range of disabilities to perform functions that might otherwise be difficult or impossible.
URL:https://taylor.lib.mi.us/event/assistive-device-drop-in-addi-7/
LOCATION:Taylor Community Library\, 12303 Pardee Road\, Taylor\, MI\, 48180\, United States
CATEGORIES:Adults
END:VEVENT
BEGIN:VEVENT
DTSTART;TZID=America/Detroit:20240715T180000
DTEND;TZID=America/Detroit:20240715T190000
DTSTAMP:20260421T012155
CREATED:20221205T212808Z
LAST-MODIFIED:20240606T223736Z
UID:12584-1721066400-1721070000@taylor.lib.mi.us
SUMMARY:LEGO Club
DESCRIPTION:LEGO Club\nDo you love Legos? Join our Lego Club! Every Monday at 6 p.m. come in and start building.  Everyone is welcome to free build.  If you are up for it\, we will provide a challenge or theme for you to make something related to that week’s challenge or theme. We will display your creation for one week and will tear them apart at the next event. This event is open to kids\, tweens\, teens\, and parents. No registration is required\, just stop in and build!
URL:https://taylor.lib.mi.us/event/lego-club-2-2023-03-06-2023-07-03-2023-10-02-2024-07-15/
LOCATION:Taylor Community Library\, 12303 Pardee Road\, Taylor\, MI\, 48180\, United States
CATEGORIES:Teens,Youth & Families
END:VEVENT
BEGIN:VEVENT
DTSTART;TZID=America/Detroit:20240711T130000
DTEND;TZID=America/Detroit:20240711T140000
DTSTAMP:20260421T012155
CREATED:20240606T224021Z
LAST-MODIFIED:20240606T224021Z
UID:13994-1720702800-1720706400@taylor.lib.mi.us
SUMMARY:Computer Basics
DESCRIPTION:Computer Basics\nThis class is designed for those with little or no experience with computers. You will learn the parts of a computer\, how to use a mouse\, basic navigation with windows\, the internet\, apps\, saving files\, & printing. \nClass size is limited to 8 participants on a first-come\, first-serve basis.
URL:https://taylor.lib.mi.us/event/computer-basics-5/
LOCATION:Taylor Community Library\, 12303 Pardee Road\, Taylor\, MI\, 48180\, United States
CATEGORIES:Adults
END:VEVENT
BEGIN:VEVENT
DTSTART;TZID=America/Detroit:20240708T180000
DTEND;TZID=America/Detroit:20240708T190000
DTSTAMP:20260421T012155
CREATED:20221205T212808Z
LAST-MODIFIED:20240606T223731Z
UID:12583-1720461600-1720465200@taylor.lib.mi.us
SUMMARY:LEGO Club
DESCRIPTION:LEGO Club\nDo you love Legos? Join our Lego Club! Every Monday at 6 p.m. come in and start building.  Everyone is welcome to free build.  If you are up for it\, we will provide a challenge or theme for you to make something related to that week’s challenge or theme. We will display your creation for one week and will tear them apart at the next event. This event is open to kids\, tweens\, teens\, and parents. No registration is required\, just stop in and build!
URL:https://taylor.lib.mi.us/event/lego-club-2-2023-03-06-2023-07-03-2023-10-02-2024-07-08/
LOCATION:Taylor Community Library\, 12303 Pardee Road\, Taylor\, MI\, 48180\, United States
CATEGORIES:Teens,Youth & Families
END:VEVENT
BEGIN:VEVENT
DTSTART;VALUE=DATE:20240704
DTEND;VALUE=DATE:20240705
DTSTAMP:20260421T012155
CREATED:20240606T224024Z
LAST-MODIFIED:20240606T224024Z
UID:12486-1720051200-1720137599@taylor.lib.mi.us
SUMMARY:LIBRARY CLOSED
DESCRIPTION:LIBRARY CLOSED
URL:https://taylor.lib.mi.us/event/library-closed-37/
LOCATION:Taylor Community Library\, 12303 Pardee Road\, Taylor\, MI\, 48180\, United States
CATEGORIES:Adults,Teens,Youth & Families
END:VEVENT
BEGIN:VEVENT
DTSTART;TZID=America/Detroit:20240701T180000
DTEND;TZID=America/Detroit:20240701T190000
DTSTAMP:20260421T012155
CREATED:20221205T212808Z
LAST-MODIFIED:20240606T223726Z
UID:12582-1719856800-1719860400@taylor.lib.mi.us
SUMMARY:LEGO Club
DESCRIPTION:LEGO Club\nDo you love Legos? Join our Lego Club! Every Monday at 6 p.m. come in and start building.  Everyone is welcome to free build.  If you are up for it\, we will provide a challenge or theme for you to make something related to that week’s challenge or theme. We will display your creation for one week and will tear them apart at the next event. This event is open to kids\, tweens\, teens\, and parents. No registration is required\, just stop in and build!
URL:https://taylor.lib.mi.us/event/lego-club-2-2023-03-06-2023-07-03-2023-10-02-2024-07-01/
LOCATION:Taylor Community Library\, 12303 Pardee Road\, Taylor\, MI\, 48180\, United States
CATEGORIES:Teens,Youth & Families
END:VEVENT
BEGIN:VEVENT
DTSTART;TZID=America/Detroit:20240624T180000
DTEND;TZID=America/Detroit:20240624T190000
DTSTAMP:20260421T012155
CREATED:20221205T212808Z
LAST-MODIFIED:20240315T171939Z
UID:12581-1719252000-1719255600@taylor.lib.mi.us
SUMMARY:LEGO Club
DESCRIPTION:LEGO Club\nDo you love Legos? Join our Lego Club! Every Monday at 6 p.m. come in and start building.  Everyone is welcome to free build.  If you are up for it\, we will provide a challenge or theme for you to make something related to that week’s challenge or theme. We will display your creation for one week and will tear them apart at the next event. This event is open to kids\, tweens\, teens\, and parents. No registration is required\, just stop in and build!
URL:https://taylor.lib.mi.us/event/lego-club-2-2023-03-06-2023-07-03-2023-10-02-2024-06-24/
LOCATION:Taylor Community Library\, 12303 Pardee Road\, Taylor\, MI\, 48180\, United States
CATEGORIES:Teens,Youth & Families
END:VEVENT
BEGIN:VEVENT
DTSTART;VALUE=DATE:20240619
DTEND;VALUE=DATE:20240620
DTSTAMP:20260421T012155
CREATED:20240315T171155Z
LAST-MODIFIED:20240315T171155Z
UID:12484-1718755200-1718841599@taylor.lib.mi.us
SUMMARY:LIBRARY CLOSED
DESCRIPTION:LIBRARY CLOSED
URL:https://taylor.lib.mi.us/event/library-closed-35/
LOCATION:Taylor Community Library\, 12303 Pardee Road\, Taylor\, MI\, 48180\, United States
CATEGORIES:Adults,Teens,Youth & Families
END:VEVENT
BEGIN:VEVENT
DTSTART;TZID=America/Detroit:20240617T180000
DTEND;TZID=America/Detroit:20240617T190000
DTSTAMP:20260421T012155
CREATED:20221205T212808Z
LAST-MODIFIED:20240315T171934Z
UID:12580-1718647200-1718650800@taylor.lib.mi.us
SUMMARY:LEGO Club
DESCRIPTION:LEGO Club\nDo you love Legos? Join our Lego Club! Every Monday at 6 p.m. come in and start building.  Everyone is welcome to free build.  If you are up for it\, we will provide a challenge or theme for you to make something related to that week’s challenge or theme. We will display your creation for one week and will tear them apart at the next event. This event is open to kids\, tweens\, teens\, and parents. No registration is required\, just stop in and build!
URL:https://taylor.lib.mi.us/event/lego-club-2-2023-03-06-2023-07-03-2023-10-02-2024-06-17/
LOCATION:Taylor Community Library\, 12303 Pardee Road\, Taylor\, MI\, 48180\, United States
CATEGORIES:Teens,Youth & Families
END:VEVENT
BEGIN:VEVENT
DTSTART;TZID=America/Detroit:20240617T160000
DTEND;TZID=America/Detroit:20240617T180000
DTSTAMP:20260421T012155
CREATED:20240509T224042Z
LAST-MODIFIED:20240612T184051Z
UID:13572-1718640000-1718647200@taylor.lib.mi.us
SUMMARY:Summer Reading Program Kick-Off
DESCRIPTION:Summer Reading Program Kick-Off\nThings are heating up at the library for this year’s Summer Reading Program. Visit us to play games under the sun\, sign up for summer reading for a chance to win prizes while you enjoy your summer\, and get a snow cone from the Kona Ice Snow Cone truck to cool off after all that fun! \nThe Summer Reading Program brings all kinds of big events to your library\, so check the calendar or get a printed one from the front desk to see what we have in store for you! You must register for the Summer Reading Program to get your free snow cone.
URL:https://taylor.lib.mi.us/event/summer-reading-program-kick-off/
LOCATION:Taylor Community Library\, 12303 Pardee Road\, Taylor\, MI\, 48180\, United States
CATEGORIES:Adults,Teens,Youth & Families
ORGANIZER;CN="Jasmine Riehl":MAILTO:jriehl@cityoftaylormi.gov
END:VEVENT
BEGIN:VEVENT
DTSTART;TZID=America/Detroit:20240610T180000
DTEND;TZID=America/Detroit:20240610T190000
DTSTAMP:20260421T012155
CREATED:20221205T212808Z
LAST-MODIFIED:20240315T171930Z
UID:12579-1718042400-1718046000@taylor.lib.mi.us
SUMMARY:LEGO Club
DESCRIPTION:LEGO Club\nDo you love Legos? Join our Lego Club! Every Monday at 6 p.m. come in and start building.  Everyone is welcome to free build.  If you are up for it\, we will provide a challenge or theme for you to make something related to that week’s challenge or theme. We will display your creation for one week and will tear them apart at the next event. This event is open to kids\, tweens\, teens\, and parents. No registration is required\, just stop in and build!
URL:https://taylor.lib.mi.us/event/lego-club-2-2023-03-06-2023-07-03-2023-10-02-2024-06-10/
LOCATION:Taylor Community Library\, 12303 Pardee Road\, Taylor\, MI\, 48180\, United States
CATEGORIES:Teens,Youth & Families
END:VEVENT
BEGIN:VEVENT
DTSTART;TZID=America/Detroit:20240603T180000
DTEND;TZID=America/Detroit:20240603T190000
DTSTAMP:20260421T012155
CREATED:20221205T212808Z
LAST-MODIFIED:20240315T171924Z
UID:12578-1717437600-1717441200@taylor.lib.mi.us
SUMMARY:LEGO Club
DESCRIPTION:LEGO Club\nDo you love Legos? Join our Lego Club! Every Monday at 6 p.m. come in and start building.  Everyone is welcome to free build.  If you are up for it\, we will provide a challenge or theme for you to make something related to that week’s challenge or theme. We will display your creation for one week and will tear them apart at the next event. This event is open to kids\, tweens\, teens\, and parents. No registration is required\, just stop in and build!
URL:https://taylor.lib.mi.us/event/lego-club-2-2023-03-06-2023-07-03-2023-10-02-2024-06-03/
LOCATION:Taylor Community Library\, 12303 Pardee Road\, Taylor\, MI\, 48180\, United States
CATEGORIES:Teens,Youth & Families
END:VEVENT
BEGIN:VEVENT
DTSTART;VALUE=DATE:20240527
DTEND;VALUE=DATE:20240528
DTSTAMP:20260421T012155
CREATED:20240226T180544Z
LAST-MODIFIED:20240226T180544Z
UID:12482-1716768000-1716854399@taylor.lib.mi.us
SUMMARY:LIBRARY CLOSED
DESCRIPTION:LIBRARY CLOSED
URL:https://taylor.lib.mi.us/event/library-closed-34/
LOCATION:Taylor Community Library\, 12303 Pardee Road\, Taylor\, MI\, 48180\, United States
CATEGORIES:Adults,Teens,Youth & Families
END:VEVENT
BEGIN:VEVENT
DTSTART;TZID=America/Detroit:20240523T130000
DTEND;TZID=America/Detroit:20240523T140000
DTSTAMP:20260421T012155
CREATED:20240315T171048Z
LAST-MODIFIED:20240315T171048Z
UID:13675-1716469200-1716472800@taylor.lib.mi.us
SUMMARY:iPhone Basics
DESCRIPTION:iPhone Basics\nYOU MUST HAVE A WORKING CELL PHONE WITH YOU FOR THIS CLASS. Class will focus on making phone calls\, storing contacts\, deleting contacts\, blocking unwanted calls\, and texting. \nClass size is limited to 8 participants on a first-come\, first-serve basis.
URL:https://taylor.lib.mi.us/event/iphone-basics/
LOCATION:Taylor Community Library\, 12303 Pardee Road\, Taylor\, MI\, 48180\, United States
CATEGORIES:Adults
END:VEVENT
BEGIN:VEVENT
DTSTART;TZID=America/Detroit:20240520T180000
DTEND;TZID=America/Detroit:20240520T190000
DTSTAMP:20260421T012155
CREATED:20221205T212808Z
LAST-MODIFIED:20240315T170904Z
UID:12576-1716228000-1716231600@taylor.lib.mi.us
SUMMARY:LEGO Club
DESCRIPTION:LEGO Club\nDo you love Legos? Join our Lego Club! Every Monday at 6 p.m. come in and start building.  Everyone is welcome to free build.  If you are up for it\, we will provide a challenge or theme for you to make something related to that week’s challenge or theme. We will display your creation for one week and will tear them apart at the next event. This event is open to kids\, tweens\, teens\, and parents. No registration is required\, just stop in and build!
URL:https://taylor.lib.mi.us/event/lego-club-2-2023-03-06-2023-07-03-2023-10-02-2024-05-20/
LOCATION:Taylor Community Library\, 12303 Pardee Road\, Taylor\, MI\, 48180\, United States
CATEGORIES:Teens,Youth & Families
END:VEVENT
BEGIN:VEVENT
DTSTART;TZID=America/Detroit:20240516T130000
DTEND;TZID=America/Detroit:20240516T140000
DTSTAMP:20260421T012155
CREATED:20240315T171054Z
LAST-MODIFIED:20240315T171054Z
UID:13673-1715864400-1715868000@taylor.lib.mi.us
SUMMARY:Android Basics
DESCRIPTION:Android Basics\nYOU MUST HAVE A WORKING CELL PHONE WITH YOU FOR THIS CLASS. Class will focus on making phone calls\, storing contacts\, deleting contacts\, blocking unwanted calls\, and texting. \nClass size is limited to 8 participants on a first-come\, first-serve basis.
URL:https://taylor.lib.mi.us/event/android-basics/
LOCATION:Taylor Community Library\, 12303 Pardee Road\, Taylor\, MI\, 48180\, United States
CATEGORIES:Adults
END:VEVENT
BEGIN:VEVENT
DTSTART;TZID=America/Detroit:20240513T180000
DTEND;TZID=America/Detroit:20240513T190000
DTSTAMP:20260421T012155
CREATED:20221205T212808Z
LAST-MODIFIED:20240315T170859Z
UID:12575-1715623200-1715626800@taylor.lib.mi.us
SUMMARY:LEGO Club
DESCRIPTION:LEGO Club\nDo you love Legos? Join our Lego Club! Every Monday at 6 p.m. come in and start building.  Everyone is welcome to free build.  If you are up for it\, we will provide a challenge or theme for you to make something related to that week’s challenge or theme. We will display your creation for one week and will tear them apart at the next event. This event is open to kids\, tweens\, teens\, and parents. No registration is required\, just stop in and build!
URL:https://taylor.lib.mi.us/event/lego-club-2-2023-03-06-2023-07-03-2023-10-02-2024-05-13/
LOCATION:Taylor Community Library\, 12303 Pardee Road\, Taylor\, MI\, 48180\, United States
CATEGORIES:Teens,Youth & Families
END:VEVENT
BEGIN:VEVENT
DTSTART;TZID=America/Detroit:20240509T130000
DTEND;TZID=America/Detroit:20240509T140000
DTSTAMP:20260421T012155
CREATED:20240315T171059Z
LAST-MODIFIED:20240420T154416Z
UID:13671-1715259600-1715263200@taylor.lib.mi.us
SUMMARY:Word for Beginners
DESCRIPTION:Word for Beginners\nThis class will focus on using Microsoft Office Word to create letters and documents. You will learn how to create\, edit and format documents\, as well as learn how to insert images\, and check for grammar and spelling errors. You must be able to type at least 20 words per minute to take this class. \nClass size is limited to 8 participants on a first-come\, first-serve basis.
URL:https://taylor.lib.mi.us/event/word-for-beginners-4/
LOCATION:Taylor Community Library\, 12303 Pardee Road\, Taylor\, MI\, 48180\, United States
CATEGORIES:Adults
END:VEVENT
END:VCALENDAR